| Back to Multiple platform build/check report for BioC 3.6 | 
 | 
This page was generated on 2018-04-12 13:31:47 -0400 (Thu, 12 Apr 2018).
| Package 15/1472 | Hostname | OS / Arch | INSTALL | BUILD | CHECK | BUILD BIN | ||||||
| affxparser 1.50.0 Kasper Daniel Hansen 
 | malbec1 | Linux (Ubuntu 16.04.1 LTS) / x86_64 | OK | OK | WARNINGS |  | ||||||
| tokay1 | Windows Server 2012 R2 Standard / x64 | OK | OK | OK | OK |  | ||||||
| veracruz1 | OS X 10.11.6 El Capitan / x86_64 | OK | [ OK ] | WARNINGS | OK |  | 
| Package: affxparser | 
| Version: 1.50.0 | 
| Command: /Library/Frameworks/R.framework/Versions/Current/Resources/bin/R CMD build --keep-empty-dirs --no-resave-data affxparser | 
| StartedAt: 2018-04-11 18:36:32 -0400 (Wed, 11 Apr 2018) | 
| EndedAt: 2018-04-11 18:36:35 -0400 (Wed, 11 Apr 2018) | 
| EllapsedTime: 3.1 seconds | 
| RetCode: 0 | 
| Status: OK | 
| PackageFile: affxparser_1.50.0.tar.gz | 
| PackageFileSize: 793.7 KiB | 
############################################################################## ############################################################################## ### ### Running command: ### ### /Library/Frameworks/R.framework/Versions/Current/Resources/bin/R CMD build --keep-empty-dirs --no-resave-data affxparser ### ############################################################################## ############################################################################## * checking for file ‘affxparser/DESCRIPTION’ ... OK * preparing ‘affxparser’: * checking DESCRIPTION meta-information ... OK * cleaning src * running ‘cleanup’ * checking for LF line-endings in source and make files and shell scripts * checking for empty or unneeded directories * building ‘affxparser_1.50.0.tar.gz’ Warning in utils::tar(filepath, pkgname, compression = "gzip", compression_level = 9L, : storing paths of more than 100 bytes is not portable: ‘affxparser/src/fusion_sdk/calvin_files/writers/src/CalvinCHPQuantificationDetectionFileBufferWriter.cpp’ Warning in utils::tar(filepath, pkgname, compression = "gzip", compression_level = 9L, : storing paths of more than 100 bytes is not portable: ‘affxparser/src/fusion_sdk/calvin_files/writers/src/CalvinCHPQuantificationDetectionFileBufferWriter.h’