| Back to Multiple platform build/check report for BioC 3.6 |
|
This page was generated on 2018-04-12 13:10:46 -0400 (Thu, 12 Apr 2018).
| Package 1438/1472 | Hostname | OS / Arch | INSTALL | BUILD | CHECK | BUILD BIN | ||||||
| UniProt.ws 2.18.0 Marc Carlson
| malbec1 | Linux (Ubuntu 16.04.1 LTS) / x86_64 | OK | OK | [ OK ] | |||||||
| tokay1 | Windows Server 2012 R2 Standard / x64 | OK | OK | OK | OK | |||||||
| veracruz1 | OS X 10.11.6 El Capitan / x86_64 | OK | OK | OK | OK |
| Package: UniProt.ws |
| Version: 2.18.0 |
| Command: /home/biocbuild/bbs-3.6-bioc/R/bin/R CMD check --no-vignettes --timings UniProt.ws_2.18.0.tar.gz |
| StartedAt: 2018-04-12 03:30:21 -0400 (Thu, 12 Apr 2018) |
| EndedAt: 2018-04-12 03:34:14 -0400 (Thu, 12 Apr 2018) |
| EllapsedTime: 233.4 seconds |
| RetCode: 0 |
| Status: OK |
| CheckDir: UniProt.ws.Rcheck |
| Warnings: 0 |
##############################################################################
##############################################################################
###
### Running command:
###
### /home/biocbuild/bbs-3.6-bioc/R/bin/R CMD check --no-vignettes --timings UniProt.ws_2.18.0.tar.gz
###
##############################################################################
##############################################################################
* using log directory ‘/home/biocbuild/bbs-3.6-bioc/meat/UniProt.ws.Rcheck’
* using R version 3.4.4 (2018-03-15)
* using platform: x86_64-pc-linux-gnu (64-bit)
* using session charset: UTF-8
* using option ‘--no-vignettes’
* checking for file ‘UniProt.ws/DESCRIPTION’ ... OK
* checking extension type ... Package
* this is package ‘UniProt.ws’ version ‘2.18.0’
* checking package namespace information ... OK
* checking package dependencies ... OK
* checking if this is a source package ... OK
* checking if there is a namespace ... OK
* checking for hidden files and directories ... OK
* checking for portable file names ... OK
* checking for sufficient/correct file permissions ... OK
* checking whether package ‘UniProt.ws’ can be installed ... OK
* checking installed package size ... OK
* checking package directory ... OK
* checking ‘build’ directory ... OK
* checking DESCRIPTION meta-information ... OK
* checking top-level files ... OK
* checking for left-over files ... OK
* checking index information ... OK
* checking package subdirectories ... OK
* checking R files for non-ASCII characters ... OK
* checking R files for syntax errors ... OK
* checking whether the package can be loaded ... OK
* checking whether the package can be loaded with stated dependencies ... OK
* checking whether the package can be unloaded cleanly ... OK
* checking whether the namespace can be loaded with stated dependencies ... OK
* checking whether the namespace can be unloaded cleanly ... OK
* checking dependencies in R code ... NOTE
Unexported object imported by a ':::' call: ‘BiocGenerics:::testPackage’
See the note in ?`:::` about the use of this operator.
* checking S3 generic/method consistency ... OK
* checking replacement functions ... OK
* checking foreign function calls ... OK
* checking R code for possible problems ... NOTE
.getSpecfile: no visible binding for global variable ‘codes’
Undefined global functions or variables:
codes
* checking Rd files ... OK
* checking Rd metadata ... OK
* checking Rd cross-references ... OK
* checking for missing documentation entries ... OK
* checking for code/documentation mismatches ... OK
* checking Rd \usage sections ... OK
* checking Rd contents ... OK
* checking for unstated dependencies in examples ... OK
* checking installed files from ‘inst/doc’ ... OK
* checking files in ‘vignettes’ ... OK
* checking examples ... OK
Examples with CPU or elapsed time > 5s
user system elapsed
UniProtWS-class 1.644 0.064 42.484
colsAndKeytypes 0.384 0.024 19.256
* checking for unstated dependencies in ‘tests’ ... OK
* checking tests ...
Running ‘UniProt.ws_unit_tests.R’
OK
* checking for unstated dependencies in vignettes ... OK
* checking package vignettes in ‘inst/doc’ ... OK
* checking running R code from vignettes ... SKIPPED
* checking re-building of vignette outputs ... SKIPPED
* checking PDF version of manual ... OK
* DONE
Status: 2 NOTEs
See
‘/home/biocbuild/bbs-3.6-bioc/meat/UniProt.ws.Rcheck/00check.log’
for details.
UniProt.ws.Rcheck/00install.out
* installing *source* package ‘UniProt.ws’ ... ** R ** inst ** preparing package for lazy loading ** help *** installing help indices ** building package indices ** installing vignettes ** testing if installed package can be loaded * DONE (UniProt.ws)
UniProt.ws.Rcheck/tests/UniProt.ws_unit_tests.Rout
R version 3.4.4 (2018-03-15) -- "Someone to Lean On"
Copyright (C) 2018 The R Foundation for Statistical Computing
Platform: x86_64-pc-linux-gnu (64-bit)
R is free software and comes with ABSOLUTELY NO WARRANTY.
You are welcome to redistribute it under certain conditions.
Type 'license()' or 'licence()' for distribution details.
R is a collaborative project with many contributors.
Type 'contributors()' for more information and
'citation()' on how to cite R or R packages in publications.
Type 'demo()' for some demos, 'help()' for on-line help, or
'help.start()' for an HTML browser interface to help.
Type 'q()' to quit R.
> BiocGenerics:::testPackage("UniProt.ws")
Attaching package: 'BiocGenerics'
The following objects are masked from 'package:parallel':
clusterApply, clusterApplyLB, clusterCall, clusterEvalQ,
clusterExport, clusterMap, parApply, parCapply, parLapply,
parLapplyLB, parRapply, parSapply, parSapplyLB
The following objects are masked from 'package:stats':
IQR, mad, sd, var, xtabs
The following objects are masked from 'package:base':
Filter, Find, Map, Position, Reduce, anyDuplicated, append,
as.data.frame, cbind, colMeans, colSums, colnames, do.call,
duplicated, eval, evalq, get, grep, grepl, intersect, is.unsorted,
lapply, lengths, mapply, match, mget, order, paste, pmax, pmax.int,
pmin, pmin.int, rank, rbind, rowMeans, rowSums, rownames, sapply,
setdiff, sort, table, tapply, union, unique, unsplit, which,
which.max, which.min
Getting mapping data for P31946 ... and UNIGENE_ID
Getting mapping data for P31946 ... and PDB_ID
Getting extra data for P31946,P62258,Q04917
'select()' returned 1:many mapping between keys and columns
Getting mapping data for 1 ... and ACC
Getting mapping data for P04217 ... and UNIGENE_ID
Getting mapping data for P04217 ... and PDB_ID
Getting extra data for P04217,V9HWD8,P01023,F5H5R8,P18440,Q400J6
'select()' returned 1:many mapping between keys and columns
Getting extra data for P31946,P62258,Q04917
'select()' returned 1:1 mapping between keys and columns
Getting mapping data for 1 ... and ACC
Getting mapping data for P04217 ... and PDB_ID
Getting extra data for P04217,V9HWD8,P01023,F5H5R8,P18440,Q400J6
'select()' returned 1:many mapping between keys and columns
Getting extra data for L0R819,P98196,P50993,Q13733,P05026,O14983
Getting extra data for Q14790,O14958,Q9NQ75,Q8WTX7,P14091,P43235
Getting extra data for Q3C1V1,C9JXX5,Q96S95,Q8N6U2,Q96C57,Q8N7H1
'select()' returned 1:1 mapping between keys and columns
Getting extra data for P04217,P30443
Getting extra data for P13368,P20806,Q9UM73,P97793,Q17192
Getting extra data for P13368,P20806,Q9UM73,P97793,Q17192
Getting mapping data for P13368 ... and P_REFSEQ_AC
Getting mapping data for 1 ... and ACC
Getting mapping data for P04217 ... and UNIGENE_ID
RUNIT TEST PROTOCOL -- Thu Apr 12 03:34:11 2018
***********************************************
Number of test functions: 20
Number of errors: 0
Number of failures: 0
1 Test Suite :
UniProt.ws RUnit Tests - 20 test functions, 0 errors, 0 failures
Number of test functions: 20
Number of errors: 0
Number of failures: 0
>
> proc.time()
user system elapsed
8.468 0.148 110.493
UniProt.ws.Rcheck/UniProt.ws-Ex.timings
| name | user | system | elapsed | |
| UniProtWS-class | 1.644 | 0.064 | 42.484 | |
| colsAndKeytypes | 0.384 | 0.024 | 19.256 | |
| utilities | 1.788 | 0.028 | 2.159 | |