| Back to Multiple platform build/check report for BioC 3.6 |
|
This page was generated on 2018-04-12 13:31:58 -0400 (Thu, 12 Apr 2018).
| Package 1317/1472 | Hostname | OS / Arch | INSTALL | BUILD | CHECK | BUILD BIN | ||||||
| SNPchip 2.24.0 Robert Scharpf
| malbec1 | Linux (Ubuntu 16.04.1 LTS) / x86_64 | OK | OK | OK | |||||||
| tokay1 | Windows Server 2012 R2 Standard / x64 | OK | OK | OK | OK | |||||||
| veracruz1 | OS X 10.11.6 El Capitan / x86_64 | OK | [ OK ] | OK | OK |
| Package: SNPchip |
| Version: 2.24.0 |
| Command: /Library/Frameworks/R.framework/Versions/Current/Resources/bin/R CMD build --keep-empty-dirs --no-resave-data SNPchip |
| StartedAt: 2018-04-11 18:38:44 -0400 (Wed, 11 Apr 2018) |
| EndedAt: 2018-04-11 18:39:10 -0400 (Wed, 11 Apr 2018) |
| EllapsedTime: 25.6 seconds |
| RetCode: 0 |
| Status: OK |
| PackageFile: SNPchip_2.24.0.tar.gz |
| PackageFileSize: 149.7 KiB |
############################################################################## ############################################################################## ### ### Running command: ### ### /Library/Frameworks/R.framework/Versions/Current/Resources/bin/R CMD build --keep-empty-dirs --no-resave-data SNPchip ### ############################################################################## ############################################################################## * checking for file ‘SNPchip/DESCRIPTION’ ... OK * preparing ‘SNPchip’: * checking DESCRIPTION meta-information ... OK * installing the package to build vignettes * creating vignettes ... OK * checking for LF line-endings in source and make files and shell scripts * checking for empty or unneeded directories * building ‘SNPchip_2.24.0.tar.gz’