| Back to Multiple platform build/check report for BioC 3.6 |
|
This page was generated on 2018-04-12 13:39:41 -0400 (Thu, 12 Apr 2018).
| Package 1284/1472 | Hostname | OS / Arch | INSTALL | BUILD | CHECK | BUILD BIN | ||||||
| SGSeq 1.12.0 Leonard Goldstein
| malbec1 | Linux (Ubuntu 16.04.1 LTS) / x86_64 | OK | OK | OK | |||||||
| tokay1 | Windows Server 2012 R2 Standard / x64 | OK | OK | OK | OK | |||||||
| veracruz1 | OS X 10.11.6 El Capitan / x86_64 | OK | OK | OK | [ OK ] |
| Package: SGSeq |
| Version: 1.12.0 |
| Command: rm -rf SGSeq.buildbin-libdir && mkdir SGSeq.buildbin-libdir && /Users/biocbuild/BBS/utils/build-universal.sh SGSeq_1.12.0.tar.gz /Library/Frameworks/R.framework/Versions/Current/Resources/bin/R SGSeq.buildbin-libdir |
| StartedAt: 2018-04-12 12:15:11 -0400 (Thu, 12 Apr 2018) |
| EndedAt: 2018-04-12 12:15:31 -0400 (Thu, 12 Apr 2018) |
| EllapsedTime: 20.2 seconds |
| RetCode: 0 |
| Status: OK |
| PackageFile: SGSeq_1.12.0.tgz |
| PackageFileSize: 1.583 MiB |
############################################################################## ############################################################################## ### ### Running command: ### ### rm -rf SGSeq.buildbin-libdir && mkdir SGSeq.buildbin-libdir && /Users/biocbuild/BBS/utils/build-universal.sh SGSeq_1.12.0.tar.gz /Library/Frameworks/R.framework/Versions/Current/Resources/bin/R SGSeq.buildbin-libdir ### ############################################################################## ############################################################################## >>>>>>> >>>>>>> INSTALLATION WITH 'R CMD INSTALL --preclean --no-multiarch --library=SGSeq.buildbin-libdir SGSeq_1.12.0.tar.gz' >>>>>>> * installing *source* package ‘SGSeq’ ... ** R ** data *** moving datasets to lazyload DB ** inst ** preparing package for lazy loading ** help *** installing help indices ** building package indices ** installing vignettes ** testing if installed package can be loaded * DONE (SGSeq)