| Back to Multiple platform build/check report for BioC 3.6 | 
 | 
This page was generated on 2018-04-12 13:44:48 -0400 (Thu, 12 Apr 2018).
| Package 1113/1472 | Hostname | OS / Arch | INSTALL | BUILD | CHECK | BUILD BIN | ||||||
| RaggedExperiment 1.2.5 Martin Morgan 
 | malbec1 | Linux (Ubuntu 16.04.1 LTS) / x86_64 | OK | OK | OK |  | ||||||
| tokay1 | Windows Server 2012 R2 Standard / x64 | OK | OK | OK | OK |  | ||||||
| veracruz1 | OS X 10.11.6 El Capitan / x86_64 | OK | OK | OK | [ OK ] |  | 
| Package: RaggedExperiment | 
| Version: 1.2.5 | 
| Command: rm -rf RaggedExperiment.buildbin-libdir && mkdir RaggedExperiment.buildbin-libdir && /Users/biocbuild/BBS/utils/build-universal.sh RaggedExperiment_1.2.5.tar.gz /Library/Frameworks/R.framework/Versions/Current/Resources/bin/R RaggedExperiment.buildbin-libdir | 
| StartedAt: 2018-04-12 12:04:01 -0400 (Thu, 12 Apr 2018) | 
| EndedAt: 2018-04-12 12:04:18 -0400 (Thu, 12 Apr 2018) | 
| EllapsedTime: 17.1 seconds | 
| RetCode: 0 | 
| Status: OK | 
| PackageFile: RaggedExperiment_1.2.5.tgz | 
| PackageFileSize: 517.1 KiB | 
############################################################################## ############################################################################## ### ### Running command: ### ### rm -rf RaggedExperiment.buildbin-libdir && mkdir RaggedExperiment.buildbin-libdir && /Users/biocbuild/BBS/utils/build-universal.sh RaggedExperiment_1.2.5.tar.gz /Library/Frameworks/R.framework/Versions/Current/Resources/bin/R RaggedExperiment.buildbin-libdir ### ############################################################################## ############################################################################## >>>>>>> >>>>>>> INSTALLATION WITH 'R CMD INSTALL --preclean --no-multiarch --library=RaggedExperiment.buildbin-libdir RaggedExperiment_1.2.5.tar.gz' >>>>>>> * installing *source* package ‘RaggedExperiment’ ... ** R ** inst ** preparing package for lazy loading ** help *** installing help indices ** building package indices ** installing vignettes ** testing if installed package can be loaded * DONE (RaggedExperiment)