| Back to Multiple platform build/check report for BioC 3.6 |
|
This page was generated on 2018-04-12 13:30:03 -0400 (Thu, 12 Apr 2018).
| Package 1208/1472 | Hostname | OS / Arch | INSTALL | BUILD | CHECK | BUILD BIN | ||||||
| RProtoBufLib 1.0.2 Mike Jiang
| malbec1 | Linux (Ubuntu 16.04.1 LTS) / x86_64 | OK | OK | WARNINGS | |||||||
| tokay1 | Windows Server 2012 R2 Standard / x64 | [ OK ] | OK | WARNINGS | OK | |||||||
| veracruz1 | OS X 10.11.6 El Capitan / x86_64 | OK | OK | WARNINGS | OK |
| Package: RProtoBufLib |
| Version: 1.0.2 |
| Command: rm -rf RProtoBufLib.buildbin-libdir && mkdir RProtoBufLib.buildbin-libdir && C:\cygwin\bin\curl.exe -O https://malbec1.bioconductor.org/BBS/3.6/bioc/src/contrib/RProtoBufLib_1.0.2.tar.gz && C:\Users\biocbuild\bbs-3.6-bioc\R\bin\R.exe CMD INSTALL --build --library=RProtoBufLib.buildbin-libdir --merge-multiarch RProtoBufLib_1.0.2.tar.gz && C:\Users\biocbuild\bbs-3.6-bioc\R\bin\R.exe CMD INSTALL RProtoBufLib_1.0.2.zip && rm RProtoBufLib_1.0.2.tar.gz RProtoBufLib_1.0.2.zip |
| StartedAt: 2018-04-11 18:10:23 -0400 (Wed, 11 Apr 2018) |
| EndedAt: 2018-04-11 18:11:56 -0400 (Wed, 11 Apr 2018) |
| EllapsedTime: 92.6 seconds |
| RetCode: 0 |
| Status: OK |
##############################################################################
##############################################################################
###
### Running command:
###
### rm -rf RProtoBufLib.buildbin-libdir && mkdir RProtoBufLib.buildbin-libdir && C:\cygwin\bin\curl.exe -O https://malbec1.bioconductor.org/BBS/3.6/bioc/src/contrib/RProtoBufLib_1.0.2.tar.gz && C:\Users\biocbuild\bbs-3.6-bioc\R\bin\R.exe CMD INSTALL --build --library=RProtoBufLib.buildbin-libdir --merge-multiarch RProtoBufLib_1.0.2.tar.gz && C:\Users\biocbuild\bbs-3.6-bioc\R\bin\R.exe CMD INSTALL RProtoBufLib_1.0.2.zip && rm RProtoBufLib_1.0.2.tar.gz RProtoBufLib_1.0.2.zip
###
##############################################################################
##############################################################################
% Total % Received % Xferd Average Speed Time Time Time Current
Dload Upload Total Spent Left Speed
0 0 0 0 0 0 0 0 --:--:-- --:--:-- --:--:-- 0
0 0 0 0 0 0 0 0 --:--:-- --:--:-- --:--:-- 0
100 1879k 100 1879k 0 0 2385k 0 --:--:-- --:--:-- --:--:-- 2570k
install for i386
* installing *source* package 'RProtoBufLib' ...
**********************************************
WARNING: this package has a configure script
It probably needs manual configuration
**********************************************
** libs
mkdir -p ""C:/Users/biocbuild/bbs-3.6-bioc/meat/RProtoBufLib.buildbin-libdir/RProtoBufLib/include""
cp -r win/include/google "C:/Users/biocbuild/bbs-3.6-bioc/meat/RProtoBufLib.buildbin-libdir/RProtoBufLib/include"
mkdir -p "C:/Users/biocbuild/bbs-3.6-bioc/meat/RProtoBufLib.buildbin-libdir/RProtoBufLib/lib/i386"
cp win/lib/i386/libprotobuf.a "C:/Users/biocbuild/bbs-3.6-bioc/meat/RProtoBufLib.buildbin-libdir/RProtoBufLib/lib/i386/libprotobuf.a"
C:/Rtools/mingw_32/bin/gcc -I"C:/Users/BIOCBU˜1/BBS-3˜1.6-B/R/include" -DNDEBUG -I"C:/local323/include" -O3 -Wall -std=gnu99 -mtune=generic -c dummy.c -o dummy.o
C:/Rtools/mingw_32/bin/g++ -shared -s -static-libgcc -o RProtoBufLib.dll tmp.def dummy.o -LC:/local323/lib/i386 -LC:/local323/lib -LC:/Users/BIOCBU˜1/BBS-3˜1.6-B/R/bin/i386 -lR
installing to C:/Users/biocbuild/bbs-3.6-bioc/meat/RProtoBufLib.buildbin-libdir/RProtoBufLib/libs/i386
** R
** inst
** preparing package for lazy loading
** help
*** installing help indices
converting help for package 'RProtoBufLib'
finding HTML links ... done
LdFlags html
** building package indices
** installing vignettes
** testing if installed package can be loaded
In R CMD INSTALL
install for x64
* installing *source* package 'RProtoBufLib' ...
**********************************************
WARNING: this package has a configure script
It probably needs manual configuration
**********************************************
** libs
mkdir -p ""C:/Users/biocbuild/bbs-3.6-bioc/meat/RProtoBufLib.buildbin-libdir/RProtoBufLib/include""
cp -r win/include/google "C:/Users/biocbuild/bbs-3.6-bioc/meat/RProtoBufLib.buildbin-libdir/RProtoBufLib/include"
mkdir -p "C:/Users/biocbuild/bbs-3.6-bioc/meat/RProtoBufLib.buildbin-libdir/RProtoBufLib/lib/x64"
cp win/lib/x64/libprotobuf.a "C:/Users/biocbuild/bbs-3.6-bioc/meat/RProtoBufLib.buildbin-libdir/RProtoBufLib/lib/x64/libprotobuf.a"
C:/Rtools/mingw_64/bin/gcc -I"C:/Users/BIOCBU˜1/BBS-3˜1.6-B/R/include" -DNDEBUG -I"C:/local323/include" -O2 -Wall -std=gnu99 -mtune=generic -c dummy.c -o dummy.o
C:/Rtools/mingw_64/bin/g++ -shared -s -static-libgcc -o RProtoBufLib.dll tmp.def dummy.o -LC:/local323/lib/x64 -LC:/local323/lib -LC:/Users/BIOCBU˜1/BBS-3˜1.6-B/R/bin/x64 -lR
installing to C:/Users/biocbuild/bbs-3.6-bioc/meat/RProtoBufLib.buildbin-libdir/RProtoBufLib/libs/x64
** testing if installed package can be loaded
* MD5 sums
packaged installation of 'RProtoBufLib' as RProtoBufLib_1.0.2.zip
* DONE (RProtoBufLib)
In R CMD INSTALL
In R CMD INSTALL
* installing to library 'C:/Users/biocbuild/bbs-3.6-bioc/R/library'
package 'RProtoBufLib' successfully unpacked and MD5 sums checked
In R CMD INSTALL