| Back to Multiple platform build/check report for BioC 3.6 |
|
This page was generated on 2018-04-12 13:22:58 -0400 (Thu, 12 Apr 2018).
| Package 1141/1472 | Hostname | OS / Arch | INSTALL | BUILD | CHECK | BUILD BIN | ||||||
| RDAVIDWebService 1.16.0 Cristobal Fresno
| malbec1 | Linux (Ubuntu 16.04.1 LTS) / x86_64 | OK | OK | OK | |||||||
| tokay1 | Windows Server 2012 R2 Standard / x64 | [ OK ] | OK | OK | OK | |||||||
| veracruz1 | OS X 10.11.6 El Capitan / x86_64 | OK | OK | OK | OK |
| Package: RDAVIDWebService |
| Version: 1.16.0 |
| Command: rm -rf RDAVIDWebService.buildbin-libdir && mkdir RDAVIDWebService.buildbin-libdir && C:\cygwin\bin\curl.exe -O https://malbec1.bioconductor.org/BBS/3.6/bioc/src/contrib/RDAVIDWebService_1.16.0.tar.gz && C:\Users\biocbuild\bbs-3.6-bioc\R\bin\R.exe CMD INSTALL --build --library=RDAVIDWebService.buildbin-libdir --merge-multiarch RDAVIDWebService_1.16.0.tar.gz && C:\Users\biocbuild\bbs-3.6-bioc\R\bin\R.exe CMD INSTALL RDAVIDWebService_1.16.0.zip && rm RDAVIDWebService_1.16.0.tar.gz RDAVIDWebService_1.16.0.zip |
| StartedAt: 2018-04-11 18:44:47 -0400 (Wed, 11 Apr 2018) |
| EndedAt: 2018-04-11 18:47:35 -0400 (Wed, 11 Apr 2018) |
| EllapsedTime: 168.4 seconds |
| RetCode: 0 |
| Status: OK |
##############################################################################
##############################################################################
###
### Running command:
###
### rm -rf RDAVIDWebService.buildbin-libdir && mkdir RDAVIDWebService.buildbin-libdir && C:\cygwin\bin\curl.exe -O https://malbec1.bioconductor.org/BBS/3.6/bioc/src/contrib/RDAVIDWebService_1.16.0.tar.gz && C:\Users\biocbuild\bbs-3.6-bioc\R\bin\R.exe CMD INSTALL --build --library=RDAVIDWebService.buildbin-libdir --merge-multiarch RDAVIDWebService_1.16.0.tar.gz && C:\Users\biocbuild\bbs-3.6-bioc\R\bin\R.exe CMD INSTALL RDAVIDWebService_1.16.0.zip && rm RDAVIDWebService_1.16.0.tar.gz RDAVIDWebService_1.16.0.zip
###
##############################################################################
##############################################################################
% Total % Received % Xferd Average Speed Time Time Time Current
Dload Upload Total Spent Left Speed
0 0 0 0 0 0 0 0 --:--:-- --:--:-- --:--:-- 0
0 20.2M 0 98304 0 0 105k 0 0:03:15 --:--:-- 0:03:15 106k
100 20.2M 100 20.2M 0 0 11.0M 0 0:00:01 0:00:01 --:--:-- 11.0M
install for i386
* installing *source* package 'RDAVIDWebService' ...
** R
** data
** inst
** preparing package for lazy loading
** help
*** installing help indices
converting help for package 'RDAVIDWebService'
finding HTML links ... done
DAVIDClasses-categories html
DAVIDClasses-constructor html
DAVIDClasses-genes html
DAVIDClasses-ids html
DAVIDClasses-plot2D html
DAVIDClasses-show html
DAVIDClasses-summary html
DAVIDCluster-class html
DAVIDCluster-methods html
DAVIDFunctionalAnnotationChart-class html
DAVIDFunctionalAnnotationTable-class html
DAVIDFunctionalAnnotationTable-methods
html
DAVIDGODag-class html
DAVIDGODag-methods html
DAVIDGeneCluster-class html
DAVIDGenes-class html
DAVIDGenes-methods html
DAVIDResult-class html
DAVIDResult-getters html
DAVIDTermCluster-class html
DAVIDWebService-accessors html
DAVIDWebService-class html
DAVIDWebService-methods html
DAVIDWebService-package html
DAVIDWebService-reports html
DAVIDdemo-annotationSummary html
DAVIDdemo-annotationTable html
DAVIDdemo-clusterReport html
DAVIDdemo-functionalAnnotationChart html
DAVIDdemo-geneList html
DAVIDdemo-ids html
** building package indices
** installing vignettes
** testing if installed package can be loaded
In R CMD INSTALL
install for x64
* installing *source* package 'RDAVIDWebService' ...
** testing if installed package can be loaded
* MD5 sums
packaged installation of 'RDAVIDWebService' as RDAVIDWebService_1.16.0.zip
* DONE (RDAVIDWebService)
In R CMD INSTALL
In R CMD INSTALL
* installing to library 'C:/Users/biocbuild/bbs-3.6-bioc/R/library'
package 'RDAVIDWebService' successfully unpacked and MD5 sums checked
In R CMD INSTALL