| Back to Multiple platform build/check report for BioC 3.6 |
|
This page was generated on 2018-04-12 13:17:02 -0400 (Thu, 12 Apr 2018).
| Package 1140/1472 | Hostname | OS / Arch | INSTALL | BUILD | CHECK | BUILD BIN | ||||||
Paul Shannon
| malbec1 | Linux (Ubuntu 16.04.1 LTS) / x86_64 | ERROR | [ ERROR ] | skipped | |||||||
| tokay1 | Windows Server 2012 R2 Standard / x64 | ...NOT SUPPORTED...NOT SUPPORTED...NOT SUPPORTED... | ||||||||||
| veracruz1 | OS X 10.11.6 El Capitan / x86_64 | ...NOT SUPPORTED...NOT SUPPORTED...NOT SUPPORTED... | ||||||||||
| Package: RCytoscape |
| Version: 1.28.0 |
| Command: /home/biocbuild/bbs-3.6-bioc/R/bin/R CMD build --keep-empty-dirs --no-resave-data RCytoscape |
| StartedAt: 2018-04-11 21:10:23 -0400 (Wed, 11 Apr 2018) |
| EndedAt: 2018-04-11 21:10:25 -0400 (Wed, 11 Apr 2018) |
| EllapsedTime: 1.5 seconds |
| RetCode: 1 |
| Status: ERROR |
| PackageFile: None |
| PackageFileSize: NA |
##############################################################################
##############################################################################
###
### Running command:
###
### /home/biocbuild/bbs-3.6-bioc/R/bin/R CMD build --keep-empty-dirs --no-resave-data RCytoscape
###
##############################################################################
##############################################################################
* checking for file ‘RCytoscape/DESCRIPTION’ ... OK
* preparing ‘RCytoscape’:
* checking DESCRIPTION meta-information ... OK
* installing the package to build vignettes
-----------------------------------
ERROR: dependency ‘XMLRPC’ is not available for package ‘RCytoscape’
* removing ‘/tmp/RtmpSQylkk/Rinst3ab863ff565b/RCytoscape’
-----------------------------------
ERROR: package installation failed