| Back to Multiple platform build/check report for BioC 3.6 |
|
This page was generated on 2018-04-12 13:23:35 -0400 (Thu, 12 Apr 2018).
| Package 1085/1472 | Hostname | OS / Arch | INSTALL | BUILD | CHECK | BUILD BIN | ||||||
| PSICQUIC 1.16.4 Paul Shannon
| malbec1 | Linux (Ubuntu 16.04.1 LTS) / x86_64 | OK | OK | WARNINGS | |||||||
| tokay1 | Windows Server 2012 R2 Standard / x64 | OK | [ OK ] | WARNINGS | OK | |||||||
| veracruz1 | OS X 10.11.6 El Capitan / x86_64 | OK | OK | WARNINGS | OK |
| Package: PSICQUIC |
| Version: 1.16.4 |
| Command: chmod a+r PSICQUIC -R && C:\Users\biocbuild\bbs-3.6-bioc\R\bin\R.exe CMD build --keep-empty-dirs --no-resave-data PSICQUIC |
| StartedAt: 2018-04-11 20:08:30 -0400 (Wed, 11 Apr 2018) |
| EndedAt: 2018-04-11 20:10:15 -0400 (Wed, 11 Apr 2018) |
| EllapsedTime: 105.0 seconds |
| RetCode: 0 |
| Status: OK |
| PackageFile: PSICQUIC_1.16.4.tar.gz |
| PackageFileSize: 215.4 KiB |
############################################################################## ############################################################################## ### ### Running command: ### ### chmod a+r PSICQUIC -R && C:\Users\biocbuild\bbs-3.6-bioc\R\bin\R.exe CMD build --keep-empty-dirs --no-resave-data PSICQUIC ### ############################################################################## ############################################################################## * checking for file 'PSICQUIC/DESCRIPTION' ... OK * preparing 'PSICQUIC': * checking DESCRIPTION meta-information ... OK * installing the package to build vignettes * creating vignettes ... OK * checking for LF line-endings in source and make files and shell scripts * checking for empty or unneeded directories * building 'PSICQUIC_1.16.4.tar.gz'