| Back to Multiple platform build/check report for BioC 3.6 | 
 | 
This page was generated on 2018-04-12 13:23:38 -0400 (Thu, 12 Apr 2018).
| Package 1022/1472 | Hostname | OS / Arch | INSTALL | BUILD | CHECK | BUILD BIN | ||||||
| PECA 1.14.0 Tomi Suomi 
 | malbec1 | Linux (Ubuntu 16.04.1 LTS) / x86_64 | OK | OK | OK |  | ||||||
| tokay1 | Windows Server 2012 R2 Standard / x64 | OK | OK | OK | [ OK ] |  | ||||||
| veracruz1 | OS X 10.11.6 El Capitan / x86_64 | OK | OK | OK | OK |  | 
| Package: PECA | 
| Version: 1.14.0 | 
| Command: cd PECA.buildbin-libdir/PECA && zip -r ../../PECA_1.14.0.zip . & cd ../.. | 
| StartedAt: 2018-04-12 04:56:24 -0400 (Thu, 12 Apr 2018) | 
| EndedAt: 2018-04-12 04:56:55 -0400 (Thu, 12 Apr 2018) | 
| EllapsedTime: 30.8 seconds | 
| RetCode: 0 | 
| Status: OK | 
| PackageFile: PECA_1.14.0.zip | 
| PackageFileSize: 359.8 KiB | 
############################################################################## ############################################################################## ### ### Running command: ### ### cd PECA.buildbin-libdir/PECA && zip -r ../../PECA_1.14.0.zip . & cd ../.. ### ############################################################################## ############################################################################## adding: DESCRIPTION (332 bytes security) (deflated 41%) adding: doc/ (372 bytes security) (stored 0%) adding: doc/index.html (332 bytes security) (deflated 56%) adding: doc/PECA.pdf (332 bytes security) (deflated 7%) adding: doc/PECA.R (332 bytes security) (deflated 74%) adding: doc/PECA.Rnw (332 bytes security) (deflated 56%) adding: extdata/ (372 bytes security) (stored 0%) adding: extdata/peptides.tsv (332 bytes security) (deflated 47%) adding: help/ (372 bytes security) (stored 0%) adding: help/aliases.rds (332 bytes security) (stored 0%) adding: help/AnIndex (332 bytes security) (deflated 49%) adding: help/paths.rds (332 bytes security) (stored 0%) adding: help/PECA.rdb (332 bytes security) (stored 0%) adding: help/PECA.rdx (332 bytes security) (stored 0%) adding: html/ (372 bytes security) (stored 0%) adding: html/00Index.html (332 bytes security) (deflated 63%) adding: html/PECA.html (332 bytes security) (deflated 64%) adding: html/PECASI.html (332 bytes security) (deflated 63%) adding: html/R.css (332 bytes security) (deflated 75%) adding: INDEX (332 bytes security) (deflated 38%) adding: MD5 (332 bytes security) (deflated 42%) adding: Meta/ (372 bytes security) (stored 0%) adding: Meta/features.rds (332 bytes security) (stored 0%) adding: Meta/hsearch.rds (332 bytes security) (stored 0%) adding: Meta/links.rds (332 bytes security) (stored 0%) adding: Meta/nsInfo.rds (332 bytes security) (stored 0%) adding: Meta/package.rds (332 bytes security) (stored 0%) adding: Meta/Rd.rds (332 bytes security) (stored 0%) adding: Meta/vignette.rds (332 bytes security) (stored 0%) adding: NAMESPACE (332 bytes security) (deflated 54%) adding: NEWS (332 bytes security) (deflated 42%) adding: R/ (372 bytes security) (stored 0%) adding: R/PECA (332 bytes security) (deflated 41%) adding: R/PECA.rdb (332 bytes security) (deflated 3%) adding: R/PECA.rdx (332 bytes security) (stored 0%)