| Back to Multiple platform build/check report for BioC 3.6 |
|
This page was generated on 2018-04-12 13:31:25 -0400 (Thu, 12 Apr 2018).
| Package 810/1472 | Hostname | OS / Arch | INSTALL | BUILD | CHECK | BUILD BIN | ||||||
| MergeMaid 2.50.0 Xiaogang Zhong
| malbec1 | Linux (Ubuntu 16.04.1 LTS) / x86_64 | OK | OK | WARNINGS | |||||||
| tokay1 | Windows Server 2012 R2 Standard / x64 | OK | OK | WARNINGS | OK | |||||||
| veracruz1 | OS X 10.11.6 El Capitan / x86_64 | OK | OK | WARNINGS | [ OK ] |
| Package: MergeMaid |
| Version: 2.50.0 |
| Command: rm -rf MergeMaid.buildbin-libdir && mkdir MergeMaid.buildbin-libdir && /Users/biocbuild/BBS/utils/build-universal.sh MergeMaid_2.50.0.tar.gz /Library/Frameworks/R.framework/Versions/Current/Resources/bin/R MergeMaid.buildbin-libdir |
| StartedAt: 2018-04-12 11:47:32 -0400 (Thu, 12 Apr 2018) |
| EndedAt: 2018-04-12 11:47:38 -0400 (Thu, 12 Apr 2018) |
| EllapsedTime: 5.2 seconds |
| RetCode: 0 |
| Status: OK |
| PackageFile: MergeMaid_2.50.0.tgz |
| PackageFileSize: 551.4 KiB |
############################################################################## ############################################################################## ### ### Running command: ### ### rm -rf MergeMaid.buildbin-libdir && mkdir MergeMaid.buildbin-libdir && /Users/biocbuild/BBS/utils/build-universal.sh MergeMaid_2.50.0.tar.gz /Library/Frameworks/R.framework/Versions/Current/Resources/bin/R MergeMaid.buildbin-libdir ### ############################################################################## ############################################################################## >>>>>>> >>>>>>> INSTALLATION WITH 'R CMD INSTALL --preclean --no-multiarch --library=MergeMaid.buildbin-libdir MergeMaid_2.50.0.tar.gz' >>>>>>> * installing *source* package ‘MergeMaid’ ... ** R ** data ** inst ** preparing package for lazy loading ** help *** installing help indices ** building package indices ** installing vignettes ** testing if installed package can be loaded * DONE (MergeMaid)