| Back to Multiple platform build/check report for BioC 3.6 |
|
This page was generated on 2018-04-12 13:33:58 -0400 (Thu, 12 Apr 2018).
| Package 877/1472 | Hostname | OS / Arch | INSTALL | BUILD | CHECK | BUILD BIN | ||||||
| MLP 1.26.0 Tobias Verbeke
| malbec1 | Linux (Ubuntu 16.04.1 LTS) / x86_64 | OK | OK | OK | |||||||
| tokay1 | Windows Server 2012 R2 Standard / x64 | OK | OK | OK | OK | |||||||
| veracruz1 | OS X 10.11.6 El Capitan / x86_64 | OK | OK | OK | [ OK ] |
| Package: MLP |
| Version: 1.26.0 |
| Command: rm -rf MLP.buildbin-libdir && mkdir MLP.buildbin-libdir && /Users/biocbuild/BBS/utils/build-universal.sh MLP_1.26.0.tar.gz /Library/Frameworks/R.framework/Versions/Current/Resources/bin/R MLP.buildbin-libdir |
| StartedAt: 2018-04-12 11:51:12 -0400 (Thu, 12 Apr 2018) |
| EndedAt: 2018-04-12 11:51:20 -0400 (Thu, 12 Apr 2018) |
| EllapsedTime: 7.9 seconds |
| RetCode: 0 |
| Status: OK |
| PackageFile: MLP_1.26.0.tgz |
| PackageFileSize: 4.222 MiB |
############################################################################## ############################################################################## ### ### Running command: ### ### rm -rf MLP.buildbin-libdir && mkdir MLP.buildbin-libdir && /Users/biocbuild/BBS/utils/build-universal.sh MLP_1.26.0.tar.gz /Library/Frameworks/R.framework/Versions/Current/Resources/bin/R MLP.buildbin-libdir ### ############################################################################## ############################################################################## >>>>>>> >>>>>>> INSTALLATION WITH 'R CMD INSTALL --preclean --no-multiarch --library=MLP.buildbin-libdir MLP_1.26.0.tar.gz' >>>>>>> * installing *source* package ‘MLP’ ... ** R ** inst ** preparing package for lazy loading ** help *** installing help indices ** building package indices ** installing vignettes ** testing if installed package can be loaded * DONE (MLP)