| Back to Multiple platform build/check report for BioC 3.6 | 
 | 
This page was generated on 2018-04-12 13:27:20 -0400 (Thu, 12 Apr 2018).
| Package 728/1472 | Hostname | OS / Arch | INSTALL | BUILD | CHECK | BUILD BIN | ||||||
| JunctionSeq 1.8.0 Stephen Hartley 
 | malbec1 | Linux (Ubuntu 16.04.1 LTS) / x86_64 | OK | OK | OK |  | ||||||
| tokay1 | Windows Server 2012 R2 Standard / x64 | OK | OK | OK | [ OK ] |  | ||||||
| veracruz1 | OS X 10.11.6 El Capitan / x86_64 | OK | OK | OK | OK |  | 
| Package: JunctionSeq | 
| Version: 1.8.0 | 
| Command: cd JunctionSeq.buildbin-libdir/JunctionSeq && zip -r ../../JunctionSeq_1.8.0.zip . & cd ../.. | 
| StartedAt: 2018-04-12 04:47:24 -0400 (Thu, 12 Apr 2018) | 
| EndedAt: 2018-04-12 04:48:03 -0400 (Thu, 12 Apr 2018) | 
| EllapsedTime: 38.9 seconds | 
| RetCode: 0 | 
| Status: OK | 
| PackageFile: JunctionSeq_1.8.0.zip | 
| PackageFileSize: 3.311 MiB | 
############################################################################## ############################################################################## ### ### Running command: ### ### cd JunctionSeq.buildbin-libdir/JunctionSeq && zip -r ../../JunctionSeq_1.8.0.zip . & cd ../.. ### ############################################################################## ############################################################################## adding: CITATION (332 bytes security) (deflated 58%) adding: DESCRIPTION (332 bytes security) (deflated 47%) adding: doc/ (372 bytes security) (stored 0%) adding: doc/gpl.v3.txt (332 bytes security) (deflated 66%) adding: doc/index.html (332 bytes security) (deflated 61%) adding: doc/JunctionSeq.pdf (332 bytes security) (deflated 16%) adding: doc/JunctionSeq.Rnw (332 bytes security) (deflated 72%) adding: extdata/ (372 bytes security) (stored 0%) adding: extdata/styles.css (332 bytes security) (deflated 69%) adding: help/ (372 bytes security) (stored 0%) adding: help/aliases.rds (332 bytes security) (stored 0%) adding: help/AnIndex (332 bytes security) (deflated 69%) adding: help/JunctionSeq.rdb (332 bytes security) (deflated 1%) adding: help/JunctionSeq.rdx (332 bytes security) (stored 0%) adding: help/paths.rds (332 bytes security) (stored 0%) adding: html/ (372 bytes security) (stored 0%) adding: html/00Index.html (332 bytes security) (deflated 73%) adding: html/buildAllPlots.html (332 bytes security) (deflated 73%) adding: html/buildAllPlotsForGene.html (332 bytes security) (deflated 73%) adding: html/defaultColorList.html (332 bytes security) (deflated 62%) adding: html/estimateEffectSizes.html (332 bytes security) (deflated 63%) adding: html/estimateJunctionSeqDispersions.html (332 bytes security) (deflated 61%) adding: html/estimateJunctionSeqSizeFactors.html (332 bytes security) (deflated 61%) adding: html/fitJunctionSeqDispersionFunction.html (332 bytes security) (deflated 65%) adding: html/JunctionSeqCountSet-class.html (332 bytes security) (deflated 72%) adding: html/plotDispEsts.html (332 bytes security) (deflated 70%) adding: html/plotJunctionSeqResultsForGene.html (332 bytes security) (deflated 73%) adding: html/plotMA.html (332 bytes security) (deflated 68%) adding: html/R.css (332 bytes security) (deflated 75%) adding: html/readAnnotationData.html (332 bytes security) (deflated 53%) adding: html/readJunctionSeqCounts.html (332 bytes security) (deflated 66%) adding: html/runJunctionSeqAnalyses.html (332 bytes security) (deflated 72%) adding: html/setJunctionSeqCompiledSourcePackage.html (332 bytes security) (deflated 51%) adding: html/testForDiffUsage.html (332 bytes security) (deflated 64%) adding: html/writeBedTrack.html (332 bytes security) (deflated 72%) adding: html/writeCompleteResults.html (332 bytes security) (deflated 65%) adding: INDEX (332 bytes security) (deflated 65%) adding: libs/ (372 bytes security) (stored 0%) adding: libs/i386/ (372 bytes security) (stored 0%) adding: libs/i386/JunctionSeq.dll (332 bytes security) (deflated 64%) adding: libs/x64/ (372 bytes security) (stored 0%) adding: libs/x64/JunctionSeq.dll (332 bytes security) (deflated 66%) adding: LICENSE (332 bytes security) (deflated 50%) adding: MD5 (332 bytes security) (deflated 46%) adding: Meta/ (372 bytes security) (stored 0%) adding: Meta/features.rds (332 bytes security) (stored 0%) adding: Meta/hsearch.rds (332 bytes security) (stored 0%) adding: Meta/links.rds (332 bytes security) (stored 0%) adding: Meta/nsInfo.rds (332 bytes security) (stored 0%) adding: Meta/package.rds (332 bytes security) (stored 0%) adding: Meta/Rd.rds (332 bytes security) (stored 0%) adding: Meta/vignette.rds (332 bytes security) (stored 0%) adding: NAMESPACE (332 bytes security) (deflated 62%) adding: NEWS (332 bytes security) (deflated 56%) adding: R/ (372 bytes security) (stored 0%) adding: R/JunctionSeq (332 bytes security) (deflated 41%) adding: R/JunctionSeq.rdb (332 bytes security) (deflated 5%) adding: R/JunctionSeq.rdx (332 bytes security) (stored 0%)