| Back to Multiple platform build/check report for BioC 3.6 | 
 | 
This page was generated on 2018-04-12 13:10:16 -0400 (Thu, 12 Apr 2018).
| Package 657/1472 | Hostname | OS / Arch | INSTALL | BUILD | CHECK | BUILD BIN | ||||||
| HiTC 1.22.1 Nicolas Servant 
 | malbec1 | Linux (Ubuntu 16.04.1 LTS) / x86_64 | [ OK ] | OK | OK |  | ||||||
| tokay1 | Windows Server 2012 R2 Standard / x64 | OK | OK | WARNINGS | OK |  | ||||||
| veracruz1 | OS X 10.11.6 El Capitan / x86_64 | OK | OK | OK | OK |  | 
| Package: HiTC | 
| Version: 1.22.1 | 
| Command: /home/biocbuild/bbs-3.6-bioc/R/bin/R CMD INSTALL HiTC | 
| StartedAt: 2018-04-11 18:05:47 -0400 (Wed, 11 Apr 2018) | 
| EndedAt: 2018-04-11 18:06:01 -0400 (Wed, 11 Apr 2018) | 
| EllapsedTime: 14.3 seconds | 
| RetCode: 0 | 
| Status: OK | 
############################################################################## ############################################################################## ### ### Running command: ### ### /home/biocbuild/bbs-3.6-bioc/R/bin/R CMD INSTALL HiTC ### ############################################################################## ############################################################################## * installing to library ‘/home/biocbuild/bbs-3.6-bioc/R/library’ * installing *source* package ‘HiTC’ ... ** R ** data ** inst ** preparing package for lazy loading ** help *** installing help indices ** building package indices ** installing vignettes ** testing if installed package can be loaded * DONE (HiTC)