| Back to Multiple platform build/check report for BioC 3.6 | 
 | 
This page was generated on 2018-04-12 13:19:54 -0400 (Thu, 12 Apr 2018).
| Package 661/1472 | Hostname | OS / Arch | INSTALL | BUILD | CHECK | BUILD BIN | ||||||
| HTqPCR 1.32.0 Heidi Dvinge 
 | malbec1 | Linux (Ubuntu 16.04.1 LTS) / x86_64 | OK | OK | OK |  | ||||||
| tokay1 | Windows Server 2012 R2 Standard / x64 | [ OK ] | OK | WARNINGS | OK |  | ||||||
| veracruz1 | OS X 10.11.6 El Capitan / x86_64 | OK | OK | OK | OK |  | 
| Package: HTqPCR | 
| Version: 1.32.0 | 
| Command: rm -rf HTqPCR.buildbin-libdir && mkdir HTqPCR.buildbin-libdir && C:\cygwin\bin\curl.exe -O https://malbec1.bioconductor.org/BBS/3.6/bioc/src/contrib/HTqPCR_1.32.0.tar.gz && C:\Users\biocbuild\bbs-3.6-bioc\R\bin\R.exe CMD INSTALL --build --library=HTqPCR.buildbin-libdir --merge-multiarch HTqPCR_1.32.0.tar.gz && C:\Users\biocbuild\bbs-3.6-bioc\R\bin\R.exe CMD INSTALL HTqPCR_1.32.0.zip && rm HTqPCR_1.32.0.tar.gz HTqPCR_1.32.0.zip | 
| StartedAt: 2018-04-11 18:31:52 -0400 (Wed, 11 Apr 2018) | 
| EndedAt: 2018-04-11 18:33:12 -0400 (Wed, 11 Apr 2018) | 
| EllapsedTime: 80.2 seconds | 
| RetCode: 0 | 
| Status: OK | 
##############################################################################
##############################################################################
###
### Running command:
###
###   rm -rf HTqPCR.buildbin-libdir && mkdir HTqPCR.buildbin-libdir  && C:\cygwin\bin\curl.exe -O https://malbec1.bioconductor.org/BBS/3.6/bioc/src/contrib/HTqPCR_1.32.0.tar.gz && C:\Users\biocbuild\bbs-3.6-bioc\R\bin\R.exe CMD INSTALL --build --library=HTqPCR.buildbin-libdir --merge-multiarch HTqPCR_1.32.0.tar.gz && C:\Users\biocbuild\bbs-3.6-bioc\R\bin\R.exe CMD INSTALL HTqPCR_1.32.0.zip  && rm HTqPCR_1.32.0.tar.gz HTqPCR_1.32.0.zip
###
##############################################################################
##############################################################################
  % Total    % Received % Xferd  Average Speed   Time    Time     Time  Current
                                 Dload  Upload   Total   Spent    Left  Speed
  0     0    0     0    0     0      0      0 --:--:-- --:--:-- --:--:--     0
100  875k  100  875k    0     0  28.8M      0 --:--:-- --:--:-- --:--:-- 32.8M
install for i386
* installing *source* package 'HTqPCR' ...
** R
** data
** inst
** preparing package for lazy loading
** help
*** installing help indices
  converting help for package 'HTqPCR'
    finding HTML links ... done
    HTqPCR-package                          html  
    cbind                                   html  
    changeCtLayout                          html  
    clusterCt                               html  
    filterCategory                          html  
    filterCtData                            html  
    heatmapSig                              html  
    limmaCtData                             html  
Rd warning: C:/Users/biocbuild/bbs-3.6-bioc/tmpdir/RtmpiyJXJ8/R.INSTALL114c7af459c/HTqPCR/man/limmaCtData.Rd:29: missing file link 'duplicateCorrelation'
    mannwhitneyCtData                       html  
    normalizeCtData                         html  
    plotCVBoxes                             html  
    plotCtArray                             html  
    plotCtBoxes                             html  
    plotCtCard                              html  
    plotCtCategory                          html  
    plotCtCor                               html  
    plotCtDensity                           html  
    plotCtHeatmap                           html  
    plotCtHistogram                         html  
    plotCtOverview                          html  
    plotCtPCA                               html  
    plotCtPairs                             html  
    plotCtRQ                                html  
    plotCtReps                              html  
    plotCtScatter                           html  
    plotCtSignificance                      html  
    plotCtVariation                         html  
    plotGenes                               html  
    qPCRpros                                html  
    qPCRraw                                 html  
    qPCRset-class                           html  
    finding level-2 HTML links ... done
    readCtData                              html  
    setCategory                             html  
    ttestCtData                             html  
** building package indices
** installing vignettes
** testing if installed package can be loaded
In R CMD INSTALL
install for x64
* installing *source* package 'HTqPCR' ...
** testing if installed package can be loaded
* MD5 sums
packaged installation of 'HTqPCR' as HTqPCR_1.32.0.zip
* DONE (HTqPCR)
In R CMD INSTALL
In R CMD INSTALL
* installing to library 'C:/Users/biocbuild/bbs-3.6-bioc/R/library'
package 'HTqPCR' successfully unpacked and MD5 sums checked
In R CMD INSTALL