| Back to Multiple platform build/check report for BioC 3.6 |
|
This page was generated on 2018-04-12 13:20:44 -0400 (Thu, 12 Apr 2018).
| Package 426/1472 | Hostname | OS / Arch | INSTALL | BUILD | CHECK | BUILD BIN | ||||||
| ENVISIONQuery 1.26.0 Alex Lisovich
| malbec1 | Linux (Ubuntu 16.04.1 LTS) / x86_64 | OK | OK | OK | |||||||
| tokay1 | Windows Server 2012 R2 Standard / x64 | [ OK ] | OK | OK | OK | |||||||
| veracruz1 | OS X 10.11.6 El Capitan / x86_64 | OK | OK | OK | OK |
| Package: ENVISIONQuery |
| Version: 1.26.0 |
| Command: rm -rf ENVISIONQuery.buildbin-libdir && mkdir ENVISIONQuery.buildbin-libdir && C:\cygwin\bin\curl.exe -O https://malbec1.bioconductor.org/BBS/3.6/bioc/src/contrib/ENVISIONQuery_1.26.0.tar.gz && C:\Users\biocbuild\bbs-3.6-bioc\R\bin\R.exe CMD INSTALL --build --library=ENVISIONQuery.buildbin-libdir --merge-multiarch ENVISIONQuery_1.26.0.tar.gz && C:\Users\biocbuild\bbs-3.6-bioc\R\bin\R.exe CMD INSTALL ENVISIONQuery_1.26.0.zip && rm ENVISIONQuery_1.26.0.tar.gz ENVISIONQuery_1.26.0.zip |
| StartedAt: 2018-04-11 18:14:55 -0400 (Wed, 11 Apr 2018) |
| EndedAt: 2018-04-11 18:17:45 -0400 (Wed, 11 Apr 2018) |
| EllapsedTime: 169.8 seconds |
| RetCode: 0 |
| Status: OK |
##############################################################################
##############################################################################
###
### Running command:
###
### rm -rf ENVISIONQuery.buildbin-libdir && mkdir ENVISIONQuery.buildbin-libdir && C:\cygwin\bin\curl.exe -O https://malbec1.bioconductor.org/BBS/3.6/bioc/src/contrib/ENVISIONQuery_1.26.0.tar.gz && C:\Users\biocbuild\bbs-3.6-bioc\R\bin\R.exe CMD INSTALL --build --library=ENVISIONQuery.buildbin-libdir --merge-multiarch ENVISIONQuery_1.26.0.tar.gz && C:\Users\biocbuild\bbs-3.6-bioc\R\bin\R.exe CMD INSTALL ENVISIONQuery_1.26.0.zip && rm ENVISIONQuery_1.26.0.tar.gz ENVISIONQuery_1.26.0.zip
###
##############################################################################
##############################################################################
% Total % Received % Xferd Average Speed Time Time Time Current
Dload Upload Total Spent Left Speed
0 0 0 0 0 0 0 0 --:--:-- --:--:-- --:--:-- 0
100 541k 100 541k 0 0 19.7M 0 --:--:-- --:--:-- --:--:-- 22.0M
install for i386
* installing *source* package 'ENVISIONQuery' ...
** R
** inst
** preparing package for lazy loading
** help
*** installing help indices
converting help for package 'ENVISIONQuery'
finding HTML links ... done
ENVISIONQuery-package html
ENVISIONQuery html
ENVISIONQuery.chunk html
ENVISIONQuery.loop html
ENVISIONServices html
formatIdMap html
formatIntact html
formatPicr html
formatReactome html
getFormatter html
getIdEntries html
getIdMatchInfo html
getInputIdEntries html
getInputTypes html
getIntactMatchInfo html
getMerger html
getPicrMatchInfo html
getPositiveResultSetIDs html
getReactomeMatchInfo html
getService html
getServiceClient html
getServiceNames html
getServiceOptions html
getServices html
getTool html
getToolNames html
jgetOptions html
mergeFrameList html
mergeMatchRows html
progressMsg html
registerServices html
toChunks html
** building package indices
** installing vignettes
** testing if installed package can be loaded
This is ENVISIONQuery 1.26.0 2013-08-20
In R CMD INSTALL
install for x64
* installing *source* package 'ENVISIONQuery' ...
** testing if installed package can be loaded
This is ENVISIONQuery 1.26.0 2013-08-20
* MD5 sums
packaged installation of 'ENVISIONQuery' as ENVISIONQuery_1.26.0.zip
* DONE (ENVISIONQuery)
In R CMD INSTALL
In R CMD INSTALL
* installing to library 'C:/Users/biocbuild/bbs-3.6-bioc/R/library'
package 'ENVISIONQuery' successfully unpacked and MD5 sums checked
In R CMD INSTALL