| Back to Multiple platform build/check report for BioC 3.6 |
|
This page was generated on 2018-04-12 13:21:13 -0400 (Thu, 12 Apr 2018).
| Package 363/1472 | Hostname | OS / Arch | INSTALL | BUILD | CHECK | BUILD BIN | ||||||
| DiffBind 2.6.6 Rory Stark
| malbec1 | Linux (Ubuntu 16.04.1 LTS) / x86_64 | OK | OK | OK | |||||||
| tokay1 | Windows Server 2012 R2 Standard / x64 | OK | OK | [ OK ] | OK | |||||||
| veracruz1 | OS X 10.11.6 El Capitan / x86_64 | OK | OK | OK | OK |
| Package: DiffBind |
| Version: 2.6.6 |
| Command: rm -rf DiffBind.buildbin-libdir DiffBind.Rcheck && mkdir DiffBind.buildbin-libdir DiffBind.Rcheck && C:\Users\biocbuild\bbs-3.6-bioc\R\bin\R.exe CMD INSTALL --build --merge-multiarch --library=DiffBind.buildbin-libdir DiffBind_2.6.6.tar.gz >DiffBind.Rcheck\00install.out 2>&1 && cp DiffBind.Rcheck\00install.out DiffBind-install.out && C:\Users\biocbuild\bbs-3.6-bioc\R\bin\R.exe CMD check --library=DiffBind.buildbin-libdir --install="check:DiffBind-install.out" --force-multiarch --no-vignettes --timings DiffBind_2.6.6.tar.gz |
| StartedAt: 2018-04-11 23:31:48 -0400 (Wed, 11 Apr 2018) |
| EndedAt: 2018-04-11 23:49:46 -0400 (Wed, 11 Apr 2018) |
| EllapsedTime: 1078.2 seconds |
| RetCode: 0 |
| Status: OK |
| CheckDir: DiffBind.Rcheck |
| Warnings: 0 |
############################################################################## ############################################################################## ### ### Running command: ### ### rm -rf DiffBind.buildbin-libdir DiffBind.Rcheck && mkdir DiffBind.buildbin-libdir DiffBind.Rcheck && C:\Users\biocbuild\bbs-3.6-bioc\R\bin\R.exe CMD INSTALL --build --merge-multiarch --library=DiffBind.buildbin-libdir DiffBind_2.6.6.tar.gz >DiffBind.Rcheck\00install.out 2>&1 && cp DiffBind.Rcheck\00install.out DiffBind-install.out && C:\Users\biocbuild\bbs-3.6-bioc\R\bin\R.exe CMD check --library=DiffBind.buildbin-libdir --install="check:DiffBind-install.out" --force-multiarch --no-vignettes --timings DiffBind_2.6.6.tar.gz ### ############################################################################## ############################################################################## * using log directory 'C:/Users/biocbuild/bbs-3.6-bioc/meat/DiffBind.Rcheck' * using R version 3.4.4 (2018-03-15) * using platform: x86_64-w64-mingw32 (64-bit) * using session charset: ISO8859-1 * using option '--no-vignettes' * checking for file 'DiffBind/DESCRIPTION' ... OK * checking extension type ... Package * this is package 'DiffBind' version '2.6.6' * checking package namespace information ... OK * checking package dependencies ... NOTE Package which this enhances but not available for checking: 'XLConnect' * checking if this is a source package ... OK * checking if there is a namespace ... OK * checking for hidden files and directories ... OK * checking for portable file names ... OK * checking whether package 'DiffBind' can be installed ... OK * checking installed package size ... OK * checking package directory ... OK * checking 'build' directory ... OK * checking DESCRIPTION meta-information ... OK * checking top-level files ... OK * checking for left-over files ... OK * checking index information ... OK * checking package subdirectories ... OK * checking R files for non-ASCII characters ... OK * checking R files for syntax errors ... OK * loading checks for arch 'i386' ** checking whether the package can be loaded ... OK ** checking whether the package can be loaded with stated dependencies ... OK ** checking whether the package can be unloaded cleanly ... OK ** checking whether the namespace can be loaded with stated dependencies ... OK ** checking whether the namespace can be unloaded cleanly ... OK * loading checks for arch 'x64' ** checking whether the package can be loaded ... OK ** checking whether the package can be loaded with stated dependencies ... OK ** checking whether the package can be unloaded cleanly ... OK ** checking whether the namespace can be loaded with stated dependencies ... OK ** checking whether the namespace can be unloaded cleanly ... OK * checking dependencies in R code ... OK * checking S3 generic/method consistency ... OK * checking replacement functions ... OK * checking foreign function calls ... OK * checking R code for possible problems ... NOTE dba.multicore.addjob: no visible global function definition for 'mcparallel' dba.multicore.wait4jobs: no visible global function definition for 'mccollect' pv.DBAplotVolcano: no visible binding for global variable 'Fold' pv.DBAplotVolcano: no visible binding for global variable 'Legend' Undefined global functions or variables: Fold Legend mccollect mcparallel * checking Rd files ... OK * checking Rd metadata ... OK * checking Rd cross-references ... OK * checking for missing documentation entries ... OK * checking for code/documentation mismatches ... OK * checking Rd \usage sections ... OK * checking Rd contents ... OK * checking for unstated dependencies in examples ... OK * checking contents of 'data' directory ... OK * checking data for non-ASCII characters ... OK * checking data for ASCII and uncompressed saves ... OK * checking line endings in C/C++/Fortran sources/headers ... OK * checking line endings in Makefiles ... OK * checking compilation flags in Makevars ... OK * checking for GNU extensions in Makefiles ... OK * checking for portable use of $(BLAS_LIBS) and $(LAPACK_LIBS) ... OK * checking compiled code ... NOTE Note: information on .o files for i386 is not available Note: information on .o files for x64 is not available File 'C:/Users/biocbuild/bbs-3.6-bioc/meat/DiffBind.buildbin-libdir/DiffBind/libs/i386/DiffBind.dll': Found 'abort', possibly from 'abort' (C), 'runtime' (Fortran) Found 'exit', possibly from 'exit' (C), 'stop' (Fortran) Found 'printf', possibly from 'printf' (C) Found 'puts', possibly from 'printf' (C), 'puts' (C) Found 'rand', possibly from 'rand' (C) Compiled code should not call entry points which might terminate R nor write to stdout/stderr instead of to the console, nor use Fortran I/O nor system RNGs. The detected symbols are linked into the code but might come from libraries and not actually be called. See 'Writing portable packages' in the 'Writing R Extensions' manual. * checking installed files from 'inst/doc' ... OK * checking files in 'vignettes' ... OK * checking examples ... ** running examples for arch 'i386' ... OK ** running examples for arch 'x64' ... OK * checking for unstated dependencies in 'tests' ... OK * checking tests ... ** running tests for arch 'i386' ... Running 'testthat.R' OK ** running tests for arch 'x64' ... Running 'testthat.R' OK * checking for unstated dependencies in vignettes ... OK * checking package vignettes in 'inst/doc' ... OK * checking running R code from vignettes ... SKIPPED * checking re-building of vignette outputs ... SKIPPED * checking PDF version of manual ... OK * DONE Status: 3 NOTEs See 'C:/Users/biocbuild/bbs-3.6-bioc/meat/DiffBind.Rcheck/00check.log' for details.
DiffBind.Rcheck/00install.out
install for i386
* installing *source* package 'DiffBind' ...
** libs
C:/Rtools/mingw_32/bin/g++ -I"C:/Users/biocbuild/bbs-3.6-bioc/R/library/zlibbioc/include" -I"C:/Users/BIOCBU˜1/BBS-3˜1.6-B/R/include" -DNDEBUG -D_USE_KNETFILE -DBGZF_CACHE -D_FILE_OFFSET_BITS=64 -D_LARGEFILE64_SOURCE -I"C:/Users/biocbuild/bbs-3.6-bioc/R/library/zlibbioc/include" -I"C:/Users/biocbuild/bbs-3.6-bioc/R/library/Rsamtools/include" -I"C:/Users/biocbuild/bbs-3.6-bioc/R/library/Rcpp/include" -I"C:/local323/include" -O2 -Wall -mtune=generic -c RcppExports.cpp -o RcppExports.o
C:/Rtools/mingw_32/bin/g++ -I"C:/Users/biocbuild/bbs-3.6-bioc/R/library/zlibbioc/include" -I"C:/Users/BIOCBU˜1/BBS-3˜1.6-B/R/include" -DNDEBUG -D_USE_KNETFILE -DBGZF_CACHE -D_FILE_OFFSET_BITS=64 -D_LARGEFILE64_SOURCE -I"C:/Users/biocbuild/bbs-3.6-bioc/R/library/zlibbioc/include" -I"C:/Users/biocbuild/bbs-3.6-bioc/R/library/Rsamtools/include" -I"C:/Users/biocbuild/bbs-3.6-bioc/R/library/Rcpp/include" -I"C:/local323/include" -O2 -Wall -mtune=generic -c bamReader.cpp -o bamReader.o
C:/Rtools/mingw_32/bin/g++ -I"C:/Users/biocbuild/bbs-3.6-bioc/R/library/zlibbioc/include" -I"C:/Users/BIOCBU˜1/BBS-3˜1.6-B/R/include" -DNDEBUG -D_USE_KNETFILE -DBGZF_CACHE -D_FILE_OFFSET_BITS=64 -D_LARGEFILE64_SOURCE -I"C:/Users/biocbuild/bbs-3.6-bioc/R/library/zlibbioc/include" -I"C:/Users/biocbuild/bbs-3.6-bioc/R/library/Rsamtools/include" -I"C:/Users/biocbuild/bbs-3.6-bioc/R/library/Rcpp/include" -I"C:/local323/include" -O2 -Wall -mtune=generic -c bedReader.cpp -o bedReader.o
C:/Rtools/mingw_32/bin/g++ -I"C:/Users/biocbuild/bbs-3.6-bioc/R/library/zlibbioc/include" -I"C:/Users/BIOCBU˜1/BBS-3˜1.6-B/R/include" -DNDEBUG -D_USE_KNETFILE -DBGZF_CACHE -D_FILE_OFFSET_BITS=64 -D_LARGEFILE64_SOURCE -I"C:/Users/biocbuild/bbs-3.6-bioc/R/library/zlibbioc/include" -I"C:/Users/biocbuild/bbs-3.6-bioc/R/library/Rsamtools/include" -I"C:/Users/biocbuild/bbs-3.6-bioc/R/library/Rcpp/include" -I"C:/local323/include" -O2 -Wall -mtune=generic -c bitBucket.cpp -o bitBucket.o
C:/Rtools/mingw_32/bin/g++ -I"C:/Users/biocbuild/bbs-3.6-bioc/R/library/zlibbioc/include" -I"C:/Users/BIOCBU˜1/BBS-3˜1.6-B/R/include" -DNDEBUG -D_USE_KNETFILE -DBGZF_CACHE -D_FILE_OFFSET_BITS=64 -D_LARGEFILE64_SOURCE -I"C:/Users/biocbuild/bbs-3.6-bioc/R/library/zlibbioc/include" -I"C:/Users/biocbuild/bbs-3.6-bioc/R/library/Rsamtools/include" -I"C:/Users/biocbuild/bbs-3.6-bioc/R/library/Rcpp/include" -I"C:/local323/include" -O2 -Wall -mtune=generic -c croi_func.cpp -o croi_func.o
C:/Rtools/mingw_32/bin/g++ -I"C:/Users/biocbuild/bbs-3.6-bioc/R/library/zlibbioc/include" -I"C:/Users/BIOCBU˜1/BBS-3˜1.6-B/R/include" -DNDEBUG -D_USE_KNETFILE -DBGZF_CACHE -D_FILE_OFFSET_BITS=64 -D_LARGEFILE64_SOURCE -I"C:/Users/biocbuild/bbs-3.6-bioc/R/library/zlibbioc/include" -I"C:/Users/biocbuild/bbs-3.6-bioc/R/library/Rsamtools/include" -I"C:/Users/biocbuild/bbs-3.6-bioc/R/library/Rcpp/include" -I"C:/local323/include" -O2 -Wall -mtune=generic -c croi_main.cpp -o croi_main.o
C:/Rtools/mingw_32/bin/g++ -I"C:/Users/biocbuild/bbs-3.6-bioc/R/library/zlibbioc/include" -I"C:/Users/BIOCBU˜1/BBS-3˜1.6-B/R/include" -DNDEBUG -D_USE_KNETFILE -DBGZF_CACHE -D_FILE_OFFSET_BITS=64 -D_LARGEFILE64_SOURCE -I"C:/Users/biocbuild/bbs-3.6-bioc/R/library/zlibbioc/include" -I"C:/Users/biocbuild/bbs-3.6-bioc/R/library/Rsamtools/include" -I"C:/Users/biocbuild/bbs-3.6-bioc/R/library/Rcpp/include" -I"C:/local323/include" -O2 -Wall -mtune=generic -c densitySet.cpp -o densitySet.o
C:/Rtools/mingw_32/bin/g++ -I"C:/Users/biocbuild/bbs-3.6-bioc/R/library/zlibbioc/include" -I"C:/Users/BIOCBU˜1/BBS-3˜1.6-B/R/include" -DNDEBUG -D_USE_KNETFILE -DBGZF_CACHE -D_FILE_OFFSET_BITS=64 -D_LARGEFILE64_SOURCE -I"C:/Users/biocbuild/bbs-3.6-bioc/R/library/zlibbioc/include" -I"C:/Users/biocbuild/bbs-3.6-bioc/R/library/Rsamtools/include" -I"C:/Users/biocbuild/bbs-3.6-bioc/R/library/Rcpp/include" -I"C:/local323/include" -O2 -Wall -mtune=generic -c iBucket.cpp -o iBucket.o
C:/Rtools/mingw_32/bin/g++ -I"C:/Users/biocbuild/bbs-3.6-bioc/R/library/zlibbioc/include" -I"C:/Users/BIOCBU˜1/BBS-3˜1.6-B/R/include" -DNDEBUG -D_USE_KNETFILE -DBGZF_CACHE -D_FILE_OFFSET_BITS=64 -D_LARGEFILE64_SOURCE -I"C:/Users/biocbuild/bbs-3.6-bioc/R/library/zlibbioc/include" -I"C:/Users/biocbuild/bbs-3.6-bioc/R/library/Rsamtools/include" -I"C:/Users/biocbuild/bbs-3.6-bioc/R/library/Rcpp/include" -I"C:/local323/include" -O2 -Wall -mtune=generic -c interval.cpp -o interval.o
C:/Rtools/mingw_32/bin/g++ -I"C:/Users/biocbuild/bbs-3.6-bioc/R/library/zlibbioc/include" -I"C:/Users/BIOCBU˜1/BBS-3˜1.6-B/R/include" -DNDEBUG -D_USE_KNETFILE -DBGZF_CACHE -D_FILE_OFFSET_BITS=64 -D_LARGEFILE64_SOURCE -I"C:/Users/biocbuild/bbs-3.6-bioc/R/library/zlibbioc/include" -I"C:/Users/biocbuild/bbs-3.6-bioc/R/library/Rsamtools/include" -I"C:/Users/biocbuild/bbs-3.6-bioc/R/library/Rcpp/include" -I"C:/local323/include" -O2 -Wall -mtune=generic -c intervalDensity.cpp -o intervalDensity.o
C:/Rtools/mingw_32/bin/g++ -I"C:/Users/biocbuild/bbs-3.6-bioc/R/library/zlibbioc/include" -I"C:/Users/BIOCBU˜1/BBS-3˜1.6-B/R/include" -DNDEBUG -D_USE_KNETFILE -DBGZF_CACHE -D_FILE_OFFSET_BITS=64 -D_LARGEFILE64_SOURCE -I"C:/Users/biocbuild/bbs-3.6-bioc/R/library/zlibbioc/include" -I"C:/Users/biocbuild/bbs-3.6-bioc/R/library/Rsamtools/include" -I"C:/Users/biocbuild/bbs-3.6-bioc/R/library/Rcpp/include" -I"C:/local323/include" -O2 -Wall -mtune=generic -c intervalNode.cpp -o intervalNode.o
C:/Rtools/mingw_32/bin/g++ -I"C:/Users/biocbuild/bbs-3.6-bioc/R/library/zlibbioc/include" -I"C:/Users/BIOCBU˜1/BBS-3˜1.6-B/R/include" -DNDEBUG -D_USE_KNETFILE -DBGZF_CACHE -D_FILE_OFFSET_BITS=64 -D_LARGEFILE64_SOURCE -I"C:/Users/biocbuild/bbs-3.6-bioc/R/library/zlibbioc/include" -I"C:/Users/biocbuild/bbs-3.6-bioc/R/library/Rsamtools/include" -I"C:/Users/biocbuild/bbs-3.6-bioc/R/library/Rcpp/include" -I"C:/local323/include" -O2 -Wall -mtune=generic -c intervalSet.cpp -o intervalSet.o
C:/Rtools/mingw_32/bin/g++ -I"C:/Users/biocbuild/bbs-3.6-bioc/R/library/zlibbioc/include" -I"C:/Users/BIOCBU˜1/BBS-3˜1.6-B/R/include" -DNDEBUG -D_USE_KNETFILE -DBGZF_CACHE -D_FILE_OFFSET_BITS=64 -D_LARGEFILE64_SOURCE -I"C:/Users/biocbuild/bbs-3.6-bioc/R/library/zlibbioc/include" -I"C:/Users/biocbuild/bbs-3.6-bioc/R/library/Rsamtools/include" -I"C:/Users/biocbuild/bbs-3.6-bioc/R/library/Rcpp/include" -I"C:/local323/include" -O2 -Wall -mtune=generic -c intervalTree.cpp -o intervalTree.o
C:/Rtools/mingw_32/bin/g++ -I"C:/Users/biocbuild/bbs-3.6-bioc/R/library/zlibbioc/include" -I"C:/Users/BIOCBU˜1/BBS-3˜1.6-B/R/include" -DNDEBUG -D_USE_KNETFILE -DBGZF_CACHE -D_FILE_OFFSET_BITS=64 -D_LARGEFILE64_SOURCE -I"C:/Users/biocbuild/bbs-3.6-bioc/R/library/zlibbioc/include" -I"C:/Users/biocbuild/bbs-3.6-bioc/R/library/Rsamtools/include" -I"C:/Users/biocbuild/bbs-3.6-bioc/R/library/Rcpp/include" -I"C:/local323/include" -O2 -Wall -mtune=generic -c merge.cpp -o merge.o
C:/Rtools/mingw_32/bin/gcc -I"C:/Users/biocbuild/bbs-3.6-bioc/R/library/zlibbioc/include" -I"C:/Users/BIOCBU˜1/BBS-3˜1.6-B/R/include" -DNDEBUG -D_USE_KNETFILE -DBGZF_CACHE -D_FILE_OFFSET_BITS=64 -D_LARGEFILE64_SOURCE -I"C:/Users/biocbuild/bbs-3.6-bioc/R/library/zlibbioc/include" -I"C:/Users/biocbuild/bbs-3.6-bioc/R/library/Rsamtools/include" -I"C:/Users/biocbuild/bbs-3.6-bioc/R/library/Rcpp/include" -I"C:/local323/include" -O3 -Wall -std=gnu99 -mtune=generic -c mergeOne.c -o mergeOne.o
C:/Rtools/mingw_32/bin/g++ -I"C:/Users/biocbuild/bbs-3.6-bioc/R/library/zlibbioc/include" -I"C:/Users/BIOCBU˜1/BBS-3˜1.6-B/R/include" -DNDEBUG -D_USE_KNETFILE -DBGZF_CACHE -D_FILE_OFFSET_BITS=64 -D_LARGEFILE64_SOURCE -I"C:/Users/biocbuild/bbs-3.6-bioc/R/library/zlibbioc/include" -I"C:/Users/biocbuild/bbs-3.6-bioc/R/library/Rsamtools/include" -I"C:/Users/biocbuild/bbs-3.6-bioc/R/library/Rcpp/include" -I"C:/local323/include" -O2 -Wall -mtune=generic -c nodeGroup.cpp -o nodeGroup.o
C:/Rtools/mingw_32/bin/g++ -I"C:/Users/biocbuild/bbs-3.6-bioc/R/library/zlibbioc/include" -I"C:/Users/BIOCBU˜1/BBS-3˜1.6-B/R/include" -DNDEBUG -D_USE_KNETFILE -DBGZF_CACHE -D_FILE_OFFSET_BITS=64 -D_LARGEFILE64_SOURCE -I"C:/Users/biocbuild/bbs-3.6-bioc/R/library/zlibbioc/include" -I"C:/Users/biocbuild/bbs-3.6-bioc/R/library/Rsamtools/include" -I"C:/Users/biocbuild/bbs-3.6-bioc/R/library/Rcpp/include" -I"C:/local323/include" -O2 -Wall -mtune=generic -c peakOrder.cpp -o peakOrder.o
C:/Rtools/mingw_32/bin/g++ -I"C:/Users/biocbuild/bbs-3.6-bioc/R/library/zlibbioc/include" -I"C:/Users/BIOCBU˜1/BBS-3˜1.6-B/R/include" -DNDEBUG -D_USE_KNETFILE -DBGZF_CACHE -D_FILE_OFFSET_BITS=64 -D_LARGEFILE64_SOURCE -I"C:/Users/biocbuild/bbs-3.6-bioc/R/library/zlibbioc/include" -I"C:/Users/biocbuild/bbs-3.6-bioc/R/library/Rsamtools/include" -I"C:/Users/biocbuild/bbs-3.6-bioc/R/library/Rcpp/include" -I"C:/local323/include" -O2 -Wall -mtune=generic -c reader.cpp -o reader.o
C:/Rtools/mingw_32/bin/g++ -I"C:/Users/biocbuild/bbs-3.6-bioc/R/library/zlibbioc/include" -I"C:/Users/BIOCBU˜1/BBS-3˜1.6-B/R/include" -DNDEBUG -D_USE_KNETFILE -DBGZF_CACHE -D_FILE_OFFSET_BITS=64 -D_LARGEFILE64_SOURCE -I"C:/Users/biocbuild/bbs-3.6-bioc/R/library/zlibbioc/include" -I"C:/Users/biocbuild/bbs-3.6-bioc/R/library/Rsamtools/include" -I"C:/Users/biocbuild/bbs-3.6-bioc/R/library/Rcpp/include" -I"C:/local323/include" -O2 -Wall -mtune=generic -c sequence.cpp -o sequence.o
C:/Rtools/mingw_32/bin/g++ -I"C:/Users/biocbuild/bbs-3.6-bioc/R/library/zlibbioc/include" -I"C:/Users/BIOCBU˜1/BBS-3˜1.6-B/R/include" -DNDEBUG -D_USE_KNETFILE -DBGZF_CACHE -D_FILE_OFFSET_BITS=64 -D_LARGEFILE64_SOURCE -I"C:/Users/biocbuild/bbs-3.6-bioc/R/library/zlibbioc/include" -I"C:/Users/biocbuild/bbs-3.6-bioc/R/library/Rsamtools/include" -I"C:/Users/biocbuild/bbs-3.6-bioc/R/library/Rcpp/include" -I"C:/local323/include" -O2 -Wall -mtune=generic -c util.cpp -o util.o
C:/Rtools/mingw_32/bin/g++ -shared -s -static-libgcc -o DiffBind.dll tmp.def RcppExports.o bamReader.o bedReader.o bitBucket.o croi_func.o croi_main.o densitySet.o iBucket.o interval.o intervalDensity.o intervalNode.o intervalSet.o intervalTree.o merge.o mergeOne.o nodeGroup.o peakOrder.o reader.o sequence.o util.o C:/Users/biocbuild/bbs-3.6-bioc/R/library/Rsamtools/usrlib/i386/libbam.a C:/Users/biocbuild/bbs-3.6-bioc/R/library/Rsamtools/usrlib/i386/libbam.a C:/Users/biocbuild/bbs-3.6-bioc/R/library/Rsamtools/usrlib/i386/libbcf.a C:/Users/biocbuild/bbs-3.6-bioc/R/library/Rsamtools/usrlib/i386/libtabix.a -lws2_32 -pthread -LC:/Users/biocbuild/bbs-3.6-bioc/R/library/zlibbioc/libs/i386 -lzlib1bioc -LC:/local323/lib/i386 -LC:/local323/lib -LC:/Users/BIOCBU˜1/BBS-3˜1.6-B/R/bin/i386 -lR
installing to C:/Users/biocbuild/bbs-3.6-bioc/meat/DiffBind.buildbin-libdir/DiffBind/libs/i386
** R
** data
** inst
** preparing package for lazy loading
** help
*** installing help indices
converting help for package 'DiffBind'
finding HTML links ... done
DiffBind-globals html
finding level-2 HTML links ... done
DiffBind-package html
dba html
dba.analyze html
dba.contrast html
dba.count html
dba.load html
dba.mask html
dba.overlap html
dba.peakset html
dba.plotBox html
dba.plotHeatmap html
dba.plotMA html
dba.plotPCA html
dba.plotVenn html
dba.plotVolcano html
dba.report html
dba.save html
dba.show html
print.DBA html
tamoxifen html
** building package indices
** installing vignettes
** testing if installed package can be loaded
In R CMD INSTALL
install for x64
* installing *source* package 'DiffBind' ...
** libs
C:/Rtools/mingw_64/bin/g++ -I"C:/Users/biocbuild/bbs-3.6-bioc/R/library/zlibbioc/include" -I"C:/Users/BIOCBU˜1/BBS-3˜1.6-B/R/include" -DNDEBUG -D_USE_KNETFILE -DBGZF_CACHE -D_FILE_OFFSET_BITS=64 -D_LARGEFILE64_SOURCE -I"C:/Users/biocbuild/bbs-3.6-bioc/R/library/zlibbioc/include" -I"C:/Users/biocbuild/bbs-3.6-bioc/R/library/Rsamtools/include" -I"C:/Users/biocbuild/bbs-3.6-bioc/R/library/Rcpp/include" -I"C:/local323/include" -O2 -Wall -mtune=generic -c RcppExports.cpp -o RcppExports.o
C:/Rtools/mingw_64/bin/g++ -I"C:/Users/biocbuild/bbs-3.6-bioc/R/library/zlibbioc/include" -I"C:/Users/BIOCBU˜1/BBS-3˜1.6-B/R/include" -DNDEBUG -D_USE_KNETFILE -DBGZF_CACHE -D_FILE_OFFSET_BITS=64 -D_LARGEFILE64_SOURCE -I"C:/Users/biocbuild/bbs-3.6-bioc/R/library/zlibbioc/include" -I"C:/Users/biocbuild/bbs-3.6-bioc/R/library/Rsamtools/include" -I"C:/Users/biocbuild/bbs-3.6-bioc/R/library/Rcpp/include" -I"C:/local323/include" -O2 -Wall -mtune=generic -c bamReader.cpp -o bamReader.o
C:/Rtools/mingw_64/bin/g++ -I"C:/Users/biocbuild/bbs-3.6-bioc/R/library/zlibbioc/include" -I"C:/Users/BIOCBU˜1/BBS-3˜1.6-B/R/include" -DNDEBUG -D_USE_KNETFILE -DBGZF_CACHE -D_FILE_OFFSET_BITS=64 -D_LARGEFILE64_SOURCE -I"C:/Users/biocbuild/bbs-3.6-bioc/R/library/zlibbioc/include" -I"C:/Users/biocbuild/bbs-3.6-bioc/R/library/Rsamtools/include" -I"C:/Users/biocbuild/bbs-3.6-bioc/R/library/Rcpp/include" -I"C:/local323/include" -O2 -Wall -mtune=generic -c bedReader.cpp -o bedReader.o
C:/Rtools/mingw_64/bin/g++ -I"C:/Users/biocbuild/bbs-3.6-bioc/R/library/zlibbioc/include" -I"C:/Users/BIOCBU˜1/BBS-3˜1.6-B/R/include" -DNDEBUG -D_USE_KNETFILE -DBGZF_CACHE -D_FILE_OFFSET_BITS=64 -D_LARGEFILE64_SOURCE -I"C:/Users/biocbuild/bbs-3.6-bioc/R/library/zlibbioc/include" -I"C:/Users/biocbuild/bbs-3.6-bioc/R/library/Rsamtools/include" -I"C:/Users/biocbuild/bbs-3.6-bioc/R/library/Rcpp/include" -I"C:/local323/include" -O2 -Wall -mtune=generic -c bitBucket.cpp -o bitBucket.o
C:/Rtools/mingw_64/bin/g++ -I"C:/Users/biocbuild/bbs-3.6-bioc/R/library/zlibbioc/include" -I"C:/Users/BIOCBU˜1/BBS-3˜1.6-B/R/include" -DNDEBUG -D_USE_KNETFILE -DBGZF_CACHE -D_FILE_OFFSET_BITS=64 -D_LARGEFILE64_SOURCE -I"C:/Users/biocbuild/bbs-3.6-bioc/R/library/zlibbioc/include" -I"C:/Users/biocbuild/bbs-3.6-bioc/R/library/Rsamtools/include" -I"C:/Users/biocbuild/bbs-3.6-bioc/R/library/Rcpp/include" -I"C:/local323/include" -O2 -Wall -mtune=generic -c croi_func.cpp -o croi_func.o
C:/Rtools/mingw_64/bin/g++ -I"C:/Users/biocbuild/bbs-3.6-bioc/R/library/zlibbioc/include" -I"C:/Users/BIOCBU˜1/BBS-3˜1.6-B/R/include" -DNDEBUG -D_USE_KNETFILE -DBGZF_CACHE -D_FILE_OFFSET_BITS=64 -D_LARGEFILE64_SOURCE -I"C:/Users/biocbuild/bbs-3.6-bioc/R/library/zlibbioc/include" -I"C:/Users/biocbuild/bbs-3.6-bioc/R/library/Rsamtools/include" -I"C:/Users/biocbuild/bbs-3.6-bioc/R/library/Rcpp/include" -I"C:/local323/include" -O2 -Wall -mtune=generic -c croi_main.cpp -o croi_main.o
C:/Rtools/mingw_64/bin/g++ -I"C:/Users/biocbuild/bbs-3.6-bioc/R/library/zlibbioc/include" -I"C:/Users/BIOCBU˜1/BBS-3˜1.6-B/R/include" -DNDEBUG -D_USE_KNETFILE -DBGZF_CACHE -D_FILE_OFFSET_BITS=64 -D_LARGEFILE64_SOURCE -I"C:/Users/biocbuild/bbs-3.6-bioc/R/library/zlibbioc/include" -I"C:/Users/biocbuild/bbs-3.6-bioc/R/library/Rsamtools/include" -I"C:/Users/biocbuild/bbs-3.6-bioc/R/library/Rcpp/include" -I"C:/local323/include" -O2 -Wall -mtune=generic -c densitySet.cpp -o densitySet.o
C:/Rtools/mingw_64/bin/g++ -I"C:/Users/biocbuild/bbs-3.6-bioc/R/library/zlibbioc/include" -I"C:/Users/BIOCBU˜1/BBS-3˜1.6-B/R/include" -DNDEBUG -D_USE_KNETFILE -DBGZF_CACHE -D_FILE_OFFSET_BITS=64 -D_LARGEFILE64_SOURCE -I"C:/Users/biocbuild/bbs-3.6-bioc/R/library/zlibbioc/include" -I"C:/Users/biocbuild/bbs-3.6-bioc/R/library/Rsamtools/include" -I"C:/Users/biocbuild/bbs-3.6-bioc/R/library/Rcpp/include" -I"C:/local323/include" -O2 -Wall -mtune=generic -c iBucket.cpp -o iBucket.o
C:/Rtools/mingw_64/bin/g++ -I"C:/Users/biocbuild/bbs-3.6-bioc/R/library/zlibbioc/include" -I"C:/Users/BIOCBU˜1/BBS-3˜1.6-B/R/include" -DNDEBUG -D_USE_KNETFILE -DBGZF_CACHE -D_FILE_OFFSET_BITS=64 -D_LARGEFILE64_SOURCE -I"C:/Users/biocbuild/bbs-3.6-bioc/R/library/zlibbioc/include" -I"C:/Users/biocbuild/bbs-3.6-bioc/R/library/Rsamtools/include" -I"C:/Users/biocbuild/bbs-3.6-bioc/R/library/Rcpp/include" -I"C:/local323/include" -O2 -Wall -mtune=generic -c interval.cpp -o interval.o
C:/Rtools/mingw_64/bin/g++ -I"C:/Users/biocbuild/bbs-3.6-bioc/R/library/zlibbioc/include" -I"C:/Users/BIOCBU˜1/BBS-3˜1.6-B/R/include" -DNDEBUG -D_USE_KNETFILE -DBGZF_CACHE -D_FILE_OFFSET_BITS=64 -D_LARGEFILE64_SOURCE -I"C:/Users/biocbuild/bbs-3.6-bioc/R/library/zlibbioc/include" -I"C:/Users/biocbuild/bbs-3.6-bioc/R/library/Rsamtools/include" -I"C:/Users/biocbuild/bbs-3.6-bioc/R/library/Rcpp/include" -I"C:/local323/include" -O2 -Wall -mtune=generic -c intervalDensity.cpp -o intervalDensity.o
C:/Rtools/mingw_64/bin/g++ -I"C:/Users/biocbuild/bbs-3.6-bioc/R/library/zlibbioc/include" -I"C:/Users/BIOCBU˜1/BBS-3˜1.6-B/R/include" -DNDEBUG -D_USE_KNETFILE -DBGZF_CACHE -D_FILE_OFFSET_BITS=64 -D_LARGEFILE64_SOURCE -I"C:/Users/biocbuild/bbs-3.6-bioc/R/library/zlibbioc/include" -I"C:/Users/biocbuild/bbs-3.6-bioc/R/library/Rsamtools/include" -I"C:/Users/biocbuild/bbs-3.6-bioc/R/library/Rcpp/include" -I"C:/local323/include" -O2 -Wall -mtune=generic -c intervalNode.cpp -o intervalNode.o
C:/Rtools/mingw_64/bin/g++ -I"C:/Users/biocbuild/bbs-3.6-bioc/R/library/zlibbioc/include" -I"C:/Users/BIOCBU˜1/BBS-3˜1.6-B/R/include" -DNDEBUG -D_USE_KNETFILE -DBGZF_CACHE -D_FILE_OFFSET_BITS=64 -D_LARGEFILE64_SOURCE -I"C:/Users/biocbuild/bbs-3.6-bioc/R/library/zlibbioc/include" -I"C:/Users/biocbuild/bbs-3.6-bioc/R/library/Rsamtools/include" -I"C:/Users/biocbuild/bbs-3.6-bioc/R/library/Rcpp/include" -I"C:/local323/include" -O2 -Wall -mtune=generic -c intervalSet.cpp -o intervalSet.o
C:/Rtools/mingw_64/bin/g++ -I"C:/Users/biocbuild/bbs-3.6-bioc/R/library/zlibbioc/include" -I"C:/Users/BIOCBU˜1/BBS-3˜1.6-B/R/include" -DNDEBUG -D_USE_KNETFILE -DBGZF_CACHE -D_FILE_OFFSET_BITS=64 -D_LARGEFILE64_SOURCE -I"C:/Users/biocbuild/bbs-3.6-bioc/R/library/zlibbioc/include" -I"C:/Users/biocbuild/bbs-3.6-bioc/R/library/Rsamtools/include" -I"C:/Users/biocbuild/bbs-3.6-bioc/R/library/Rcpp/include" -I"C:/local323/include" -O2 -Wall -mtune=generic -c intervalTree.cpp -o intervalTree.o
C:/Rtools/mingw_64/bin/g++ -I"C:/Users/biocbuild/bbs-3.6-bioc/R/library/zlibbioc/include" -I"C:/Users/BIOCBU˜1/BBS-3˜1.6-B/R/include" -DNDEBUG -D_USE_KNETFILE -DBGZF_CACHE -D_FILE_OFFSET_BITS=64 -D_LARGEFILE64_SOURCE -I"C:/Users/biocbuild/bbs-3.6-bioc/R/library/zlibbioc/include" -I"C:/Users/biocbuild/bbs-3.6-bioc/R/library/Rsamtools/include" -I"C:/Users/biocbuild/bbs-3.6-bioc/R/library/Rcpp/include" -I"C:/local323/include" -O2 -Wall -mtune=generic -c merge.cpp -o merge.o
C:/Rtools/mingw_64/bin/gcc -I"C:/Users/biocbuild/bbs-3.6-bioc/R/library/zlibbioc/include" -I"C:/Users/BIOCBU˜1/BBS-3˜1.6-B/R/include" -DNDEBUG -D_USE_KNETFILE -DBGZF_CACHE -D_FILE_OFFSET_BITS=64 -D_LARGEFILE64_SOURCE -I"C:/Users/biocbuild/bbs-3.6-bioc/R/library/zlibbioc/include" -I"C:/Users/biocbuild/bbs-3.6-bioc/R/library/Rsamtools/include" -I"C:/Users/biocbuild/bbs-3.6-bioc/R/library/Rcpp/include" -I"C:/local323/include" -O2 -Wall -std=gnu99 -mtune=generic -c mergeOne.c -o mergeOne.o
C:/Rtools/mingw_64/bin/g++ -I"C:/Users/biocbuild/bbs-3.6-bioc/R/library/zlibbioc/include" -I"C:/Users/BIOCBU˜1/BBS-3˜1.6-B/R/include" -DNDEBUG -D_USE_KNETFILE -DBGZF_CACHE -D_FILE_OFFSET_BITS=64 -D_LARGEFILE64_SOURCE -I"C:/Users/biocbuild/bbs-3.6-bioc/R/library/zlibbioc/include" -I"C:/Users/biocbuild/bbs-3.6-bioc/R/library/Rsamtools/include" -I"C:/Users/biocbuild/bbs-3.6-bioc/R/library/Rcpp/include" -I"C:/local323/include" -O2 -Wall -mtune=generic -c nodeGroup.cpp -o nodeGroup.o
C:/Rtools/mingw_64/bin/g++ -I"C:/Users/biocbuild/bbs-3.6-bioc/R/library/zlibbioc/include" -I"C:/Users/BIOCBU˜1/BBS-3˜1.6-B/R/include" -DNDEBUG -D_USE_KNETFILE -DBGZF_CACHE -D_FILE_OFFSET_BITS=64 -D_LARGEFILE64_SOURCE -I"C:/Users/biocbuild/bbs-3.6-bioc/R/library/zlibbioc/include" -I"C:/Users/biocbuild/bbs-3.6-bioc/R/library/Rsamtools/include" -I"C:/Users/biocbuild/bbs-3.6-bioc/R/library/Rcpp/include" -I"C:/local323/include" -O2 -Wall -mtune=generic -c peakOrder.cpp -o peakOrder.o
C:/Rtools/mingw_64/bin/g++ -I"C:/Users/biocbuild/bbs-3.6-bioc/R/library/zlibbioc/include" -I"C:/Users/BIOCBU˜1/BBS-3˜1.6-B/R/include" -DNDEBUG -D_USE_KNETFILE -DBGZF_CACHE -D_FILE_OFFSET_BITS=64 -D_LARGEFILE64_SOURCE -I"C:/Users/biocbuild/bbs-3.6-bioc/R/library/zlibbioc/include" -I"C:/Users/biocbuild/bbs-3.6-bioc/R/library/Rsamtools/include" -I"C:/Users/biocbuild/bbs-3.6-bioc/R/library/Rcpp/include" -I"C:/local323/include" -O2 -Wall -mtune=generic -c reader.cpp -o reader.o
C:/Rtools/mingw_64/bin/g++ -I"C:/Users/biocbuild/bbs-3.6-bioc/R/library/zlibbioc/include" -I"C:/Users/BIOCBU˜1/BBS-3˜1.6-B/R/include" -DNDEBUG -D_USE_KNETFILE -DBGZF_CACHE -D_FILE_OFFSET_BITS=64 -D_LARGEFILE64_SOURCE -I"C:/Users/biocbuild/bbs-3.6-bioc/R/library/zlibbioc/include" -I"C:/Users/biocbuild/bbs-3.6-bioc/R/library/Rsamtools/include" -I"C:/Users/biocbuild/bbs-3.6-bioc/R/library/Rcpp/include" -I"C:/local323/include" -O2 -Wall -mtune=generic -c sequence.cpp -o sequence.o
C:/Rtools/mingw_64/bin/g++ -I"C:/Users/biocbuild/bbs-3.6-bioc/R/library/zlibbioc/include" -I"C:/Users/BIOCBU˜1/BBS-3˜1.6-B/R/include" -DNDEBUG -D_USE_KNETFILE -DBGZF_CACHE -D_FILE_OFFSET_BITS=64 -D_LARGEFILE64_SOURCE -I"C:/Users/biocbuild/bbs-3.6-bioc/R/library/zlibbioc/include" -I"C:/Users/biocbuild/bbs-3.6-bioc/R/library/Rsamtools/include" -I"C:/Users/biocbuild/bbs-3.6-bioc/R/library/Rcpp/include" -I"C:/local323/include" -O2 -Wall -mtune=generic -c util.cpp -o util.o
C:/Rtools/mingw_64/bin/g++ -shared -s -static-libgcc -o DiffBind.dll tmp.def RcppExports.o bamReader.o bedReader.o bitBucket.o croi_func.o croi_main.o densitySet.o iBucket.o interval.o intervalDensity.o intervalNode.o intervalSet.o intervalTree.o merge.o mergeOne.o nodeGroup.o peakOrder.o reader.o sequence.o util.o C:/Users/biocbuild/bbs-3.6-bioc/R/library/Rsamtools/usrlib/x64/libbam.a C:/Users/biocbuild/bbs-3.6-bioc/R/library/Rsamtools/usrlib/x64/libbam.a C:/Users/biocbuild/bbs-3.6-bioc/R/library/Rsamtools/usrlib/x64/libbcf.a C:/Users/biocbuild/bbs-3.6-bioc/R/library/Rsamtools/usrlib/x64/libtabix.a -lws2_32 -pthread -LC:/Users/biocbuild/bbs-3.6-bioc/R/library/zlibbioc/libs/x64 -lzlib1bioc -LC:/local323/lib/x64 -LC:/local323/lib -LC:/Users/BIOCBU˜1/BBS-3˜1.6-B/R/bin/x64 -lR
installing to C:/Users/biocbuild/bbs-3.6-bioc/meat/DiffBind.buildbin-libdir/DiffBind/libs/x64
** testing if installed package can be loaded
* MD5 sums
packaged installation of 'DiffBind' as DiffBind_2.6.6.zip
* DONE (DiffBind)
In R CMD INSTALL
In R CMD INSTALL
|
DiffBind.Rcheck/tests_i386/testthat.Rout
R version 3.4.4 (2018-03-15) -- "Someone to Lean On"
Copyright (C) 2018 The R Foundation for Statistical Computing
Platform: i386-w64-mingw32/i386 (32-bit)
R is free software and comes with ABSOLUTELY NO WARRANTY.
You are welcome to redistribute it under certain conditions.
Type 'license()' or 'licence()' for distribution details.
R is a collaborative project with many contributors.
Type 'contributors()' for more information and
'citation()' on how to cite R or R packages in publications.
Type 'demo()' for some demos, 'help()' for on-line help, or
'help.start()' for an HTML browser interface to help.
Type 'q()' to quit R.
> library(testthat)
> library(DiffBind)
Loading required package: GenomicRanges
Loading required package: stats4
Loading required package: BiocGenerics
Loading required package: parallel
Attaching package: 'BiocGenerics'
The following objects are masked from 'package:parallel':
clusterApply, clusterApplyLB, clusterCall, clusterEvalQ,
clusterExport, clusterMap, parApply, parCapply, parLapply,
parLapplyLB, parRapply, parSapply, parSapplyLB
The following objects are masked from 'package:stats':
IQR, mad, sd, var, xtabs
The following objects are masked from 'package:base':
Filter, Find, Map, Position, Reduce, anyDuplicated, append,
as.data.frame, cbind, colMeans, colSums, colnames, do.call,
duplicated, eval, evalq, get, grep, grepl, intersect, is.unsorted,
lapply, lengths, mapply, match, mget, order, paste, pmax, pmax.int,
pmin, pmin.int, rank, rbind, rowMeans, rowSums, rownames, sapply,
setdiff, sort, table, tapply, union, unique, unsplit, which,
which.max, which.min
Loading required package: S4Vectors
Attaching package: 'S4Vectors'
The following object is masked from 'package:base':
expand.grid
Loading required package: IRanges
Loading required package: GenomeInfoDb
Loading required package: SummarizedExperiment
Loading required package: Biobase
Welcome to Bioconductor
Vignettes contain introductory material; view with
'browseVignettes()'. To cite Bioconductor, see
'citation("Biobase")', and for packages 'citation("pkgname")'.
Loading required package: DelayedArray
Loading required package: matrixStats
Attaching package: 'matrixStats'
The following objects are masked from 'package:Biobase':
anyMissing, rowMedians
Attaching package: 'DelayedArray'
The following objects are masked from 'package:matrixStats':
colMaxs, colMins, colRanges, rowMaxs, rowMins, rowRanges
The following object is masked from 'package:base':
apply
>
> test_check("DiffBind")
== testthat results ===========================================================
OK: 66 SKIPPED: 0 FAILED: 0
>
> proc.time()
user system elapsed
18.76 0.42 19.17
|
DiffBind.Rcheck/tests_x64/testthat.Rout
R version 3.4.4 (2018-03-15) -- "Someone to Lean On"
Copyright (C) 2018 The R Foundation for Statistical Computing
Platform: x86_64-w64-mingw32/x64 (64-bit)
R is free software and comes with ABSOLUTELY NO WARRANTY.
You are welcome to redistribute it under certain conditions.
Type 'license()' or 'licence()' for distribution details.
R is a collaborative project with many contributors.
Type 'contributors()' for more information and
'citation()' on how to cite R or R packages in publications.
Type 'demo()' for some demos, 'help()' for on-line help, or
'help.start()' for an HTML browser interface to help.
Type 'q()' to quit R.
> library(testthat)
> library(DiffBind)
Loading required package: GenomicRanges
Loading required package: stats4
Loading required package: BiocGenerics
Loading required package: parallel
Attaching package: 'BiocGenerics'
The following objects are masked from 'package:parallel':
clusterApply, clusterApplyLB, clusterCall, clusterEvalQ,
clusterExport, clusterMap, parApply, parCapply, parLapply,
parLapplyLB, parRapply, parSapply, parSapplyLB
The following objects are masked from 'package:stats':
IQR, mad, sd, var, xtabs
The following objects are masked from 'package:base':
Filter, Find, Map, Position, Reduce, anyDuplicated, append,
as.data.frame, cbind, colMeans, colSums, colnames, do.call,
duplicated, eval, evalq, get, grep, grepl, intersect, is.unsorted,
lapply, lengths, mapply, match, mget, order, paste, pmax, pmax.int,
pmin, pmin.int, rank, rbind, rowMeans, rowSums, rownames, sapply,
setdiff, sort, table, tapply, union, unique, unsplit, which,
which.max, which.min
Loading required package: S4Vectors
Attaching package: 'S4Vectors'
The following object is masked from 'package:base':
expand.grid
Loading required package: IRanges
Loading required package: GenomeInfoDb
Loading required package: SummarizedExperiment
Loading required package: Biobase
Welcome to Bioconductor
Vignettes contain introductory material; view with
'browseVignettes()'. To cite Bioconductor, see
'citation("Biobase")', and for packages 'citation("pkgname")'.
Loading required package: DelayedArray
Loading required package: matrixStats
Attaching package: 'matrixStats'
The following objects are masked from 'package:Biobase':
anyMissing, rowMedians
Attaching package: 'DelayedArray'
The following objects are masked from 'package:matrixStats':
colMaxs, colMins, colRanges, rowMaxs, rowMins, rowRanges
The following object is masked from 'package:base':
apply
>
> test_check("DiffBind")
== testthat results ===========================================================
OK: 66 SKIPPED: 0 FAILED: 0
>
> proc.time()
user system elapsed
23.12 0.42 23.53
|
|
DiffBind.Rcheck/examples_i386/DiffBind-Ex.timings
|
DiffBind.Rcheck/examples_x64/DiffBind-Ex.timings
|