| Back to Multiple platform build/check report for BioC 3.6 | 
 | 
This page was generated on 2018-04-12 13:09:17 -0400 (Thu, 12 Apr 2018).
| Package 345/1472 | Hostname | OS / Arch | INSTALL | BUILD | CHECK | BUILD BIN | ||||||
| DEGraph 1.30.0 Laurent Jacob 
 | malbec1 | Linux (Ubuntu 16.04.1 LTS) / x86_64 | OK | [ OK ] | OK |  | ||||||
| tokay1 | Windows Server 2012 R2 Standard / x64 | ...NOT SUPPORTED...NOT SUPPORTED...NOT SUPPORTED... | ||||||||||
| veracruz1 | OS X 10.11.6 El Capitan / x86_64 | ...NOT SUPPORTED...NOT SUPPORTED...NOT SUPPORTED... | ||||||||||
| Package: DEGraph | 
| Version: 1.30.0 | 
| Command: /home/biocbuild/bbs-3.6-bioc/R/bin/R CMD build --keep-empty-dirs --no-resave-data DEGraph | 
| StartedAt: 2018-04-11 18:46:19 -0400 (Wed, 11 Apr 2018) | 
| EndedAt: 2018-04-11 18:46:58 -0400 (Wed, 11 Apr 2018) | 
| EllapsedTime: 38.2 seconds | 
| RetCode: 0 | 
| Status: OK | 
| PackageFile: DEGraph_1.30.0.tar.gz | 
| PackageFileSize: 1.571 MiB | 
############################################################################## ############################################################################## ### ### Running command: ### ### /home/biocbuild/bbs-3.6-bioc/R/bin/R CMD build --keep-empty-dirs --no-resave-data DEGraph ### ############################################################################## ############################################################################## * checking for file ‘DEGraph/DESCRIPTION’ ... OK * preparing ‘DEGraph’: * checking DESCRIPTION meta-information ... OK * installing the package to build vignettes * creating vignettes ... OK * checking for LF line-endings in source and make files and shell scripts * checking for empty or unneeded directories * looking to see if a ‘data/datalist’ file should be added * building ‘DEGraph_1.30.0.tar.gz’