| Back to Multiple platform build/check report for BioC 3.6 |
|
This page was generated on 2018-04-12 13:21:56 -0400 (Thu, 12 Apr 2018).
| Package 333/1472 | Hostname | OS / Arch | INSTALL | BUILD | CHECK | BUILD BIN | ||||||
| DBChIP 1.22.0 Kun Liang
| malbec1 | Linux (Ubuntu 16.04.1 LTS) / x86_64 | OK | OK | OK | |||||||
| tokay1 | Windows Server 2012 R2 Standard / x64 | [ OK ] | OK | OK | OK | |||||||
| veracruz1 | OS X 10.11.6 El Capitan / x86_64 | OK | OK | OK | OK |
| Package: DBChIP |
| Version: 1.22.0 |
| Command: rm -rf DBChIP.buildbin-libdir && mkdir DBChIP.buildbin-libdir && C:\cygwin\bin\curl.exe -O https://malbec1.bioconductor.org/BBS/3.6/bioc/src/contrib/DBChIP_1.22.0.tar.gz && C:\Users\biocbuild\bbs-3.6-bioc\R\bin\R.exe CMD INSTALL --build --library=DBChIP.buildbin-libdir --merge-multiarch DBChIP_1.22.0.tar.gz && C:\Users\biocbuild\bbs-3.6-bioc\R\bin\R.exe CMD INSTALL DBChIP_1.22.0.zip && rm DBChIP_1.22.0.tar.gz DBChIP_1.22.0.zip |
| StartedAt: 2018-04-11 18:36:01 -0400 (Wed, 11 Apr 2018) |
| EndedAt: 2018-04-11 18:36:51 -0400 (Wed, 11 Apr 2018) |
| EllapsedTime: 49.9 seconds |
| RetCode: 0 |
| Status: OK |
##############################################################################
##############################################################################
###
### Running command:
###
### rm -rf DBChIP.buildbin-libdir && mkdir DBChIP.buildbin-libdir && C:\cygwin\bin\curl.exe -O https://malbec1.bioconductor.org/BBS/3.6/bioc/src/contrib/DBChIP_1.22.0.tar.gz && C:\Users\biocbuild\bbs-3.6-bioc\R\bin\R.exe CMD INSTALL --build --library=DBChIP.buildbin-libdir --merge-multiarch DBChIP_1.22.0.tar.gz && C:\Users\biocbuild\bbs-3.6-bioc\R\bin\R.exe CMD INSTALL DBChIP_1.22.0.zip && rm DBChIP_1.22.0.tar.gz DBChIP_1.22.0.zip
###
##############################################################################
##############################################################################
% Total % Received % Xferd Average Speed Time Time Time Current
Dload Upload Total Spent Left Speed
0 0 0 0 0 0 0 0 --:--:-- --:--:-- --:--:-- 0
100 1747k 100 1747k 0 0 45.2M 0 --:--:-- --:--:-- --:--:-- 50.1M
install for i386
* installing *source* package 'DBChIP' ...
** R
** data
** inst
** preparing package for lazy loading
** help
*** installing help indices
converting help for package 'DBChIP'
finding HTML links ... done
DBChIP-package html
DBChIP html
PHA4 html
binding.site.list html
chip.data.list html
conds html
get.site.count html
input.data.list html
load.data html
plotPeak html
read.binding.site.list html
report.peak html
site.merge html
test.diff.binding html
** building package indices
** installing vignettes
** testing if installed package can be loaded
In R CMD INSTALL
install for x64
* installing *source* package 'DBChIP' ...
** testing if installed package can be loaded
* MD5 sums
packaged installation of 'DBChIP' as DBChIP_1.22.0.zip
* DONE (DBChIP)
In R CMD INSTALL
In R CMD INSTALL
* installing to library 'C:/Users/biocbuild/bbs-3.6-bioc/R/library'
package 'DBChIP' successfully unpacked and MD5 sums checked
In R CMD INSTALL