| Back to Multiple platform build/check report for BioC 3.6 |
|
This page was generated on 2018-04-12 13:37:04 -0400 (Thu, 12 Apr 2018).
| Package 129/1472 | Hostname | OS / Arch | INSTALL | BUILD | CHECK | BUILD BIN | ||||||
| BiocStyle 2.6.1 Bioconductor Package Maintainer
| malbec1 | Linux (Ubuntu 16.04.1 LTS) / x86_64 | OK | OK | OK | |||||||
| tokay1 | Windows Server 2012 R2 Standard / x64 | OK | OK | OK | OK | |||||||
| veracruz1 | OS X 10.11.6 El Capitan / x86_64 | OK | OK | OK | [ OK ] |
| Package: BiocStyle |
| Version: 2.6.1 |
| Command: rm -rf BiocStyle.buildbin-libdir && mkdir BiocStyle.buildbin-libdir && /Users/biocbuild/BBS/utils/build-universal.sh BiocStyle_2.6.1.tar.gz /Library/Frameworks/R.framework/Versions/Current/Resources/bin/R BiocStyle.buildbin-libdir |
| StartedAt: 2018-04-12 11:10:08 -0400 (Thu, 12 Apr 2018) |
| EndedAt: 2018-04-12 11:10:24 -0400 (Thu, 12 Apr 2018) |
| EllapsedTime: 16.1 seconds |
| RetCode: 0 |
| Status: OK |
| PackageFile: BiocStyle_2.6.1.tgz |
| PackageFileSize: 900 KiB |
############################################################################## ############################################################################## ### ### Running command: ### ### rm -rf BiocStyle.buildbin-libdir && mkdir BiocStyle.buildbin-libdir && /Users/biocbuild/BBS/utils/build-universal.sh BiocStyle_2.6.1.tar.gz /Library/Frameworks/R.framework/Versions/Current/Resources/bin/R BiocStyle.buildbin-libdir ### ############################################################################## ############################################################################## >>>>>>> >>>>>>> INSTALLATION WITH 'R CMD INSTALL --preclean --no-multiarch --library=BiocStyle.buildbin-libdir BiocStyle_2.6.1.tar.gz' >>>>>>> * installing *source* package ‘BiocStyle’ ... ** R ** inst ** preparing package for lazy loading ** help *** installing help indices ** building package indices ** installing vignettes ** testing if installed package can be loaded * DONE (BiocStyle)