| Back to Multiple platform build/check report for BioC 3.6 |
|
This page was generated on 2018-04-12 13:12:04 -0400 (Thu, 12 Apr 2018).
| Package 121/1472 | Hostname | OS / Arch | INSTALL | BUILD | CHECK | BUILD BIN | ||||||
| BiocCheck 1.14.0 Bioconductor Package Maintainer
| malbec1 | Linux (Ubuntu 16.04.1 LTS) / x86_64 | OK | [ OK ] | OK | |||||||
| tokay1 | Windows Server 2012 R2 Standard / x64 | OK | OK | OK | OK | |||||||
| veracruz1 | OS X 10.11.6 El Capitan / x86_64 | OK | OK | OK | OK |
| Package: BiocCheck |
| Version: 1.14.0 |
| Command: /home/biocbuild/bbs-3.6-bioc/R/bin/R CMD build --keep-empty-dirs --no-resave-data BiocCheck |
| StartedAt: 2018-04-11 19:29:44 -0400 (Wed, 11 Apr 2018) |
| EndedAt: 2018-04-11 19:29:54 -0400 (Wed, 11 Apr 2018) |
| EllapsedTime: 9.5 seconds |
| RetCode: 0 |
| Status: OK |
| PackageFile: BiocCheck_1.14.0.tar.gz |
| PackageFileSize: 4.134 MiB |
############################################################################## ############################################################################## ### ### Running command: ### ### /home/biocbuild/bbs-3.6-bioc/R/bin/R CMD build --keep-empty-dirs --no-resave-data BiocCheck ### ############################################################################## ############################################################################## * checking for file ‘BiocCheck/DESCRIPTION’ ... OK * preparing ‘BiocCheck’: * checking DESCRIPTION meta-information ... OK * installing the package to build vignettes * creating vignettes ... OK * checking for LF line-endings in source and make files and shell scripts * checking for empty or unneeded directories * building ‘BiocCheck_1.14.0.tar.gz’