| Back to Multiple platform build/check report for BioC 3.6 | 
 | 
This page was generated on 2018-04-12 13:19:24 -0400 (Thu, 12 Apr 2018).
| Package 64/1472 | Hostname | OS / Arch | INSTALL | BUILD | CHECK | BUILD BIN | ||||||
| ArrayExpress 1.38.0 Ugis Sarkans 
 | malbec1 | Linux (Ubuntu 16.04.1 LTS) / x86_64 | OK | OK | OK |  | ||||||
| tokay1 | Windows Server 2012 R2 Standard / x64 | [ OK ] | OK | OK | OK |  | ||||||
| veracruz1 | OS X 10.11.6 El Capitan / x86_64 | OK | OK | OK | OK |  | 
| Package: ArrayExpress | 
| Version: 1.38.0 | 
| Command: rm -rf ArrayExpress.buildbin-libdir && mkdir ArrayExpress.buildbin-libdir && C:\cygwin\bin\curl.exe -O https://malbec1.bioconductor.org/BBS/3.6/bioc/src/contrib/ArrayExpress_1.38.0.tar.gz && C:\Users\biocbuild\bbs-3.6-bioc\R\bin\R.exe CMD INSTALL --build --library=ArrayExpress.buildbin-libdir --merge-multiarch ArrayExpress_1.38.0.tar.gz && C:\Users\biocbuild\bbs-3.6-bioc\R\bin\R.exe CMD INSTALL ArrayExpress_1.38.0.zip && rm ArrayExpress_1.38.0.tar.gz ArrayExpress_1.38.0.zip | 
| StartedAt: 2018-04-11 18:45:37 -0400 (Wed, 11 Apr 2018) | 
| EndedAt: 2018-04-11 18:46:18 -0400 (Wed, 11 Apr 2018) | 
| EllapsedTime: 40.8 seconds | 
| RetCode: 0 | 
| Status: OK | 
##############################################################################
##############################################################################
###
### Running command:
###
###   rm -rf ArrayExpress.buildbin-libdir && mkdir ArrayExpress.buildbin-libdir  && C:\cygwin\bin\curl.exe -O https://malbec1.bioconductor.org/BBS/3.6/bioc/src/contrib/ArrayExpress_1.38.0.tar.gz && C:\Users\biocbuild\bbs-3.6-bioc\R\bin\R.exe CMD INSTALL --build --library=ArrayExpress.buildbin-libdir --merge-multiarch ArrayExpress_1.38.0.tar.gz && C:\Users\biocbuild\bbs-3.6-bioc\R\bin\R.exe CMD INSTALL ArrayExpress_1.38.0.zip  && rm ArrayExpress_1.38.0.tar.gz ArrayExpress_1.38.0.zip
###
##############################################################################
##############################################################################
  % Total    % Received % Xferd  Average Speed   Time    Time     Time  Current
                                 Dload  Upload   Total   Spent    Left  Speed
  0     0    0     0    0     0      0      0 --:--:-- --:--:-- --:--:--     0
100 41608  100 41608    0     0  1195k      0 --:--:-- --:--:-- --:--:-- 1354k
install for i386
* installing *source* package 'ArrayExpress' ...
** R
** inst
** preparing package for lazy loading
** help
*** installing help indices
  converting help for package 'ArrayExpress'
    finding HTML links ... done
    ArrayExpress                            html  
    ae2bioc                                 html  
    extract.zip                             html  
    getAE                                   html  
    getcolproc                              html  
    getcolraw                               html  
    procset                                 html  
    queryAE                                 html  
** building package indices
** installing vignettes
** testing if installed package can be loaded
In R CMD INSTALL
install for x64
* installing *source* package 'ArrayExpress' ...
** testing if installed package can be loaded
* MD5 sums
packaged installation of 'ArrayExpress' as ArrayExpress_1.38.0.zip
* DONE (ArrayExpress)
In R CMD INSTALL
In R CMD INSTALL
* installing to library 'C:/Users/biocbuild/bbs-3.6-bioc/R/library'
package 'ArrayExpress' successfully unpacked and MD5 sums checked
In R CMD INSTALL