| Back to Multiple platform build/check report for BioC 3.6 |
|
This page was generated on 2018-04-12 13:22:42 -0400 (Thu, 12 Apr 2018).
| Package 54/1472 | Hostname | OS / Arch | INSTALL | BUILD | CHECK | BUILD BIN | ||||||
| AnnotationHub 2.10.1 Bioconductor Package Maintainer
| malbec1 | Linux (Ubuntu 16.04.1 LTS) / x86_64 | OK | OK | OK | |||||||
| tokay1 | Windows Server 2012 R2 Standard / x64 | OK | [ OK ] | OK | OK | |||||||
| veracruz1 | OS X 10.11.6 El Capitan / x86_64 | OK | OK | OK | OK |
| Package: AnnotationHub |
| Version: 2.10.1 |
| Command: chmod a+r AnnotationHub -R && C:\Users\biocbuild\bbs-3.6-bioc\R\bin\R.exe CMD build --keep-empty-dirs --no-resave-data AnnotationHub |
| StartedAt: 2018-04-11 19:59:06 -0400 (Wed, 11 Apr 2018) |
| EndedAt: 2018-04-11 20:02:05 -0400 (Wed, 11 Apr 2018) |
| EllapsedTime: 179.6 seconds |
| RetCode: 0 |
| Status: OK |
| PackageFile: AnnotationHub_2.10.1.tar.gz |
| PackageFileSize: 1.009 MiB |
##############################################################################
##############################################################################
###
### Running command:
###
### chmod a+r AnnotationHub -R && C:\Users\biocbuild\bbs-3.6-bioc\R\bin\R.exe CMD build --keep-empty-dirs --no-resave-data AnnotationHub
###
##############################################################################
##############################################################################
* checking for file 'AnnotationHub/DESCRIPTION' ... OK
* preparing 'AnnotationHub':
* checking DESCRIPTION meta-information ... OK
* installing the package to build vignettes
* creating vignettes ... OK
Warning: 'inst/doc' file
'AnnotationHub-HOWTO.R'
ignored as vignettes have been rebuilt.
Run R CMD build with --no-build-vignettes to prevent rebuilding.
* checking for LF line-endings in source and make files and shell scripts
* checking for empty or unneeded directories
* building 'AnnotationHub_2.10.1.tar.gz'