| Back to Multiple platform build/check report for BioC 3.6 |
|
This page was generated on 2018-04-12 13:20:44 -0400 (Thu, 12 Apr 2018).
| Package 53/1472 | Hostname | OS / Arch | INSTALL | BUILD | CHECK | BUILD BIN | ||||||
| AnnotationFuncs 1.28.0 Stefan McKinnon Edwards
| malbec1 | Linux (Ubuntu 16.04.1 LTS) / x86_64 | OK | OK | OK | |||||||
| tokay1 | Windows Server 2012 R2 Standard / x64 | [ OK ] | OK | OK | OK | |||||||
| veracruz1 | OS X 10.11.6 El Capitan / x86_64 | OK | OK | OK | OK |
| Package: AnnotationFuncs |
| Version: 1.28.0 |
| Command: rm -rf AnnotationFuncs.buildbin-libdir && mkdir AnnotationFuncs.buildbin-libdir && C:\cygwin\bin\curl.exe -O https://malbec1.bioconductor.org/BBS/3.6/bioc/src/contrib/AnnotationFuncs_1.28.0.tar.gz && C:\Users\biocbuild\bbs-3.6-bioc\R\bin\R.exe CMD INSTALL --build --library=AnnotationFuncs.buildbin-libdir --merge-multiarch AnnotationFuncs_1.28.0.tar.gz && C:\Users\biocbuild\bbs-3.6-bioc\R\bin\R.exe CMD INSTALL AnnotationFuncs_1.28.0.zip && rm AnnotationFuncs_1.28.0.tar.gz AnnotationFuncs_1.28.0.zip |
| StartedAt: 2018-04-11 18:26:02 -0400 (Wed, 11 Apr 2018) |
| EndedAt: 2018-04-11 18:26:45 -0400 (Wed, 11 Apr 2018) |
| EllapsedTime: 43.2 seconds |
| RetCode: 0 |
| Status: OK |
##############################################################################
##############################################################################
###
### Running command:
###
### rm -rf AnnotationFuncs.buildbin-libdir && mkdir AnnotationFuncs.buildbin-libdir && C:\cygwin\bin\curl.exe -O https://malbec1.bioconductor.org/BBS/3.6/bioc/src/contrib/AnnotationFuncs_1.28.0.tar.gz && C:\Users\biocbuild\bbs-3.6-bioc\R\bin\R.exe CMD INSTALL --build --library=AnnotationFuncs.buildbin-libdir --merge-multiarch AnnotationFuncs_1.28.0.tar.gz && C:\Users\biocbuild\bbs-3.6-bioc\R\bin\R.exe CMD INSTALL AnnotationFuncs_1.28.0.zip && rm AnnotationFuncs_1.28.0.tar.gz AnnotationFuncs_1.28.0.zip
###
##############################################################################
##############################################################################
% Total % Received % Xferd Average Speed Time Time Time Current
Dload Upload Total Spent Left Speed
0 0 0 0 0 0 0 0 --:--:-- --:--:-- --:--:-- 0
100 22554 100 22554 0 0 941k 0 --:--:-- --:--:-- --:--:-- 1101k
install for i386
* installing *source* package 'AnnotationFuncs' ...
** R
** inst
** preparing package for lazy loading
** help
*** installing help indices
converting help for package 'AnnotationFuncs'
finding HTML links ... done
AnnotationFuncs-package html
dbEscapeString2 html
getEvidenceCodes html
getOrthologs html
getTableName2 html
mapLists html
pickGO html
pickRef2 html
pickRefSeq html
removeNAs html
translate html
** building package indices
** installing vignettes
** testing if installed package can be loaded
In R CMD INSTALL
install for x64
* installing *source* package 'AnnotationFuncs' ...
** testing if installed package can be loaded
* MD5 sums
packaged installation of 'AnnotationFuncs' as AnnotationFuncs_1.28.0.zip
* DONE (AnnotationFuncs)
In R CMD INSTALL
In R CMD INSTALL
* installing to library 'C:/Users/biocbuild/bbs-3.6-bioc/R/library'
package 'AnnotationFuncs' successfully unpacked and MD5 sums checked
In R CMD INSTALL