| Back to Multiple platform build/check report for BioC 3.6 | 
 | 
This page was generated on 2018-04-12 13:21:52 -0400 (Thu, 12 Apr 2018).
| Package 52/1472 | Hostname | OS / Arch | INSTALL | BUILD | CHECK | BUILD BIN | ||||||
| AnnotationForge 1.20.0 Bioconductor Package Maintainer 
 | malbec1 | Linux (Ubuntu 16.04.1 LTS) / x86_64 | OK | OK | OK |  | ||||||
| tokay1 | Windows Server 2012 R2 Standard / x64 | [ OK ] | OK | OK | OK |  | ||||||
| veracruz1 | OS X 10.11.6 El Capitan / x86_64 | OK | OK | OK | OK |  | 
| Package: AnnotationForge | 
| Version: 1.20.0 | 
| Command: rm -rf AnnotationForge.buildbin-libdir && mkdir AnnotationForge.buildbin-libdir && C:\cygwin\bin\curl.exe -O https://malbec1.bioconductor.org/BBS/3.6/bioc/src/contrib/AnnotationForge_1.20.0.tar.gz && C:\Users\biocbuild\bbs-3.6-bioc\R\bin\R.exe CMD INSTALL --build --library=AnnotationForge.buildbin-libdir --merge-multiarch AnnotationForge_1.20.0.tar.gz && C:\Users\biocbuild\bbs-3.6-bioc\R\bin\R.exe CMD INSTALL AnnotationForge_1.20.0.zip && rm AnnotationForge_1.20.0.tar.gz AnnotationForge_1.20.0.zip | 
| StartedAt: 2018-04-11 18:26:18 -0400 (Wed, 11 Apr 2018) | 
| EndedAt: 2018-04-11 18:33:40 -0400 (Wed, 11 Apr 2018) | 
| EllapsedTime: 441.9 seconds | 
| RetCode: 0 | 
| Status: OK | 
##############################################################################
##############################################################################
###
### Running command:
###
###   rm -rf AnnotationForge.buildbin-libdir && mkdir AnnotationForge.buildbin-libdir  && C:\cygwin\bin\curl.exe -O https://malbec1.bioconductor.org/BBS/3.6/bioc/src/contrib/AnnotationForge_1.20.0.tar.gz && C:\Users\biocbuild\bbs-3.6-bioc\R\bin\R.exe CMD INSTALL --build --library=AnnotationForge.buildbin-libdir --merge-multiarch AnnotationForge_1.20.0.tar.gz && C:\Users\biocbuild\bbs-3.6-bioc\R\bin\R.exe CMD INSTALL AnnotationForge_1.20.0.zip  && rm AnnotationForge_1.20.0.tar.gz AnnotationForge_1.20.0.zip
###
##############################################################################
##############################################################################
  % Total    % Received % Xferd  Average Speed   Time    Time     Time  Current
                                 Dload  Upload   Total   Spent    Left  Speed
  0     0    0     0    0     0      0      0 --:--:-- --:--:-- --:--:--     0
100 3284k  100 3284k    0     0  61.4M      0 --:--:-- --:--:-- --:--:-- 65.4M
install for i386
* installing *source* package 'AnnotationForge' ...
** R
** inst
** preparing package for lazy loading
** help
*** installing help indices
  converting help for package 'AnnotationForge'
    finding HTML links ... done
    AnnDbPkg-maker                          html  
    finding level-2 HTML links ... done
    available.db0pkgs                       html  
    generateSeqnames_db                     html  
    getProbeDataAffy                        html  
    getProbeData_1lq                        html  
    makeChipPackageFromDataFrames           html  
    makeInpDb                               html  
    makeOrgPackage                          html  
    makeOrgPackageFromNCBI                  html  
    makeProbePackage                        html  
    sqlForge-makeCHIPDB                     html  
    sqlForge-popDB                          html  
    sqlForge-wrapDBPackages                 html  
** building package indices
** installing vignettes
** testing if installed package can be loaded
In R CMD INSTALL
install for x64
* installing *source* package 'AnnotationForge' ...
** testing if installed package can be loaded
* MD5 sums
packaged installation of 'AnnotationForge' as AnnotationForge_1.20.0.zip
* DONE (AnnotationForge)
In R CMD INSTALL
In R CMD INSTALL
* installing to library 'C:/Users/biocbuild/bbs-3.6-bioc/R/library'
package 'AnnotationForge' successfully unpacked and MD5 sums checked
In R CMD INSTALL