| Back to Multiple platform build/check report for BioC 3.6 |
|
This page was generated on 2018-04-12 13:17:12 -0400 (Thu, 12 Apr 2018).
| Package 1458/1472 | Hostname | OS / Arch | INSTALL | BUILD | CHECK | BUILD BIN | ||||||
| widgetTools 1.56.0 Jianhua Zhang
| malbec1 | Linux (Ubuntu 16.04.1 LTS) / x86_64 | OK | OK | OK | |||||||
| tokay1 | Windows Server 2012 R2 Standard / x64 | [ OK ] | OK | OK | OK | |||||||
| veracruz1 | OS X 10.11.6 El Capitan / x86_64 | OK | OK | OK | OK |
| Package: widgetTools |
| Version: 1.56.0 |
| Command: rm -rf widgetTools.buildbin-libdir && mkdir widgetTools.buildbin-libdir && C:\cygwin\bin\curl.exe -O https://malbec1.bioconductor.org/BBS/3.6/bioc/src/contrib/widgetTools_1.56.0.tar.gz && C:\Users\biocbuild\bbs-3.6-bioc\R\bin\R.exe CMD INSTALL --build --library=widgetTools.buildbin-libdir --merge-multiarch widgetTools_1.56.0.tar.gz && C:\Users\biocbuild\bbs-3.6-bioc\R\bin\R.exe CMD INSTALL widgetTools_1.56.0.zip && rm widgetTools_1.56.0.tar.gz widgetTools_1.56.0.zip |
| StartedAt: 2018-04-11 18:12:22 -0400 (Wed, 11 Apr 2018) |
| EndedAt: 2018-04-11 18:14:55 -0400 (Wed, 11 Apr 2018) |
| EllapsedTime: 153.3 seconds |
| RetCode: 0 |
| Status: OK |
##############################################################################
##############################################################################
###
### Running command:
###
### rm -rf widgetTools.buildbin-libdir && mkdir widgetTools.buildbin-libdir && C:\cygwin\bin\curl.exe -O https://malbec1.bioconductor.org/BBS/3.6/bioc/src/contrib/widgetTools_1.56.0.tar.gz && C:\Users\biocbuild\bbs-3.6-bioc\R\bin\R.exe CMD INSTALL --build --library=widgetTools.buildbin-libdir --merge-multiarch widgetTools_1.56.0.tar.gz && C:\Users\biocbuild\bbs-3.6-bioc\R\bin\R.exe CMD INSTALL widgetTools_1.56.0.zip && rm widgetTools_1.56.0.tar.gz widgetTools_1.56.0.zip
###
##############################################################################
##############################################################################
% Total % Received % Xferd Average Speed Time Time Time Current
Dload Upload Total Spent Left Speed
0 0 0 0 0 0 0 0 --:--:-- --:--:-- --:--:-- 0
45 36034 45 16384 0 0 35022 0 0:00:01 --:--:-- 0:00:01 35234
100 36034 100 36034 0 0 76982 0 --:--:-- --:--:-- --:--:-- 77326
install for i386
* installing *source* package 'widgetTools' ...
** R
** preparing package for lazy loading
** help
*** installing help indices
converting help for package 'widgetTools'
finding HTML links ... done
basicPW-class html
button html
dropdownList html
makeViewer html
oneVScrList html
safeFileOpen html
tooltip html
widget-class html
widgetView-class html
writeText html
** building package indices
** installing vignettes
** testing if installed package can be loaded
In R CMD INSTALL
install for x64
* installing *source* package 'widgetTools' ...
** testing if installed package can be loaded
* MD5 sums
packaged installation of 'widgetTools' as widgetTools_1.56.0.zip
* DONE (widgetTools)
In R CMD INSTALL
In R CMD INSTALL
* installing to library 'C:/Users/biocbuild/bbs-3.6-bioc/R/library'
package 'widgetTools' successfully unpacked and MD5 sums checked
In R CMD INSTALL