| Back to Multiple platform build/check report for BioC 3.6 | 
  | 
This page was generated on 2018-04-12 13:32:10 -0400 (Thu, 12 Apr 2018).
| Package 1340/1472 | Hostname | OS / Arch | INSTALL | BUILD | CHECK | BUILD BIN | ||||||
| splots 1.44.0 Wolfgang Huber 
  | malbec1 | Linux (Ubuntu 16.04.1 LTS) / x86_64 | OK | OK | OK | |||||||
| tokay1 | Windows Server 2012 R2 Standard / x64 | OK | OK | OK | OK | |||||||
| veracruz1 | OS X 10.11.6 El Capitan / x86_64 | OK | OK | OK | [ OK ] | 
| Package: splots | 
| Version: 1.44.0 | 
| Command: rm -rf splots.buildbin-libdir && mkdir splots.buildbin-libdir && /Users/biocbuild/BBS/utils/build-universal.sh splots_1.44.0.tar.gz /Library/Frameworks/R.framework/Versions/Current/Resources/bin/R splots.buildbin-libdir | 
| StartedAt: 2018-04-12 12:17:49 -0400 (Thu, 12 Apr 2018) | 
| EndedAt: 2018-04-12 12:17:54 -0400 (Thu, 12 Apr 2018) | 
| EllapsedTime: 5.4 seconds | 
| RetCode: 0 | 
| Status: OK | 
| PackageFile: splots_1.44.0.tgz | 
| PackageFileSize: 130.6 KiB | 
############################################################################## ############################################################################## ### ### Running command: ### ### rm -rf splots.buildbin-libdir && mkdir splots.buildbin-libdir && /Users/biocbuild/BBS/utils/build-universal.sh splots_1.44.0.tar.gz /Library/Frameworks/R.framework/Versions/Current/Resources/bin/R splots.buildbin-libdir ### ############################################################################## ############################################################################## >>>>>>> >>>>>>> INSTALLATION WITH 'R CMD INSTALL --preclean --no-multiarch --library=splots.buildbin-libdir splots_1.44.0.tar.gz' >>>>>>> * installing *source* package ‘splots’ ... ** R ** inst ** preparing package for lazy loading ** help *** installing help indices ** building package indices ** installing vignettes ** testing if installed package can be loaded * DONE (splots)