| Back to Multiple platform build/check report for BioC 3.6 | 
 | 
This page was generated on 2018-04-12 13:12:43 -0400 (Thu, 12 Apr 2018).
| Package 1303/1472 | Hostname | OS / Arch | INSTALL | BUILD | CHECK | BUILD BIN | ||||||
| simulatorZ 1.12.0 Yuqing Zhang 
 | malbec1 | Linux (Ubuntu 16.04.1 LTS) / x86_64 | [ OK ] | OK | OK |  | ||||||
| tokay1 | Windows Server 2012 R2 Standard / x64 | OK | OK | OK | OK |  | ||||||
| veracruz1 | OS X 10.11.6 El Capitan / x86_64 | OK | OK | OK | OK |  | 
| Package: simulatorZ | 
| Version: 1.12.0 | 
| Command: /home/biocbuild/bbs-3.6-bioc/R/bin/R CMD INSTALL simulatorZ | 
| StartedAt: 2018-04-11 18:04:13 -0400 (Wed, 11 Apr 2018) | 
| EndedAt: 2018-04-11 18:04:26 -0400 (Wed, 11 Apr 2018) | 
| EllapsedTime: 12.4 seconds | 
| RetCode: 0 | 
| Status: OK | 
############################################################################## ############################################################################## ### ### Running command: ### ### /home/biocbuild/bbs-3.6-bioc/R/bin/R CMD INSTALL simulatorZ ### ############################################################################## ############################################################################## * installing to library ‘/home/biocbuild/bbs-3.6-bioc/R/library’ * installing *source* package ‘simulatorZ’ ... ** libs g++ -I/home/biocbuild/bbs-3.6-bioc/R/include -DNDEBUG -I/usr/local/include -fpic -g -O2 -Wall -c coxformatrices.cpp -o coxformatrices.o g++ -shared -L/home/biocbuild/bbs-3.6-bioc/R/lib -L/usr/local/lib -o simulatorZ.so coxformatrices.o -L/home/biocbuild/bbs-3.6-bioc/R/lib -lR installing to /home/biocbuild/bbs-3.6-bioc/R/library/simulatorZ/libs ** R ** inst ** preparing package for lazy loading ** help *** installing help indices ** building package indices ** installing vignettes ** testing if installed package can be loaded * DONE (simulatorZ)