| Back to Multiple platform build/check report for BioC 3.6 |
|
This page was generated on 2018-04-12 13:30:44 -0400 (Thu, 12 Apr 2018).
| Package 1173/1472 | Hostname | OS / Arch | INSTALL | BUILD | CHECK | BUILD BIN | ||||||
| rhdf5client 1.0.7 Samuela Pollack
| malbec1 | Linux (Ubuntu 16.04.1 LTS) / x86_64 | OK | OK | OK | |||||||
| tokay1 | Windows Server 2012 R2 Standard / x64 | OK | OK | [ OK ] | OK | |||||||
| veracruz1 | OS X 10.11.6 El Capitan / x86_64 | OK | OK | OK | OK |
| Package: rhdf5client |
| Version: 1.0.7 |
| Command: rm -rf rhdf5client.buildbin-libdir rhdf5client.Rcheck && mkdir rhdf5client.buildbin-libdir rhdf5client.Rcheck && C:\Users\biocbuild\bbs-3.6-bioc\R\bin\R.exe CMD INSTALL --build --merge-multiarch --library=rhdf5client.buildbin-libdir rhdf5client_1.0.7.tar.gz >rhdf5client.Rcheck\00install.out 2>&1 && cp rhdf5client.Rcheck\00install.out rhdf5client-install.out && C:\Users\biocbuild\bbs-3.6-bioc\R\bin\R.exe CMD check --library=rhdf5client.buildbin-libdir --install="check:rhdf5client-install.out" --force-multiarch --no-vignettes --timings rhdf5client_1.0.7.tar.gz |
| StartedAt: 2018-04-12 02:40:50 -0400 (Thu, 12 Apr 2018) |
| EndedAt: 2018-04-12 02:43:52 -0400 (Thu, 12 Apr 2018) |
| EllapsedTime: 181.7 seconds |
| RetCode: 0 |
| Status: OK |
| CheckDir: rhdf5client.Rcheck |
| Warnings: 0 |
##############################################################################
##############################################################################
###
### Running command:
###
### rm -rf rhdf5client.buildbin-libdir rhdf5client.Rcheck && mkdir rhdf5client.buildbin-libdir rhdf5client.Rcheck && C:\Users\biocbuild\bbs-3.6-bioc\R\bin\R.exe CMD INSTALL --build --merge-multiarch --library=rhdf5client.buildbin-libdir rhdf5client_1.0.7.tar.gz >rhdf5client.Rcheck\00install.out 2>&1 && cp rhdf5client.Rcheck\00install.out rhdf5client-install.out && C:\Users\biocbuild\bbs-3.6-bioc\R\bin\R.exe CMD check --library=rhdf5client.buildbin-libdir --install="check:rhdf5client-install.out" --force-multiarch --no-vignettes --timings rhdf5client_1.0.7.tar.gz
###
##############################################################################
##############################################################################
* using log directory 'C:/Users/biocbuild/bbs-3.6-bioc/meat/rhdf5client.Rcheck'
* using R version 3.4.4 (2018-03-15)
* using platform: x86_64-w64-mingw32 (64-bit)
* using session charset: ISO8859-1
* using option '--no-vignettes'
* checking for file 'rhdf5client/DESCRIPTION' ... OK
* this is package 'rhdf5client' version '1.0.7'
* checking package namespace information ... OK
* checking package dependencies ... OK
* checking if this is a source package ... OK
* checking if there is a namespace ... OK
* checking for hidden files and directories ... OK
* checking for portable file names ... OK
* checking whether package 'rhdf5client' can be installed ... OK
* checking installed package size ... OK
* checking package directory ... OK
* checking 'build' directory ... OK
* checking DESCRIPTION meta-information ... OK
* checking top-level files ... OK
* checking for left-over files ... OK
* checking index information ... OK
* checking package subdirectories ... OK
* checking R files for non-ASCII characters ... OK
* checking R files for syntax errors ... OK
* loading checks for arch 'i386'
** checking whether the package can be loaded ... OK
** checking whether the package can be loaded with stated dependencies ... OK
** checking whether the package can be unloaded cleanly ... OK
** checking whether the namespace can be loaded with stated dependencies ... OK
** checking whether the namespace can be unloaded cleanly ... OK
* loading checks for arch 'x64'
** checking whether the package can be loaded ... OK
** checking whether the package can be loaded with stated dependencies ... OK
** checking whether the package can be unloaded cleanly ... OK
** checking whether the namespace can be loaded with stated dependencies ... OK
** checking whether the namespace can be unloaded cleanly ... OK
* checking dependencies in R code ... OK
* checking S3 generic/method consistency ... OK
* checking replacement functions ... OK
* checking foreign function calls ... OK
* checking R code for possible problems ... OK
* checking Rd files ... OK
* checking Rd metadata ... OK
* checking Rd cross-references ... OK
* checking for missing documentation entries ... OK
* checking for code/documentation mismatches ... OK
* checking Rd \usage sections ... OK
* checking Rd contents ... OK
* checking for unstated dependencies in examples ... OK
* checking installed files from 'inst/doc' ... OK
* checking files in 'vignettes' ... OK
* checking examples ...
** running examples for arch 'i386' ... OK
Examples with CPU or elapsed time > 5s
user system elapsed
H5S_source-class 0.95 0.03 6.24
targets 0.70 0.03 6.53
dsmeta 0.61 0.05 5.50
internalDim 0.47 0.05 5.85
links 0.45 0.03 5.80
groups-H5S_source-missing-method 0.45 0.01 5.91
** running examples for arch 'x64' ... OK
Examples with CPU or elapsed time > 5s
user system elapsed
H5S_source-class 1.09 0.03 6.18
links 0.76 0.03 6.06
dsmeta 0.72 0.04 5.49
groups-H5S_source-missing-method 0.70 0.05 5.97
internalDim 0.69 0.05 6.11
targets 0.74 0.00 6.16
* checking for unstated dependencies in 'tests' ... OK
* checking tests ...
** running tests for arch 'i386' ...
Running 'testthat.R'
OK
** running tests for arch 'x64' ...
Running 'testthat.R'
OK
* checking for unstated dependencies in vignettes ... OK
* checking package vignettes in 'inst/doc' ... OK
* checking running R code from vignettes ... SKIPPED
* checking re-building of vignette outputs ... SKIPPED
* checking PDF version of manual ... OK
* DONE
Status: OK
rhdf5client.Rcheck/00install.out
install for i386
* installing *source* package 'rhdf5client' ...
** R
** inst
** preparing package for lazy loading
** help
*** installing help indices
converting help for package 'rhdf5client'
finding HTML links ... done
H5S_dataset-class html
H5S_source-class html
dsmeta html
extract-methods html
groups-H5S_source-missing-method html
groups-H5S_source-numeric-method html
internalDim html
links html
sproc html
sub-H5S_dataset-character-character-method
html
targets html
** building package indices
** installing vignettes
** testing if installed package can be loaded
In R CMD INSTALL
install for x64
* installing *source* package 'rhdf5client' ...
** testing if installed package can be loaded
* MD5 sums
packaged installation of 'rhdf5client' as rhdf5client_1.0.7.zip
* DONE (rhdf5client)
In R CMD INSTALL
In R CMD INSTALL
|
rhdf5client.Rcheck/tests_i386/testthat.Rout
R version 3.4.4 (2018-03-15) -- "Someone to Lean On"
Copyright (C) 2018 The R Foundation for Statistical Computing
Platform: i386-w64-mingw32/i386 (32-bit)
R is free software and comes with ABSOLUTELY NO WARRANTY.
You are welcome to redistribute it under certain conditions.
Type 'license()' or 'licence()' for distribution details.
R is a collaborative project with many contributors.
Type 'contributors()' for more information and
'citation()' on how to cite R or R packages in publications.
Type 'demo()' for some demos, 'help()' for on-line help, or
'help.start()' for an HTML browser interface to help.
Type 'q()' to quit R.
> library(testthat)
> library(rhdf5client)
>
> test_check("rhdf5client")
== testthat results ===========================================================
OK: 16 SKIPPED: 0 FAILED: 0
>
> proc.time()
user system elapsed
3.90 0.14 28.09
|
rhdf5client.Rcheck/tests_x64/testthat.Rout
R version 3.4.4 (2018-03-15) -- "Someone to Lean On"
Copyright (C) 2018 The R Foundation for Statistical Computing
Platform: x86_64-w64-mingw32/x64 (64-bit)
R is free software and comes with ABSOLUTELY NO WARRANTY.
You are welcome to redistribute it under certain conditions.
Type 'license()' or 'licence()' for distribution details.
R is a collaborative project with many contributors.
Type 'contributors()' for more information and
'citation()' on how to cite R or R packages in publications.
Type 'demo()' for some demos, 'help()' for on-line help, or
'help.start()' for an HTML browser interface to help.
Type 'q()' to quit R.
> library(testthat)
> library(rhdf5client)
>
> test_check("rhdf5client")
== testthat results ===========================================================
OK: 16 SKIPPED: 0 FAILED: 0
>
> proc.time()
user system elapsed
5.54 0.28 28.28
|
|
rhdf5client.Rcheck/examples_i386/rhdf5client-Ex.timings
|
rhdf5client.Rcheck/examples_x64/rhdf5client-Ex.timings
|