| Back to Multiple platform build/check report for BioC 3.6 |
|
This page was generated on 2018-04-12 13:35:14 -0400 (Thu, 12 Apr 2018).
| Package 1172/1472 | Hostname | OS / Arch | INSTALL | BUILD | CHECK | BUILD BIN | ||||||
| rhdf5 2.22.0 Mike Smith
| malbec1 | Linux (Ubuntu 16.04.1 LTS) / x86_64 | OK | OK | OK | |||||||
| tokay1 | Windows Server 2012 R2 Standard / x64 | OK | OK | OK | OK | |||||||
| veracruz1 | OS X 10.11.6 El Capitan / x86_64 | OK | [ OK ] | OK | OK |
| Package: rhdf5 |
| Version: 2.22.0 |
| Command: /Library/Frameworks/R.framework/Versions/Current/Resources/bin/R CMD build --keep-empty-dirs --no-resave-data rhdf5 |
| StartedAt: 2018-04-11 19:51:06 -0400 (Wed, 11 Apr 2018) |
| EndedAt: 2018-04-11 19:53:38 -0400 (Wed, 11 Apr 2018) |
| EllapsedTime: 152.3 seconds |
| RetCode: 0 |
| Status: OK |
| PackageFile: rhdf5_2.22.0.tar.gz |
| PackageFileSize: 5.221 MiB |
############################################################################## ############################################################################## ### ### Running command: ### ### /Library/Frameworks/R.framework/Versions/Current/Resources/bin/R CMD build --keep-empty-dirs --no-resave-data rhdf5 ### ############################################################################## ############################################################################## * checking for file ‘rhdf5/DESCRIPTION’ ... OK * preparing ‘rhdf5’: * checking DESCRIPTION meta-information ... OK * cleaning src * running ‘cleanup’ * installing the package to build vignettes * creating vignettes ... OK * cleaning src * running ‘cleanup’ * checking for LF line-endings in source and make files and shell scripts * checking for empty or unneeded directories * building ‘rhdf5_2.22.0.tar.gz’