Back to Multiple platform build/check report for BioC 3.6
ABCDEFGHIJKLMNOPQ[R]STUVWXYZ

BUILD BIN report for regionReport on veracruz1

This page was generated on 2018-04-11 14:57:15 -0400 (Wed, 11 Apr 2018).

Package 1156/1472HostnameOS / ArchINSTALLBUILDCHECKBUILD BIN
regionReport 1.12.2
Leonardo Collado-Torres
Snapshot Date: 2018-04-10 16:46:01 -0400 (Tue, 10 Apr 2018)
URL: https://git.bioconductor.org/packages/regionReport
Branch: RELEASE_3_6
Last Commit: 67c95c2
Last Changed Date: 2018-01-19 19:32:50 -0400 (Fri, 19 Jan 2018)
malbec1 Linux (Ubuntu 16.04.1 LTS) / x86_64  OK  OK  OK UNNEEDED, same version exists in internal repository
tokay1 Windows Server 2012 R2 Standard / x64  OK  OK  OK  OK UNNEEDED, same version exists in internal repository
veracruz1 OS X 10.11.6 El Capitan / x86_64  OK  OK  ERROR [ OK ]

Summary

Package: regionReport
Version: 1.12.2
Command: rm -rf regionReport.buildbin-libdir && mkdir regionReport.buildbin-libdir && /Users/biocbuild/BBS/utils/build-universal.sh regionReport_1.12.2.tar.gz /Library/Frameworks/R.framework/Versions/Current/Resources/bin/R regionReport.buildbin-libdir
StartedAt: 2018-04-11 12:07:55 -0400 (Wed, 11 Apr 2018)
EndedAt: 2018-04-11 12:08:19 -0400 (Wed, 11 Apr 2018)
EllapsedTime: 24.2 seconds
RetCode: 0
Status:  OK 
PackageFile: regionReport_1.12.2.tgz
PackageFileSize: 1.657 MiB

Command output

##############################################################################
##############################################################################
###
### Running command:
###
###   rm -rf regionReport.buildbin-libdir && mkdir regionReport.buildbin-libdir && /Users/biocbuild/BBS/utils/build-universal.sh regionReport_1.12.2.tar.gz /Library/Frameworks/R.framework/Versions/Current/Resources/bin/R regionReport.buildbin-libdir
###
##############################################################################
##############################################################################


>>>>>>> 
>>>>>>> INSTALLATION WITH 'R CMD INSTALL --preclean --no-multiarch --library=regionReport.buildbin-libdir regionReport_1.12.2.tar.gz'
>>>>>>> 

* installing *source* package ‘regionReport’ ...
** R
** inst
** preparing package for lazy loading
** help
*** installing help indices
** building package indices
** installing vignettes
** testing if installed package can be loaded
* DONE (regionReport)