| Back to Multiple platform build/check report for BioC 3.6 | 
 | 
This page was generated on 2018-04-12 13:40:36 -0400 (Thu, 12 Apr 2018).
| Package 1133/1472 | Hostname | OS / Arch | INSTALL | BUILD | CHECK | BUILD BIN | ||||||
| rcellminer 2.0.0 Augustin Luna 
 | malbec1 | Linux (Ubuntu 16.04.1 LTS) / x86_64 | OK | OK | OK |  | ||||||
| tokay1 | Windows Server 2012 R2 Standard / x64 | OK | OK | OK | OK |  | ||||||
| veracruz1 | OS X 10.11.6 El Capitan / x86_64 | OK | OK | OK | [ OK ] |  | 
| Package: rcellminer | 
| Version: 2.0.0 | 
| Command: rm -rf rcellminer.buildbin-libdir && mkdir rcellminer.buildbin-libdir && /Users/biocbuild/BBS/utils/build-universal.sh rcellminer_2.0.0.tar.gz /Library/Frameworks/R.framework/Versions/Current/Resources/bin/R rcellminer.buildbin-libdir | 
| StartedAt: 2018-04-12 12:05:03 -0400 (Thu, 12 Apr 2018) | 
| EndedAt: 2018-04-12 12:05:18 -0400 (Thu, 12 Apr 2018) | 
| EllapsedTime: 15.3 seconds | 
| RetCode: 0 | 
| Status: OK | 
| PackageFile: rcellminer_2.0.0.tgz | 
| PackageFileSize: 8.413 MiB | 
############################################################################## ############################################################################## ### ### Running command: ### ### rm -rf rcellminer.buildbin-libdir && mkdir rcellminer.buildbin-libdir && /Users/biocbuild/BBS/utils/build-universal.sh rcellminer_2.0.0.tar.gz /Library/Frameworks/R.framework/Versions/Current/Resources/bin/R rcellminer.buildbin-libdir ### ############################################################################## ############################################################################## >>>>>>> >>>>>>> INSTALLATION WITH 'R CMD INSTALL --preclean --no-multiarch --library=rcellminer.buildbin-libdir rcellminer_2.0.0.tar.gz' >>>>>>> * installing *source* package ‘rcellminer’ ... ** R ** data *** moving datasets to lazyload DB ** inst ** preparing package for lazy loading ** help *** installing help indices ** building package indices ** installing vignettes ** testing if installed package can be loaded * DONE (rcellminer)