| Back to Multiple platform build/check report for BioC 3.6 |
|
This page was generated on 2018-04-12 13:37:03 -0400 (Thu, 12 Apr 2018).
| Package 1231/1472 | Hostname | OS / Arch | INSTALL | BUILD | CHECK | BUILD BIN | ||||||
| rTRM 1.16.0 Diego Diez
| malbec1 | Linux (Ubuntu 16.04.1 LTS) / x86_64 | OK | OK | OK | |||||||
| tokay1 | Windows Server 2012 R2 Standard / x64 | OK | OK | OK | OK | |||||||
| veracruz1 | OS X 10.11.6 El Capitan / x86_64 | OK | OK | OK | [ OK ] |
| Package: rTRM |
| Version: 1.16.0 |
| Command: rm -rf rTRM.buildbin-libdir && mkdir rTRM.buildbin-libdir && /Users/biocbuild/BBS/utils/build-universal.sh rTRM_1.16.0.tar.gz /Library/Frameworks/R.framework/Versions/Current/Resources/bin/R rTRM.buildbin-libdir |
| StartedAt: 2018-04-12 12:11:51 -0400 (Thu, 12 Apr 2018) |
| EndedAt: 2018-04-12 12:12:01 -0400 (Thu, 12 Apr 2018) |
| EllapsedTime: 10.5 seconds |
| RetCode: 0 |
| Status: OK |
| PackageFile: rTRM_1.16.0.tgz |
| PackageFileSize: 3.011 MiB |
############################################################################## ############################################################################## ### ### Running command: ### ### rm -rf rTRM.buildbin-libdir && mkdir rTRM.buildbin-libdir && /Users/biocbuild/BBS/utils/build-universal.sh rTRM_1.16.0.tar.gz /Library/Frameworks/R.framework/Versions/Current/Resources/bin/R rTRM.buildbin-libdir ### ############################################################################## ############################################################################## >>>>>>> >>>>>>> INSTALLATION WITH 'R CMD INSTALL --preclean --no-multiarch --library=rTRM.buildbin-libdir rTRM_1.16.0.tar.gz' >>>>>>> * installing *source* package ‘rTRM’ ... ** R ** data ** inst ** byte-compile and prepare package for lazy loading ** help *** installing help indices ** building package indices ** installing vignettes ** testing if installed package can be loaded * DONE (rTRM)