| Back to Multiple platform build/check report for BioC 3.6 | 
 | 
This page was generated on 2018-04-12 13:10:51 -0400 (Thu, 12 Apr 2018).
| Package 1221/1472 | Hostname | OS / Arch | INSTALL | BUILD | CHECK | BUILD BIN | ||||||
| rTANDEM 1.18.0 Frederic Fournier 
 | malbec1 | Linux (Ubuntu 16.04.1 LTS) / x86_64 | OK | [ OK ] | OK |  | ||||||
| tokay1 | Windows Server 2012 R2 Standard / x64 | OK | OK | OK | OK |  | ||||||
| veracruz1 | OS X 10.11.6 El Capitan / x86_64 | OK | OK | OK | OK |  | 
| Package: rTANDEM | 
| Version: 1.18.0 | 
| Command: /home/biocbuild/bbs-3.6-bioc/R/bin/R CMD build --keep-empty-dirs --no-resave-data rTANDEM | 
| StartedAt: 2018-04-11 19:11:19 -0400 (Wed, 11 Apr 2018) | 
| EndedAt: 2018-04-11 19:13:18 -0400 (Wed, 11 Apr 2018) | 
| EllapsedTime: 119.2 seconds | 
| RetCode: 0 | 
| Status: OK | 
| PackageFile: rTANDEM_1.18.0.tar.gz | 
| PackageFileSize: 2.015 MiB | 
##############################################################################
##############################################################################
###
### Running command:
###
###   /home/biocbuild/bbs-3.6-bioc/R/bin/R CMD build --keep-empty-dirs --no-resave-data rTANDEM
###
##############################################################################
##############################################################################
* checking for file ‘rTANDEM/DESCRIPTION’ ... OK
* preparing ‘rTANDEM’:
* checking DESCRIPTION meta-information ... OK
* cleaning src
* installing the package to build vignettes
* creating vignettes ... OK
Warning: ‘inst/doc’ file
    ‘rTANDEM.Rnw’
  ignored as vignettes have been rebuilt.
  Run R CMD build with --no-build-vignettes to prevent rebuilding.
* cleaning src
* checking for LF line-endings in source and make files and shell scripts
* checking for empty or unneeded directories
* building ‘rTANDEM_1.18.0.tar.gz’