| Back to Multiple platform build/check report for BioC 3.6 |
|
This page was generated on 2018-04-12 13:07:05 -0400 (Thu, 12 Apr 2018).
| Package 1108/1472 | Hostname | OS / Arch | INSTALL | BUILD | CHECK | BUILD BIN | ||||||
| qvalue 2.10.0 John D. Storey
| malbec1 | Linux (Ubuntu 16.04.1 LTS) / x86_64 | OK | OK | [ OK ] | |||||||
| tokay1 | Windows Server 2012 R2 Standard / x64 | OK | OK | OK | OK | |||||||
| veracruz1 | OS X 10.11.6 El Capitan / x86_64 | OK | OK | OK | OK |
| Package: qvalue |
| Version: 2.10.0 |
| Command: /home/biocbuild/bbs-3.6-bioc/R/bin/R CMD check --no-vignettes --timings qvalue_2.10.0.tar.gz |
| StartedAt: 2018-04-12 02:06:31 -0400 (Thu, 12 Apr 2018) |
| EndedAt: 2018-04-12 02:07:01 -0400 (Thu, 12 Apr 2018) |
| EllapsedTime: 30.3 seconds |
| RetCode: 0 |
| Status: OK |
| CheckDir: qvalue.Rcheck |
| Warnings: 0 |
##############################################################################
##############################################################################
###
### Running command:
###
### /home/biocbuild/bbs-3.6-bioc/R/bin/R CMD check --no-vignettes --timings qvalue_2.10.0.tar.gz
###
##############################################################################
##############################################################################
* using log directory ‘/home/biocbuild/bbs-3.6-bioc/meat/qvalue.Rcheck’
* using R version 3.4.4 (2018-03-15)
* using platform: x86_64-pc-linux-gnu (64-bit)
* using session charset: UTF-8
* using option ‘--no-vignettes’
* checking for file ‘qvalue/DESCRIPTION’ ... OK
* checking extension type ... Package
* this is package ‘qvalue’ version ‘2.10.0’
* checking package namespace information ... OK
* checking package dependencies ... OK
* checking if this is a source package ... OK
* checking if there is a namespace ... OK
* checking for hidden files and directories ... OK
* checking for portable file names ... OK
* checking for sufficient/correct file permissions ... OK
* checking whether package ‘qvalue’ can be installed ... OK
* checking installed package size ... OK
* checking package directory ... OK
* checking ‘build’ directory ... OK
* checking DESCRIPTION meta-information ... OK
* checking top-level files ... OK
* checking for left-over files ... OK
* checking index information ... OK
* checking package subdirectories ... OK
* checking R files for non-ASCII characters ... OK
* checking R files for syntax errors ... OK
* checking whether the package can be loaded ... OK
* checking whether the package can be loaded with stated dependencies ... OK
* checking whether the package can be unloaded cleanly ... OK
* checking whether the namespace can be loaded with stated dependencies ... OK
* checking whether the namespace can be unloaded cleanly ... OK
* checking dependencies in R code ... OK
* checking S3 generic/method consistency ... OK
* checking replacement functions ... OK
* checking foreign function calls ... OK
* checking R code for possible problems ... NOTE
lfdr: no visible global function definition for ‘qnorm’
lfdr: no visible global function definition for ‘density’
lfdr: no visible global function definition for ‘smooth.spline’
lfdr: no visible global function definition for ‘predict’
lfdr: no visible global function definition for ‘dnorm’
pi0est: no visible global function definition for ‘smooth.spline’
pi0est: no visible global function definition for ‘predict’
pi0est: no visible global function definition for ‘quantile’
plot.qvalue: no visible global function definition for ‘quantile’
write.qvalue: no visible global function definition for ‘write.table’
Undefined global functions or variables:
density dnorm predict qnorm quantile smooth.spline write.table
Consider adding
importFrom("stats", "density", "dnorm", "predict", "qnorm", "quantile",
"smooth.spline")
importFrom("utils", "write.table")
to your NAMESPACE file.
* checking Rd files ... OK
* checking Rd metadata ... OK
* checking Rd cross-references ... OK
* checking for missing documentation entries ... OK
* checking for code/documentation mismatches ... OK
* checking Rd \usage sections ... OK
* checking Rd contents ... OK
* checking for unstated dependencies in examples ... OK
* checking contents of ‘data’ directory ... OK
* checking data for non-ASCII characters ... OK
* checking data for ASCII and uncompressed saves ... OK
* checking installed files from ‘inst/doc’ ... OK
* checking files in ‘vignettes’ ... OK
* checking examples ... OK
* checking for unstated dependencies in vignettes ... OK
* checking package vignettes in ‘inst/doc’ ... OK
* checking running R code from vignettes ... SKIPPED
* checking re-building of vignette outputs ... SKIPPED
* checking PDF version of manual ... OK
* DONE
Status: 1 NOTE
See
‘/home/biocbuild/bbs-3.6-bioc/meat/qvalue.Rcheck/00check.log’
for details.
qvalue.Rcheck/00install.out
* installing *source* package ‘qvalue’ ... ** R ** data ** inst ** preparing package for lazy loading ** help *** installing help indices ** building package indices ** installing vignettes ** testing if installed package can be loaded * DONE (qvalue)
qvalue.Rcheck/qvalue-Ex.timings
| name | user | system | elapsed | |
| empPvals | 0.228 | 0.008 | 0.238 | |
| hedenfalk | 2.384 | 0.016 | 2.401 | |
| hist.qvalue | 1.012 | 0.000 | 1.013 | |
| lfdr | 0.444 | 0.000 | 0.443 | |
| pi0est | 0.972 | 0.008 | 0.980 | |
| plot.qvalue | 0.656 | 0.004 | 0.660 | |
| qvalue | 0.948 | 0.004 | 0.955 | |
| summary.qvalue | 0.040 | 0.004 | 0.044 | |
| write.qvalue | 0.052 | 0.004 | 0.053 | |