| Back to Multiple platform build/check report for BioC 3.6 |
|
This page was generated on 2018-04-12 13:32:06 -0400 (Thu, 12 Apr 2018).
| Package 1102/1472 | Hostname | OS / Arch | INSTALL | BUILD | CHECK | BUILD BIN | ||||||
| quantsmooth 1.44.0 Jan Oosting
| malbec1 | Linux (Ubuntu 16.04.1 LTS) / x86_64 | OK | OK | OK | |||||||
| tokay1 | Windows Server 2012 R2 Standard / x64 | OK | OK | OK | OK | |||||||
| veracruz1 | OS X 10.11.6 El Capitan / x86_64 | OK | OK | OK | [ OK ] |
| Package: quantsmooth |
| Version: 1.44.0 |
| Command: rm -rf quantsmooth.buildbin-libdir && mkdir quantsmooth.buildbin-libdir && /Users/biocbuild/BBS/utils/build-universal.sh quantsmooth_1.44.0.tar.gz /Library/Frameworks/R.framework/Versions/Current/Resources/bin/R quantsmooth.buildbin-libdir |
| StartedAt: 2018-04-12 12:03:18 -0400 (Thu, 12 Apr 2018) |
| EndedAt: 2018-04-12 12:03:23 -0400 (Thu, 12 Apr 2018) |
| EllapsedTime: 4.9 seconds |
| RetCode: 0 |
| Status: OK |
| PackageFile: quantsmooth_1.44.0.tgz |
| PackageFileSize: 306.1 KiB |
############################################################################## ############################################################################## ### ### Running command: ### ### rm -rf quantsmooth.buildbin-libdir && mkdir quantsmooth.buildbin-libdir && /Users/biocbuild/BBS/utils/build-universal.sh quantsmooth_1.44.0.tar.gz /Library/Frameworks/R.framework/Versions/Current/Resources/bin/R quantsmooth.buildbin-libdir ### ############################################################################## ############################################################################## >>>>>>> >>>>>>> INSTALLATION WITH 'R CMD INSTALL --preclean --no-multiarch --library=quantsmooth.buildbin-libdir quantsmooth_1.44.0.tar.gz' >>>>>>> * installing *source* package ‘quantsmooth’ ... ** R ** data ** inst ** preparing package for lazy loading ** help *** installing help indices ** building package indices ** installing vignettes ** testing if installed package can be loaded * DONE (quantsmooth)