| Back to Multiple platform build/check report for BioC 3.6 |
|
This page was generated on 2018-04-12 13:37:40 -0400 (Thu, 12 Apr 2018).
| Package 1094/1472 | Hostname | OS / Arch | INSTALL | BUILD | CHECK | BUILD BIN | ||||||
| qcmetrics 1.16.0 Laurent Gatto
| malbec1 | Linux (Ubuntu 16.04.1 LTS) / x86_64 | OK | OK | OK | |||||||
| tokay1 | Windows Server 2012 R2 Standard / x64 | OK | OK | OK | OK | |||||||
| veracruz1 | OS X 10.11.6 El Capitan / x86_64 | OK | OK | OK | [ OK ] |
| Package: qcmetrics |
| Version: 1.16.0 |
| Command: rm -rf qcmetrics.buildbin-libdir && mkdir qcmetrics.buildbin-libdir && /Users/biocbuild/BBS/utils/build-universal.sh qcmetrics_1.16.0.tar.gz /Library/Frameworks/R.framework/Versions/Current/Resources/bin/R qcmetrics.buildbin-libdir |
| StartedAt: 2018-04-12 12:02:44 -0400 (Thu, 12 Apr 2018) |
| EndedAt: 2018-04-12 12:03:07 -0400 (Thu, 12 Apr 2018) |
| EllapsedTime: 23.5 seconds |
| RetCode: 0 |
| Status: OK |
| PackageFile: qcmetrics_1.16.0.tgz |
| PackageFileSize: 3.6 MiB |
############################################################################## ############################################################################## ### ### Running command: ### ### rm -rf qcmetrics.buildbin-libdir && mkdir qcmetrics.buildbin-libdir && /Users/biocbuild/BBS/utils/build-universal.sh qcmetrics_1.16.0.tar.gz /Library/Frameworks/R.framework/Versions/Current/Resources/bin/R qcmetrics.buildbin-libdir ### ############################################################################## ############################################################################## >>>>>>> >>>>>>> INSTALLATION WITH 'R CMD INSTALL --preclean --no-multiarch --library=qcmetrics.buildbin-libdir qcmetrics_1.16.0.tar.gz' >>>>>>> * installing *source* package ‘qcmetrics’ ... ** R ** data ** inst ** preparing package for lazy loading ** help *** installing help indices ** building package indices ** installing vignettes ** testing if installed package can be loaded * DONE (qcmetrics)