| Back to Multiple platform build/check report for BioC 3.6 |
|
This page was generated on 2018-04-12 13:30:27 -0400 (Thu, 12 Apr 2018).
| Package 977/1472 | Hostname | OS / Arch | INSTALL | BUILD | CHECK | BUILD BIN | ||||||
| openPrimeR 1.0.4 Matthias Döring
| malbec1 | Linux (Ubuntu 16.04.1 LTS) / x86_64 | OK | OK | OK | |||||||
| tokay1 | Windows Server 2012 R2 Standard / x64 | [ OK ] | OK | OK | OK | |||||||
| veracruz1 | OS X 10.11.6 El Capitan / x86_64 | OK | OK | OK | OK |
| Package: openPrimeR |
| Version: 1.0.4 |
| Command: rm -rf openPrimeR.buildbin-libdir && mkdir openPrimeR.buildbin-libdir && C:\cygwin\bin\curl.exe -O https://malbec1.bioconductor.org/BBS/3.6/bioc/src/contrib/openPrimeR_1.0.4.tar.gz && C:\Users\biocbuild\bbs-3.6-bioc\R\bin\R.exe CMD INSTALL --build --library=openPrimeR.buildbin-libdir --merge-multiarch openPrimeR_1.0.4.tar.gz && C:\Users\biocbuild\bbs-3.6-bioc\R\bin\R.exe CMD INSTALL openPrimeR_1.0.4.zip && rm openPrimeR_1.0.4.tar.gz openPrimeR_1.0.4.zip |
| StartedAt: 2018-04-11 18:38:39 -0400 (Wed, 11 Apr 2018) |
| EndedAt: 2018-04-11 18:42:58 -0400 (Wed, 11 Apr 2018) |
| EllapsedTime: 258.5 seconds |
| RetCode: 0 |
| Status: OK |
##############################################################################
##############################################################################
###
### Running command:
###
### rm -rf openPrimeR.buildbin-libdir && mkdir openPrimeR.buildbin-libdir && C:\cygwin\bin\curl.exe -O https://malbec1.bioconductor.org/BBS/3.6/bioc/src/contrib/openPrimeR_1.0.4.tar.gz && C:\Users\biocbuild\bbs-3.6-bioc\R\bin\R.exe CMD INSTALL --build --library=openPrimeR.buildbin-libdir --merge-multiarch openPrimeR_1.0.4.tar.gz && C:\Users\biocbuild\bbs-3.6-bioc\R\bin\R.exe CMD INSTALL openPrimeR_1.0.4.zip && rm openPrimeR_1.0.4.tar.gz openPrimeR_1.0.4.zip
###
##############################################################################
##############################################################################
% Total % Received % Xferd Average Speed Time Time Time Current
Dload Upload Total Spent Left Speed
0 0 0 0 0 0 0 0 --:--:-- --:--:-- --:--:-- 0
100 1683k 100 1683k 0 0 44.2M 0 --:--:-- --:--:-- --:--:-- 48.3M
install for i386
* installing *source* package 'openPrimeR' ...
** R
** data
** inst
** preparing package for lazy loading
** help
*** installing help indices
converting help for package 'openPrimeR'
finding HTML links ... done
AnalysisStats html
Data html
Input html
Output html
Plots html
PrimerDesign html
PrimerEval html
Primers-method html
Scoring html
Settings html
Templates-method html
TemplatesFunctions html
check_cvg_constraints html
create_report-Primers-Templates-method
html
create_report-list-list-method html
filterLimits-methods html
filters-methods html
get_cvg_stats-Primers-method html
get_cvg_stats-list-method html
openPrimeR-package html
plot_constraint-Primers-method html
plot_constraint-list-method html
plot_constraint_deviation-Primers-method
html
plot_constraint_deviation-list-method html
plot_constraint_fulfillment-Primers-method
html
plot_constraint_fulfillment-list-method
html
plot_cvg_constraints-Primers-method html
plot_cvg_constraints-list-method html
plot_primer_binding_regions-Primers-Templates-method
html
plot_primer_binding_regions-list-list-method
html
plot_primer_cvg-Primers-Templates-method
html
plot_primer_cvg-list-list-method html
plot_template_cvg-Primers-Templates-method
html
plot_template_cvg-list-list-method html
runTutorial html
** building package indices
** installing vignettes
** testing if installed package can be loaded
The number of cores for was set to '2' by 'parallel_setup()'.
In R CMD INSTALL
install for x64
* installing *source* package 'openPrimeR' ...
** testing if installed package can be loaded
The number of cores for was set to '2' by 'parallel_setup()'.
* MD5 sums
packaged installation of 'openPrimeR' as openPrimeR_1.0.4.zip
* DONE (openPrimeR)
In R CMD INSTALL
In R CMD INSTALL
* installing to library 'C:/Users/biocbuild/bbs-3.6-bioc/R/library'
package 'openPrimeR' successfully unpacked and MD5 sums checked
In R CMD INSTALL