| Back to Multiple platform build/check report for BioC 3.6 |
|
This page was generated on 2018-04-12 13:33:55 -0400 (Thu, 12 Apr 2018).
| Package 974/1472 | Hostname | OS / Arch | INSTALL | BUILD | CHECK | BUILD BIN | ||||||
| ontoCAT 1.30.0 Natalja Kurbatova
| malbec1 | Linux (Ubuntu 16.04.1 LTS) / x86_64 | OK | OK | ERROR | |||||||
| tokay1 | Windows Server 2012 R2 Standard / x64 | OK | OK | ERROR | OK | |||||||
| veracruz1 | OS X 10.11.6 El Capitan / x86_64 | OK | OK | ERROR | [ OK ] |
| Package: ontoCAT |
| Version: 1.30.0 |
| Command: rm -rf ontoCAT.buildbin-libdir && mkdir ontoCAT.buildbin-libdir && /Users/biocbuild/BBS/utils/build-universal.sh ontoCAT_1.30.0.tar.gz /Library/Frameworks/R.framework/Versions/Current/Resources/bin/R ontoCAT.buildbin-libdir |
| StartedAt: 2018-04-12 11:56:37 -0400 (Thu, 12 Apr 2018) |
| EndedAt: 2018-04-12 11:56:43 -0400 (Thu, 12 Apr 2018) |
| EllapsedTime: 5.5 seconds |
| RetCode: 0 |
| Status: OK |
| PackageFile: ontoCAT_1.30.0.tgz |
| PackageFileSize: 3.757 MiB |
############################################################################## ############################################################################## ### ### Running command: ### ### rm -rf ontoCAT.buildbin-libdir && mkdir ontoCAT.buildbin-libdir && /Users/biocbuild/BBS/utils/build-universal.sh ontoCAT_1.30.0.tar.gz /Library/Frameworks/R.framework/Versions/Current/Resources/bin/R ontoCAT.buildbin-libdir ### ############################################################################## ############################################################################## >>>>>>> >>>>>>> INSTALLATION WITH 'R CMD INSTALL --preclean --no-multiarch --library=ontoCAT.buildbin-libdir ontoCAT_1.30.0.tar.gz' >>>>>>> * installing *source* package ‘ontoCAT’ ... ** R ** inst ** preparing package for lazy loading ** help *** installing help indices ** building package indices ** installing vignettes ** testing if installed package can be loaded * DONE (ontoCAT)