| Back to Multiple platform build/check report for BioC 3.6 |
|
This page was generated on 2018-04-12 13:42:27 -0400 (Thu, 12 Apr 2018).
| Package 952/1472 | Hostname | OS / Arch | INSTALL | BUILD | CHECK | BUILD BIN | ||||||
| nucleoSim 1.6.0 Astrid Deschenes
| malbec1 | Linux (Ubuntu 16.04.1 LTS) / x86_64 | OK | OK | OK | |||||||
| tokay1 | Windows Server 2012 R2 Standard / x64 | OK | OK | OK | OK | |||||||
| veracruz1 | OS X 10.11.6 El Capitan / x86_64 | OK | OK | OK | [ OK ] |
| Package: nucleoSim |
| Version: 1.6.0 |
| Command: rm -rf nucleoSim.buildbin-libdir && mkdir nucleoSim.buildbin-libdir && /Users/biocbuild/BBS/utils/build-universal.sh nucleoSim_1.6.0.tar.gz /Library/Frameworks/R.framework/Versions/Current/Resources/bin/R nucleoSim.buildbin-libdir |
| StartedAt: 2018-04-12 11:55:26 -0400 (Thu, 12 Apr 2018) |
| EndedAt: 2018-04-12 11:55:31 -0400 (Thu, 12 Apr 2018) |
| EllapsedTime: 5.0 seconds |
| RetCode: 0 |
| Status: OK |
| PackageFile: nucleoSim_1.6.0.tgz |
| PackageFileSize: 541.8 KiB |
############################################################################## ############################################################################## ### ### Running command: ### ### rm -rf nucleoSim.buildbin-libdir && mkdir nucleoSim.buildbin-libdir && /Users/biocbuild/BBS/utils/build-universal.sh nucleoSim_1.6.0.tar.gz /Library/Frameworks/R.framework/Versions/Current/Resources/bin/R nucleoSim.buildbin-libdir ### ############################################################################## ############################################################################## >>>>>>> >>>>>>> INSTALLATION WITH 'R CMD INSTALL --preclean --no-multiarch --library=nucleoSim.buildbin-libdir nucleoSim_1.6.0.tar.gz' >>>>>>> * installing *source* package ‘nucleoSim’ ... ** R ** inst ** preparing package for lazy loading ** help *** installing help indices ** building package indices ** installing vignettes ** testing if installed package can be loaded * DONE (nucleoSim)