| Back to Multiple platform build/check report for BioC 3.6 | 
 | 
This page was generated on 2018-04-12 13:38:41 -0400 (Thu, 12 Apr 2018).
| Package 883/1472 | Hostname | OS / Arch | INSTALL | BUILD | CHECK | BUILD BIN | ||||||
| monocle 2.6.4 Cole Trapnell 
 | malbec1 | Linux (Ubuntu 16.04.1 LTS) / x86_64 | OK | OK | OK |  | ||||||
| tokay1 | Windows Server 2012 R2 Standard / x64 | OK | OK | OK | OK |  | ||||||
| veracruz1 | OS X 10.11.6 El Capitan / x86_64 | OK | [ OK ] | OK | OK |  | 
| Package: monocle | 
| Version: 2.6.4 | 
| Command: /Library/Frameworks/R.framework/Versions/Current/Resources/bin/R CMD build --keep-empty-dirs --no-resave-data monocle | 
| StartedAt: 2018-04-11 20:49:25 -0400 (Wed, 11 Apr 2018) | 
| EndedAt: 2018-04-11 20:50:05 -0400 (Wed, 11 Apr 2018) | 
| EllapsedTime: 40.1 seconds | 
| RetCode: 0 | 
| Status: OK | 
| PackageFile: monocle_2.6.4.tar.gz | 
| PackageFileSize: 9.045 MiB | 
##############################################################################
##############################################################################
###
### Running command:
###
###   /Library/Frameworks/R.framework/Versions/Current/Resources/bin/R CMD build --keep-empty-dirs --no-resave-data monocle
###
##############################################################################
##############################################################################
* checking for file ‘monocle/DESCRIPTION’ ... OK
* preparing ‘monocle’:
* checking DESCRIPTION meta-information ... OK
* cleaning src
* installing the package to build vignettes
* creating vignettes ... OK
Warning: ‘inst/doc’ files
    ‘monocle-vignette.Rnw’, ‘monocle-vignette.pdf’,  ‘monocle-vignette.R’
  ignored as vignettes have been rebuilt.
  Run R CMD build with --no-build-vignettes to prevent rebuilding.
* cleaning src
* checking for LF line-endings in source and make files and shell scripts
* checking for empty or unneeded directories
* looking to see if a ‘data/datalist’ file should be added
* building ‘monocle_2.6.4.tar.gz’