| Back to Multiple platform build/check report for BioC 3.6 | 
 | 
This page was generated on 2018-04-12 13:10:34 -0400 (Thu, 12 Apr 2018).
| Package 836/1472 | Hostname | OS / Arch | INSTALL | BUILD | CHECK | BUILD BIN | ||||||
| methyAnalysis 1.20.0 Pan Du 
 | malbec1 | Linux (Ubuntu 16.04.1 LTS) / x86_64 | [ OK ] | OK | WARNINGS |  | ||||||
| tokay1 | Windows Server 2012 R2 Standard / x64 | OK | OK | WARNINGS | OK |  | ||||||
| veracruz1 | OS X 10.11.6 El Capitan / x86_64 | OK | OK | WARNINGS | OK |  | 
| Package: methyAnalysis | 
| Version: 1.20.0 | 
| Command: /home/biocbuild/bbs-3.6-bioc/R/bin/R CMD INSTALL methyAnalysis | 
| StartedAt: 2018-04-11 18:11:57 -0400 (Wed, 11 Apr 2018) | 
| EndedAt: 2018-04-11 18:12:24 -0400 (Wed, 11 Apr 2018) | 
| EllapsedTime: 26.5 seconds | 
| RetCode: 0 | 
| Status: OK | 
############################################################################## ############################################################################## ### ### Running command: ### ### /home/biocbuild/bbs-3.6-bioc/R/bin/R CMD INSTALL methyAnalysis ### ############################################################################## ############################################################################## * installing to library ‘/home/biocbuild/bbs-3.6-bioc/R/library’ * installing *source* package ‘methyAnalysis’ ... ** R ** data ** inst ** preparing package for lazy loading No methods found in package 'genoset' for request: 'toGenomeOrder' when loading 'methyAnalysis' ** help *** installing help indices ** building package indices ** installing vignettes ** testing if installed package can be loaded No methods found in package 'genoset' for request: 'toGenomeOrder' when loading 'methyAnalysis' * DONE (methyAnalysis)