| Back to Multiple platform build/check report for BioC 3.6 |
|
This page was generated on 2018-04-12 13:11:05 -0400 (Thu, 12 Apr 2018).
| Package 824/1472 | Hostname | OS / Arch | INSTALL | BUILD | CHECK | BUILD BIN | ||||||
| metagenomeSeq 1.20.1 Joseph N. Paulson
| malbec1 | Linux (Ubuntu 16.04.1 LTS) / x86_64 | OK | OK | [ OK ] | |||||||
| tokay1 | Windows Server 2012 R2 Standard / x64 | OK | OK | OK | OK | |||||||
| veracruz1 | OS X 10.11.6 El Capitan / x86_64 | OK | OK | OK | OK |
| Package: metagenomeSeq |
| Version: 1.20.1 |
| Command: /home/biocbuild/bbs-3.6-bioc/R/bin/R CMD check --no-vignettes --timings metagenomeSeq_1.20.1.tar.gz |
| StartedAt: 2018-04-12 00:55:09 -0400 (Thu, 12 Apr 2018) |
| EndedAt: 2018-04-12 00:57:17 -0400 (Thu, 12 Apr 2018) |
| EllapsedTime: 127.6 seconds |
| RetCode: 0 |
| Status: OK |
| CheckDir: metagenomeSeq.Rcheck |
| Warnings: 0 |
############################################################################## ############################################################################## ### ### Running command: ### ### /home/biocbuild/bbs-3.6-bioc/R/bin/R CMD check --no-vignettes --timings metagenomeSeq_1.20.1.tar.gz ### ############################################################################## ############################################################################## * using log directory ‘/home/biocbuild/bbs-3.6-bioc/meat/metagenomeSeq.Rcheck’ * using R version 3.4.4 (2018-03-15) * using platform: x86_64-pc-linux-gnu (64-bit) * using session charset: UTF-8 * using option ‘--no-vignettes’ * checking for file ‘metagenomeSeq/DESCRIPTION’ ... OK * this is package ‘metagenomeSeq’ version ‘1.20.1’ * checking package namespace information ... OK * checking package dependencies ... OK * checking if this is a source package ... OK * checking if there is a namespace ... OK * checking for hidden files and directories ... OK * checking for portable file names ... OK * checking for sufficient/correct file permissions ... OK * checking whether package ‘metagenomeSeq’ can be installed ... OK * checking installed package size ... OK * checking package directory ... OK * checking ‘build’ directory ... OK * checking DESCRIPTION meta-information ... OK * checking top-level files ... OK * checking for left-over files ... OK * checking index information ... OK * checking package subdirectories ... OK * checking R files for non-ASCII characters ... OK * checking R files for syntax errors ... OK * checking whether the package can be loaded ... OK * checking whether the package can be loaded with stated dependencies ... OK * checking whether the package can be unloaded cleanly ... OK * checking whether the namespace can be loaded with stated dependencies ... OK * checking whether the namespace can be unloaded cleanly ... OK * checking dependencies in R code ... OK * checking S3 generic/method consistency ... OK * checking replacement functions ... OK * checking foreign function calls ... OK * checking R code for possible problems ... OK * checking Rd files ... OK * checking Rd metadata ... OK * checking Rd cross-references ... OK * checking for missing documentation entries ... OK * checking for code/documentation mismatches ... OK * checking Rd \usage sections ... OK * checking Rd contents ... OK * checking for unstated dependencies in examples ... OK * checking contents of ‘data’ directory ... OK * checking data for non-ASCII characters ... OK * checking data for ASCII and uncompressed saves ... OK * checking installed files from ‘inst/doc’ ... OK * checking files in ‘vignettes’ ... OK * checking examples ... OK * checking for unstated dependencies in ‘tests’ ... OK * checking tests ... Running ‘testthat.R’ OK * checking for unstated dependencies in vignettes ... OK * checking package vignettes in ‘inst/doc’ ... OK * checking running R code from vignettes ... SKIPPED * checking re-building of vignette outputs ... SKIPPED * checking PDF version of manual ... OK * DONE Status: OK
metagenomeSeq.Rcheck/00install.out
* installing *source* package ‘metagenomeSeq’ ... ** R ** data ** inst ** preparing package for lazy loading ** help *** installing help indices ** building package indices ** installing vignettes ** testing if installed package can be loaded * DONE (metagenomeSeq)
metagenomeSeq.Rcheck/tests/testthat.Rout
R version 3.4.4 (2018-03-15) -- "Someone to Lean On"
Copyright (C) 2018 The R Foundation for Statistical Computing
Platform: x86_64-pc-linux-gnu (64-bit)
R is free software and comes with ABSOLUTELY NO WARRANTY.
You are welcome to redistribute it under certain conditions.
Type 'license()' or 'licence()' for distribution details.
R is a collaborative project with many contributors.
Type 'contributors()' for more information and
'citation()' on how to cite R or R packages in publications.
Type 'demo()' for some demos, 'help()' for on-line help, or
'help.start()' for an HTML browser interface to help.
Type 'q()' to quit R.
> library("testthat")
> packageVersion("metagenomeSeq")
[1] '1.20.1'
> # As suggested for opt-out option on testing by users,
> # recommended by CRAN: http://adv-r.had.co.nz/Testing.html
> # Previously, best practice was to put all test files in inst/tests
> # and ensure that R CMD check ran them by putting the following code in tests/test-all.R:
> # >library(testthat)
> # >library(yourpackage)
> # >test_package("yourpackage")
> # Now, recommended practice is to put your tests in tests/testthat,
> # and ensure R CMD check runs them by putting the following code in tests/test-all.R:
> # >library(testthat)
> # >test_check("yourpackage")
> # The advantage of this new structure is that the user has control over whether or not tests are installed using the –install-tests parameter to
> # R CMD install, or INSTALL_opts = c(“–install-tests”) argument to install.packages(). I’m not sure why you wouldn’t want to install the tests,
> # but now you have the flexibility as requested by CRAN maintainers.
> test_check("metagenomeSeq")
Loading required package: metagenomeSeq
Loading required package: Biobase
Loading required package: BiocGenerics
Loading required package: parallel
Attaching package: 'BiocGenerics'
The following objects are masked from 'package:parallel':
clusterApply, clusterApplyLB, clusterCall, clusterEvalQ,
clusterExport, clusterMap, parApply, parCapply, parLapply,
parLapplyLB, parRapply, parSapply, parSapplyLB
The following objects are masked from 'package:stats':
IQR, mad, sd, var, xtabs
The following objects are masked from 'package:base':
Filter, Find, Map, Position, Reduce, anyDuplicated, append,
as.data.frame, cbind, colMeans, colSums, colnames, do.call,
duplicated, eval, evalq, get, grep, grepl, intersect, is.unsorted,
lapply, lengths, mapply, match, mget, order, paste, pmax, pmax.int,
pmin, pmin.int, rank, rbind, rowMeans, rowSums, rownames, sapply,
setdiff, sort, table, tapply, union, unique, unsplit, which,
which.max, which.min
Welcome to Bioconductor
Vignettes contain introductory material; view with
'browseVignettes()'. To cite Bioconductor, see
'citation("Biobase")', and for packages 'citation("pkgname")'.
Loading required package: limma
Attaching package: 'limma'
The following object is masked from 'package:BiocGenerics':
plotMA
Loading required package: glmnet
Loading required package: Matrix
Loading required package: foreach
Loaded glmnet 2.0-16
Loading required package: RColorBrewer
══ testthat results ═══════════════════════════════════════════════════════════
OK: 13 SKIPPED: 0 FAILED: 0
>
> proc.time()
user system elapsed
16.984 0.340 17.329
metagenomeSeq.Rcheck/metagenomeSeq-Ex.timings
| name | user | system | elapsed | |
| MRcoefs | 2.336 | 0.080 | 2.417 | |
| MRcounts | 0.308 | 0.040 | 0.349 | |
| MRexperiment-class | 0 | 0 | 0 | |
| MRfulltable | 1.576 | 0.048 | 1.626 | |
| MRtable | 1.116 | 0.024 | 1.141 | |
| aggregateBySample | 0.188 | 0.008 | 0.196 | |
| aggregateByTaxonomy | 0.224 | 0.004 | 0.226 | |
| biom2MRexperiment | 0.572 | 0.004 | 0.610 | |
| calcNormFactors | 0.460 | 0.028 | 0.488 | |
| correctIndices | 0.144 | 0.008 | 0.150 | |
| correlationTest | 0.340 | 0.004 | 0.343 | |
| cumNorm | 0.664 | 0.004 | 0.670 | |
| cumNormMat | 0.444 | 0.016 | 0.462 | |
| cumNormStat | 0.608 | 0.008 | 0.617 | |
| cumNormStatFast | 0.312 | 0.008 | 0.319 | |
| expSummary | 0.104 | 0.004 | 0.106 | |
| exportMat | 1.092 | 0.740 | 1.834 | |
| exportStats | 0.604 | 0.020 | 0.623 | |
| extractMR | 0.944 | 0.292 | 1.237 | |
| filterData | 0.180 | 0.004 | 0.185 | |
| fitDO | 0.660 | 0.020 | 2.914 | |
| fitFeatureModel | 1.124 | 0.040 | 1.166 | |
| fitLogNormal | 2.020 | 0.056 | 2.079 | |
| fitMultipleTimeSeries | 3.080 | 0.016 | 3.096 | |
| fitPA | 0.444 | 0.040 | 2.566 | |
| fitSSTimeSeries | 1.148 | 0.032 | 1.179 | |
| fitTimeSeries | 1.096 | 0.032 | 1.127 | |
| fitZig | 2.424 | 0.032 | 2.456 | |
| libSize-set | 0.348 | 0.036 | 0.386 | |
| libSize | 0.324 | 0.024 | 0.349 | |
| loadBiom | 0.412 | 0.000 | 0.412 | |
| loadMeta | 0.028 | 0.000 | 0.026 | |
| loadMetaQ | 0.000 | 0.000 | 0.001 | |
| loadPhenoData | 0.020 | 0.000 | 0.016 | |
| makeLabels | 0.000 | 0.000 | 0.001 | |
| mergeMRexperiments | 1.932 | 0.240 | 2.174 | |
| newMRexperiment | 0.032 | 0.000 | 0.031 | |
| normFactors-set | 0.364 | 0.020 | 0.384 | |
| normFactors | 0.324 | 0.032 | 0.353 | |
| plotBubble | 0.636 | 0.096 | 2.870 | |
| plotClassTimeSeries | 0.836 | 0.064 | 0.898 | |
| plotCorr | 0.476 | 0.016 | 0.492 | |
| plotFeature | 0.152 | 0.004 | 0.153 | |
| plotGenus | 0.132 | 0.004 | 0.137 | |
| plotMRheatmap | 3.148 | 0.016 | 3.164 | |
| plotOTU | 0.140 | 0.004 | 0.143 | |
| plotOrd | 0.216 | 0.012 | 0.229 | |
| plotRare | 0.124 | 0.004 | 0.126 | |
| plotTimeSeries | 0.808 | 0.016 | 0.823 | |
| posteriorProbs | 1.920 | 0.032 | 1.955 | |
| returnAppropriateObj | 0.324 | 0.036 | 0.360 | |
| ssFit | 0 | 0 | 0 | |
| ssIntervalCandidate | 0 | 0 | 0 | |
| ssPerm | 0.000 | 0.000 | 0.001 | |
| ssPermAnalysis | 0.000 | 0.000 | 0.001 | |
| trapz | 0.000 | 0.000 | 0.001 | |
| ts2MRexperiment | 1.836 | 0.020 | 1.858 | |
| uniqueFeatures | 0.128 | 0.000 | 0.128 | |
| zigControl | 0.000 | 0.000 | 0.001 | |