| Back to Multiple platform build/check report for BioC 3.6 |
|
This page was generated on 2018-04-12 13:24:42 -0400 (Thu, 12 Apr 2018).
| Package 702/1472 | Hostname | OS / Arch | INSTALL | BUILD | CHECK | BUILD BIN | ||||||
| interactiveDisplayBase 1.16.0 Shawn Balcome
| malbec1 | Linux (Ubuntu 16.04.1 LTS) / x86_64 | OK | OK | OK | |||||||
| tokay1 | Windows Server 2012 R2 Standard / x64 | [ OK ] | OK | OK | OK | |||||||
| veracruz1 | OS X 10.11.6 El Capitan / x86_64 | OK | OK | OK | OK |
| Package: interactiveDisplayBase |
| Version: 1.16.0 |
| Command: rm -rf interactiveDisplayBase.buildbin-libdir && mkdir interactiveDisplayBase.buildbin-libdir && C:\cygwin\bin\curl.exe -O https://malbec1.bioconductor.org/BBS/3.6/bioc/src/contrib/interactiveDisplayBase_1.16.0.tar.gz && C:\Users\biocbuild\bbs-3.6-bioc\R\bin\R.exe CMD INSTALL --build --library=interactiveDisplayBase.buildbin-libdir --merge-multiarch interactiveDisplayBase_1.16.0.tar.gz && C:\Users\biocbuild\bbs-3.6-bioc\R\bin\R.exe CMD INSTALL interactiveDisplayBase_1.16.0.zip && rm interactiveDisplayBase_1.16.0.tar.gz interactiveDisplayBase_1.16.0.zip |
| StartedAt: 2018-04-11 18:14:43 -0400 (Wed, 11 Apr 2018) |
| EndedAt: 2018-04-11 18:15:33 -0400 (Wed, 11 Apr 2018) |
| EllapsedTime: 50.0 seconds |
| RetCode: 0 |
| Status: OK |
##############################################################################
##############################################################################
###
### Running command:
###
### rm -rf interactiveDisplayBase.buildbin-libdir && mkdir interactiveDisplayBase.buildbin-libdir && C:\cygwin\bin\curl.exe -O https://malbec1.bioconductor.org/BBS/3.6/bioc/src/contrib/interactiveDisplayBase_1.16.0.tar.gz && C:\Users\biocbuild\bbs-3.6-bioc\R\bin\R.exe CMD INSTALL --build --library=interactiveDisplayBase.buildbin-libdir --merge-multiarch interactiveDisplayBase_1.16.0.tar.gz && C:\Users\biocbuild\bbs-3.6-bioc\R\bin\R.exe CMD INSTALL interactiveDisplayBase_1.16.0.zip && rm interactiveDisplayBase_1.16.0.tar.gz interactiveDisplayBase_1.16.0.zip
###
##############################################################################
##############################################################################
% Total % Received % Xferd Average Speed Time Time Time Current
Dload Upload Total Spent Left Speed
0 0 0 0 0 0 0 0 --:--:-- --:--:-- --:--:-- 0
100 7599 100 7599 0 0 312k 0 --:--:-- --:--:-- --:--:-- 371k
install for i386
* installing *source* package 'interactiveDisplayBase' ...
** R
** inst
** preparing package for lazy loading
** help
*** installing help indices
converting help for package 'interactiveDisplayBase'
finding HTML links ... done
dot_runApp html
interactiveDisplayBase-methods html
** building package indices
** installing vignettes
** testing if installed package can be loaded
In R CMD INSTALL
install for x64
* installing *source* package 'interactiveDisplayBase' ...
** testing if installed package can be loaded
* MD5 sums
packaged installation of 'interactiveDisplayBase' as interactiveDisplayBase_1.16.0.zip
* DONE (interactiveDisplayBase)
In R CMD INSTALL
In R CMD INSTALL
* installing to library 'C:/Users/biocbuild/bbs-3.6-bioc/R/library'
package 'interactiveDisplayBase' successfully unpacked and MD5 sums checked
In R CMD INSTALL