| Back to Multiple platform build/check report for BioC 3.6 |
|
This page was generated on 2018-04-12 13:21:09 -0400 (Thu, 12 Apr 2018).
| Package 615/1472 | Hostname | OS / Arch | INSTALL | BUILD | CHECK | BUILD BIN | ||||||
| graphite 1.24.1 Gabriele Sales
| malbec1 | Linux (Ubuntu 16.04.1 LTS) / x86_64 | OK | OK | OK | |||||||
| tokay1 | Windows Server 2012 R2 Standard / x64 | [ OK ] | OK | OK | OK | |||||||
| veracruz1 | OS X 10.11.6 El Capitan / x86_64 | OK | OK | OK | OK |
| Package: graphite |
| Version: 1.24.1 |
| Command: rm -rf graphite.buildbin-libdir && mkdir graphite.buildbin-libdir && C:\cygwin\bin\curl.exe -O https://malbec1.bioconductor.org/BBS/3.6/bioc/src/contrib/graphite_1.24.1.tar.gz && C:\Users\biocbuild\bbs-3.6-bioc\R\bin\R.exe CMD INSTALL --build --library=graphite.buildbin-libdir --merge-multiarch graphite_1.24.1.tar.gz && C:\Users\biocbuild\bbs-3.6-bioc\R\bin\R.exe CMD INSTALL graphite_1.24.1.zip && rm graphite_1.24.1.tar.gz graphite_1.24.1.zip |
| StartedAt: 2018-04-11 18:28:45 -0400 (Wed, 11 Apr 2018) |
| EndedAt: 2018-04-11 18:30:18 -0400 (Wed, 11 Apr 2018) |
| EllapsedTime: 93.2 seconds |
| RetCode: 0 |
| Status: OK |
##############################################################################
##############################################################################
###
### Running command:
###
### rm -rf graphite.buildbin-libdir && mkdir graphite.buildbin-libdir && C:\cygwin\bin\curl.exe -O https://malbec1.bioconductor.org/BBS/3.6/bioc/src/contrib/graphite_1.24.1.tar.gz && C:\Users\biocbuild\bbs-3.6-bioc\R\bin\R.exe CMD INSTALL --build --library=graphite.buildbin-libdir --merge-multiarch graphite_1.24.1.tar.gz && C:\Users\biocbuild\bbs-3.6-bioc\R\bin\R.exe CMD INSTALL graphite_1.24.1.zip && rm graphite_1.24.1.tar.gz graphite_1.24.1.zip
###
##############################################################################
##############################################################################
% Total % Received % Xferd Average Speed Time Time Time Current
Dload Upload Total Spent Left Speed
0 0 0 0 0 0 0 0 --:--:-- --:--:-- --:--:-- 0
100 2769k 100 2769k 0 0 56.5M 0 --:--:-- --:--:-- --:--:-- 60.0M
install for i386
* installing *source* package 'graphite' ...
** R
** data
*** moving datasets to lazyload DB
** inst
** preparing package for lazy loading
** help
*** installing help indices
converting help for package 'graphite'
finding HTML links ... done
DeprecatedPathwayList-class html
Pathway-class html
PathwayList-class html
Pathways-class html
as.list.DeprecatedPathwayList html
as.list.PathwayList html
biocarta html
buildPathway html
convertIdentifiers html
cytoscapePlot html
humancyc html
kegg html
nci html
panther html
pathwayDatabases html
pathwayGraph html
pathways html
pharmgkb html
prepareSPIA html
reactome html
runClipper html
runSPIA html
runTopologyGSA html
smpdb html
** building package indices
** installing vignettes
** testing if installed package can be loaded
In R CMD INSTALL
install for x64
* installing *source* package 'graphite' ...
** testing if installed package can be loaded
* MD5 sums
packaged installation of 'graphite' as graphite_1.24.1.zip
* DONE (graphite)
In R CMD INSTALL
In R CMD INSTALL
* installing to library 'C:/Users/biocbuild/bbs-3.6-bioc/R/library'
package 'graphite' successfully unpacked and MD5 sums checked
In R CMD INSTALL