| Back to Multiple platform build/check report for BioC 3.6 | 
 | 
This page was generated on 2018-04-12 13:20:10 -0400 (Thu, 12 Apr 2018).
| Package 601/1472 | Hostname | OS / Arch | INSTALL | BUILD | CHECK | BUILD BIN | ||||||
| goseq 1.30.0 Nadia Davidson 
 | malbec1 | Linux (Ubuntu 16.04.1 LTS) / x86_64 | OK | OK | OK |  | ||||||
| tokay1 | Windows Server 2012 R2 Standard / x64 | [ OK ] | OK | OK | OK |  | ||||||
| veracruz1 | OS X 10.11.6 El Capitan / x86_64 | OK | OK | OK | OK |  | 
| Package: goseq | 
| Version: 1.30.0 | 
| Command: rm -rf goseq.buildbin-libdir && mkdir goseq.buildbin-libdir && C:\cygwin\bin\curl.exe -O https://malbec1.bioconductor.org/BBS/3.6/bioc/src/contrib/goseq_1.30.0.tar.gz && C:\Users\biocbuild\bbs-3.6-bioc\R\bin\R.exe CMD INSTALL --build --library=goseq.buildbin-libdir --merge-multiarch goseq_1.30.0.tar.gz && C:\Users\biocbuild\bbs-3.6-bioc\R\bin\R.exe CMD INSTALL goseq_1.30.0.zip && rm goseq_1.30.0.tar.gz goseq_1.30.0.zip | 
| StartedAt: 2018-04-11 18:49:16 -0400 (Wed, 11 Apr 2018) | 
| EndedAt: 2018-04-11 18:50:08 -0400 (Wed, 11 Apr 2018) | 
| EllapsedTime: 52.2 seconds | 
| RetCode: 0 | 
| Status: OK | 
##############################################################################
##############################################################################
###
### Running command:
###
###   rm -rf goseq.buildbin-libdir && mkdir goseq.buildbin-libdir  && C:\cygwin\bin\curl.exe -O https://malbec1.bioconductor.org/BBS/3.6/bioc/src/contrib/goseq_1.30.0.tar.gz && C:\Users\biocbuild\bbs-3.6-bioc\R\bin\R.exe CMD INSTALL --build --library=goseq.buildbin-libdir --merge-multiarch goseq_1.30.0.tar.gz && C:\Users\biocbuild\bbs-3.6-bioc\R\bin\R.exe CMD INSTALL goseq_1.30.0.zip  && rm goseq_1.30.0.tar.gz goseq_1.30.0.zip
###
##############################################################################
##############################################################################
  % Total    % Received % Xferd  Average Speed   Time    Time     Time  Current
                                 Dload  Upload   Total   Spent    Left  Speed
  0     0    0     0    0     0      0      0 --:--:-- --:--:-- --:--:--     0
100  465k  100  465k    0     0  11.5M      0 --:--:-- --:--:-- --:--:-- 12.6M
install for i386
* installing *source* package 'goseq' ...
** R
** data
** inst
** preparing package for lazy loading
** help
*** installing help indices
  converting help for package 'goseq'
    finding HTML links ... done
    genes                                   html  
    getgo                                   html  
    finding level-2 HTML links ... done
    getlength                               html  
    goseq                                   html  
    makespline                              html  
    nullp                                   html  
    plotPWF                                 html  
    supportedOrganisms                      html  
** building package indices
** installing vignettes
** testing if installed package can be loaded
In R CMD INSTALL
install for x64
* installing *source* package 'goseq' ...
** testing if installed package can be loaded
* MD5 sums
packaged installation of 'goseq' as goseq_1.30.0.zip
* DONE (goseq)
In R CMD INSTALL
In R CMD INSTALL
* installing to library 'C:/Users/biocbuild/bbs-3.6-bioc/R/library'
package 'goseq' successfully unpacked and MD5 sums checked
In R CMD INSTALL