| Back to Multiple platform build/check report for BioC 3.6 |
|
This page was generated on 2018-04-12 13:36:01 -0400 (Thu, 12 Apr 2018).
| Package 521/1472 | Hostname | OS / Arch | INSTALL | BUILD | CHECK | BUILD BIN | ||||||
| gCMAP 1.22.1 Thomas Sandmann
| malbec1 | Linux (Ubuntu 16.04.1 LTS) / x86_64 | OK | OK | OK | |||||||
| tokay1 | Windows Server 2012 R2 Standard / x64 | ...NOT SUPPORTED...NOT SUPPORTED...NOT SUPPORTED... | ||||||||||
| veracruz1 | OS X 10.11.6 El Capitan / x86_64 | OK | OK | OK | [ OK ] | |||||||
| Package: gCMAP |
| Version: 1.22.1 |
| Command: rm -rf gCMAP.buildbin-libdir && mkdir gCMAP.buildbin-libdir && /Users/biocbuild/BBS/utils/build-universal.sh gCMAP_1.22.1.tar.gz /Library/Frameworks/R.framework/Versions/Current/Resources/bin/R gCMAP.buildbin-libdir |
| StartedAt: 2018-04-12 11:30:59 -0400 (Thu, 12 Apr 2018) |
| EndedAt: 2018-04-12 11:31:22 -0400 (Thu, 12 Apr 2018) |
| EllapsedTime: 23.3 seconds |
| RetCode: 0 |
| Status: OK |
| PackageFile: gCMAP_1.22.1.tgz |
| PackageFileSize: 1.186 MiB |
############################################################################## ############################################################################## ### ### Running command: ### ### rm -rf gCMAP.buildbin-libdir && mkdir gCMAP.buildbin-libdir && /Users/biocbuild/BBS/utils/build-universal.sh gCMAP_1.22.1.tar.gz /Library/Frameworks/R.framework/Versions/Current/Resources/bin/R gCMAP.buildbin-libdir ### ############################################################################## ############################################################################## >>>>>>> >>>>>>> INSTALLATION WITH 'R CMD INSTALL --preclean --no-multiarch --library=gCMAP.buildbin-libdir gCMAP_1.22.1.tar.gz' >>>>>>> * installing *source* package ‘gCMAP’ ... ** R ** data ** inst ** byte-compile and prepare package for lazy loading ** help *** installing help indices ** building package indices ** installing vignettes ** testing if installed package can be loaded * DONE (gCMAP)