| Back to Multiple platform build/check report for BioC 3.6 |
|
This page was generated on 2018-04-12 13:19:44 -0400 (Thu, 12 Apr 2018).
| Package 485/1472 | Hostname | OS / Arch | INSTALL | BUILD | CHECK | BUILD BIN | ||||||
| flowMerge 2.26.0 Greg Finak
| malbec1 | Linux (Ubuntu 16.04.1 LTS) / x86_64 | OK | OK | OK | |||||||
| tokay1 | Windows Server 2012 R2 Standard / x64 | [ OK ] | OK | OK | OK | |||||||
| veracruz1 | OS X 10.11.6 El Capitan / x86_64 | OK | OK | WARNINGS | OK |
| Package: flowMerge |
| Version: 2.26.0 |
| Command: rm -rf flowMerge.buildbin-libdir && mkdir flowMerge.buildbin-libdir && C:\cygwin\bin\curl.exe -O https://malbec1.bioconductor.org/BBS/3.6/bioc/src/contrib/flowMerge_2.26.0.tar.gz && C:\Users\biocbuild\bbs-3.6-bioc\R\bin\R.exe CMD INSTALL --build --library=flowMerge.buildbin-libdir --merge-multiarch flowMerge_2.26.0.tar.gz && C:\Users\biocbuild\bbs-3.6-bioc\R\bin\R.exe CMD INSTALL flowMerge_2.26.0.zip && rm flowMerge_2.26.0.tar.gz flowMerge_2.26.0.zip |
| StartedAt: 2018-04-11 18:41:25 -0400 (Wed, 11 Apr 2018) |
| EndedAt: 2018-04-11 18:42:14 -0400 (Wed, 11 Apr 2018) |
| EllapsedTime: 48.4 seconds |
| RetCode: 0 |
| Status: OK |
##############################################################################
##############################################################################
###
### Running command:
###
### rm -rf flowMerge.buildbin-libdir && mkdir flowMerge.buildbin-libdir && C:\cygwin\bin\curl.exe -O https://malbec1.bioconductor.org/BBS/3.6/bioc/src/contrib/flowMerge_2.26.0.tar.gz && C:\Users\biocbuild\bbs-3.6-bioc\R\bin\R.exe CMD INSTALL --build --library=flowMerge.buildbin-libdir --merge-multiarch flowMerge_2.26.0.tar.gz && C:\Users\biocbuild\bbs-3.6-bioc\R\bin\R.exe CMD INSTALL flowMerge_2.26.0.zip && rm flowMerge_2.26.0.tar.gz flowMerge_2.26.0.zip
###
##############################################################################
##############################################################################
% Total % Received % Xferd Average Speed Time Time Time Current
Dload Upload Total Spent Left Speed
0 0 0 0 0 0 0 0 --:--:-- --:--:-- --:--:-- 0
100 398k 100 398k 0 0 6541k 0 --:--:-- --:--:-- --:--:-- 6997k
install for i386
* installing *source* package 'flowMerge' ...
** R
** data
** preparing package for lazy loading
** help
*** installing help indices
converting help for package 'flowMerge'
finding HTML links ... done
NENT html
checkForRemoteErrors html
fitPiecewiseLinreg-methods html
fitPiecewiseLinreg html
flagOutliers-methods html
flagOutliers html
flowClust.res html
flowMerge-class html
finding level-2 HTML links ... done
flowMerge-internal html
flowMerge-package html
flowObj-class html
flowObj html
initPFlowMerge html
map html
merge-methods html
merge html
mergeClusters html
mergeClusters2 html
pFlowClust html
pFlowMerge html
plot-methods html
ptree html
show-methods html
split-methods html
summary-methods html
updateU html
** building package indices
** installing vignettes
** testing if installed package can be loaded
In R CMD INSTALL
install for x64
* installing *source* package 'flowMerge' ...
** testing if installed package can be loaded
* MD5 sums
packaged installation of 'flowMerge' as flowMerge_2.26.0.zip
* DONE (flowMerge)
In R CMD INSTALL
In R CMD INSTALL
* installing to library 'C:/Users/biocbuild/bbs-3.6-bioc/R/library'
package 'flowMerge' successfully unpacked and MD5 sums checked
In R CMD INSTALL