| Back to Multiple platform build/check report for BioC 3.6 | 
 | 
This page was generated on 2018-04-12 13:21:33 -0400 (Thu, 12 Apr 2018).
| Package 343/1472 | Hostname | OS / Arch | INSTALL | BUILD | CHECK | BUILD BIN | ||||||
| deepSNV 1.24.0 Moritz Gerstung 
 | malbec1 | Linux (Ubuntu 16.04.1 LTS) / x86_64 | OK | OK | OK |  | ||||||
| tokay1 | Windows Server 2012 R2 Standard / x64 | OK | [ OK ] | OK | OK |  | ||||||
| veracruz1 | OS X 10.11.6 El Capitan / x86_64 | OK | OK | OK | OK |  | 
| Package: deepSNV | 
| Version: 1.24.0 | 
| Command: chmod a+r deepSNV -R && C:\Users\biocbuild\bbs-3.6-bioc\R\bin\R.exe CMD build --keep-empty-dirs --no-resave-data deepSNV | 
| StartedAt: 2018-04-11 19:45:32 -0400 (Wed, 11 Apr 2018) | 
| EndedAt: 2018-04-11 19:46:59 -0400 (Wed, 11 Apr 2018) | 
| EllapsedTime: 87.1 seconds | 
| RetCode: 0 | 
| Status: OK | 
| PackageFile: deepSNV_1.24.0.tar.gz | 
| PackageFileSize: 2.07 MiB | 
##############################################################################
##############################################################################
###
### Running command:
###
###   chmod a+r deepSNV -R && C:\Users\biocbuild\bbs-3.6-bioc\R\bin\R.exe CMD build --keep-empty-dirs --no-resave-data deepSNV
###
##############################################################################
##############################################################################
* checking for file 'deepSNV/DESCRIPTION' ... OK
* preparing 'deepSNV':
* checking DESCRIPTION meta-information ... OK
* cleaning src
* installing the package to build vignettes
* creating vignettes ... OK
Warning: 'inst/doc' file
    'shearwaterML.R'
  ignored as vignettes have been rebuilt.
  Run R CMD build with --no-build-vignettes to prevent rebuilding.
* cleaning src
* checking for LF line-endings in source and make files and shell scripts
* checking for empty or unneeded directories
* looking to see if a 'data/datalist' file should be added
* building 'deepSNV_1.24.0.tar.gz'
Warning: file 'deepSNV/configure' did not have execute permissions: corrected