| Back to Multiple platform build/check report for BioC 3.6 |
|
This page was generated on 2018-04-12 13:41:54 -0400 (Thu, 12 Apr 2018).
| Package 287/1472 | Hostname | OS / Arch | INSTALL | BUILD | CHECK | BUILD BIN | ||||||
| consensusSeekeR 1.6.0 Astrid Deschenes
| malbec1 | Linux (Ubuntu 16.04.1 LTS) / x86_64 | OK | OK | OK | |||||||
| tokay1 | Windows Server 2012 R2 Standard / x64 | OK | OK | OK | OK | |||||||
| veracruz1 | OS X 10.11.6 El Capitan / x86_64 | OK | OK | OK | [ OK ] |
| Package: consensusSeekeR |
| Version: 1.6.0 |
| Command: rm -rf consensusSeekeR.buildbin-libdir && mkdir consensusSeekeR.buildbin-libdir && /Users/biocbuild/BBS/utils/build-universal.sh consensusSeekeR_1.6.0.tar.gz /Library/Frameworks/R.framework/Versions/Current/Resources/bin/R consensusSeekeR.buildbin-libdir |
| StartedAt: 2018-04-12 11:18:11 -0400 (Thu, 12 Apr 2018) |
| EndedAt: 2018-04-12 11:18:27 -0400 (Thu, 12 Apr 2018) |
| EllapsedTime: 16.2 seconds |
| RetCode: 0 |
| Status: OK |
| PackageFile: consensusSeekeR_1.6.0.tgz |
| PackageFileSize: 601.4 KiB |
############################################################################## ############################################################################## ### ### Running command: ### ### rm -rf consensusSeekeR.buildbin-libdir && mkdir consensusSeekeR.buildbin-libdir && /Users/biocbuild/BBS/utils/build-universal.sh consensusSeekeR_1.6.0.tar.gz /Library/Frameworks/R.framework/Versions/Current/Resources/bin/R consensusSeekeR.buildbin-libdir ### ############################################################################## ############################################################################## >>>>>>> >>>>>>> INSTALLATION WITH 'R CMD INSTALL --preclean --no-multiarch --library=consensusSeekeR.buildbin-libdir consensusSeekeR_1.6.0.tar.gz' >>>>>>> * installing *source* package ‘consensusSeekeR’ ... ** R ** data ** inst ** preparing package for lazy loading ** help *** installing help indices ** building package indices ** installing vignettes ** testing if installed package can be loaded * DONE (consensusSeekeR)